BEGIN:VCALENDAR
VERSION:1.0
BEGIN:VEVENT
DTSTART:20190402T174500
DTEND:20190402T184500
SUMMARY:Coach Thompson vs. Coach Lancaster
DESCRIPTION:2009-2010 -  --- Ref (2): Christopher Robinson
LOCATION:SOA (Point Mallard) -  #14
CATEGORIES:QuickScores; Soccer - Youth Game
TRANSP:0
DALARM:20190402T154500;PT10M;2;Coach Thompson vs. Coach Lancaster
END:VEVENT
BEGIN:VEVENT
DTSTART:20190402T174500
DTEND:20190402T184500
SUMMARY:Coach Beever vs. Coach Ramirez
DESCRIPTION:2009-2010 -  --- Ref (3): Kalisa barnett
LOCATION:SOA (Point Mallard) - #13
CATEGORIES:QuickScores; Soccer - Youth Game
TRANSP:0
DALARM:20190402T154500;PT10M;2;Coach Beever vs. Coach Ramirez
END:VEVENT
BEGIN:VEVENT
DTSTART:20190402T184500
DTEND:20190402T194500
SUMMARY:Coach Howard vs. Coach Foley
DESCRIPTION:2009-2010 -  --- Ref (2): Christopher Robinson
LOCATION:SOA (Point Mallard) -  #14
CATEGORIES:QuickScores; Soccer - Youth Game
TRANSP:0
DALARM:20190402T164500;PT10M;2;Coach Howard vs. Coach Foley
END:VEVENT
BEGIN:VEVENT
DTSTART:20190404T184500
DTEND:20190404T194500
SUMMARY:Coach Salazar vs. Coach Howell
DESCRIPTION:2009-2010 -  --- Ref (2): Christopher Robinson
LOCATION:SOA (Point Mallard) - #13
CATEGORIES:QuickScores; Soccer - Youth Game
TRANSP:0
DALARM:20190404T164500;PT10M;2;Coach Salazar vs. Coach Howell
END:VEVENT
BEGIN:VEVENT
DTSTART:20190409T174500
DTEND:20190409T184500
SUMMARY:Coach Beever vs. Coach Howell
DESCRIPTION:2009-2010 - 
LOCATION:SOA (Point Mallard) - #13
CATEGORIES:QuickScores; Soccer - Youth Game
TRANSP:0
DALARM:20190409T154500;PT10M;2;Coach Beever vs. Coach Howell
END:VEVENT
BEGIN:VEVENT
DTSTART:20190409T174500
DTEND:20190409T184500
SUMMARY:Coach Foley vs. Coach Ramirez
DESCRIPTION:2009-2010 -  --- Ref (2): Christopher Robinson
LOCATION:SOA (Point Mallard) -  #14
CATEGORIES:QuickScores; Soccer - Youth Game
TRANSP:0
DALARM:20190409T154500;PT10M;2;Coach Foley vs. Coach Ramirez
END:VEVENT
BEGIN:VEVENT
DTSTART:20190409T184500
DTEND:20190409T194500
SUMMARY:Coach Thompson vs. Coach Salazar
DESCRIPTION:2009-2010 -  --- Ref (2): Christopher Robinson
LOCATION:SOA (Point Mallard) -  #14
CATEGORIES:QuickScores; Soccer - Youth Game
TRANSP:0
DALARM:20190409T164500;PT10M;2;Coach Thompson vs. Coach Salazar
END:VEVENT
BEGIN:VEVENT
DTSTART:20190409T184500
DTEND:20190409T194500
SUMMARY:Coach Lancaster vs. Coach Howard
DESCRIPTION:2009-2010 - 
LOCATION:SOA (Point Mallard) - #13
CATEGORIES:QuickScores; Soccer - Youth Game
TRANSP:0
DALARM:20190409T164500;PT10M;2;Coach Lancaster vs. Coach Howard
END:VEVENT
BEGIN:VEVENT
DTSTART:20190416T174500
DTEND:20190416T184500
SUMMARY:Coach Beever vs. Coach Howard
DESCRIPTION:2009-2010 -  --- Ref (2): Christopher Robinson
LOCATION:SOA (Point Mallard) -  #14
CATEGORIES:QuickScores; Soccer - Youth Game
TRANSP:0
DALARM:20190416T154500;PT10M;2;Coach Beever vs. Coach Howard
END:VEVENT
BEGIN:VEVENT
DTSTART:20190416T174500
DTEND:20190416T184500
SUMMARY:Coach Salazar vs. Coach Lancaster
DESCRIPTION:2009-2010 -  --- Ref (3): Kalisa barnett
LOCATION:SOA (Point Mallard) - #13
CATEGORIES:QuickScores; Soccer - Youth Game
TRANSP:0
DALARM:20190416T154500;PT10M;2;Coach Salazar vs. Coach Lancaster
END:VEVENT
BEGIN:VEVENT
DTSTART:20190416T184500
DTEND:20190416T194500
SUMMARY:Coach Howell vs. Coach Ramirez
DESCRIPTION:2009-2010 -  --- Ref (3): Kalisa barnett
LOCATION:SOA (Point Mallard) - #13
CATEGORIES:QuickScores; Soccer - Youth Game
TRANSP:0
DALARM:20190416T164500;PT10M;2;Coach Howell vs. Coach Ramirez
END:VEVENT
BEGIN:VEVENT
DTSTART:20190416T184500
DTEND:20190416T194500
SUMMARY:Coach Thompson vs. Coach Foley
DESCRIPTION:2009-2010 -  --- Ref (2): Christopher Robinson
LOCATION:SOA (Point Mallard) -  #14
CATEGORIES:QuickScores; Soccer - Youth Game
TRANSP:0
DALARM:20190416T164500;PT10M;2;Coach Thompson vs. Coach Foley
END:VEVENT
BEGIN:VEVENT
DTSTART:20190423T174500
DTEND:20190423T184500
SUMMARY:Coach Beever vs. Coach Salazar
DESCRIPTION:2009-2010 - 
LOCATION:SOA (Point Mallard) -  #14
CATEGORIES:QuickScores; Soccer - Youth Game
TRANSP:0
DALARM:20190423T154500;PT10M;2;Coach Beever vs. Coach Salazar
END:VEVENT
BEGIN:VEVENT
DTSTART:20190423T174500
DTEND:20190423T184500
SUMMARY:Coach Howell vs. Coach Foley
DESCRIPTION:2009-2010 -  --- Ref (2): Christopher Robinson
LOCATION:SOA (Point Mallard) - #13
CATEGORIES:QuickScores; Soccer - Youth Game
TRANSP:0
DALARM:20190423T154500;PT10M;2;Coach Howell vs. Coach Foley
END:VEVENT
BEGIN:VEVENT
DTSTART:20190423T184500
DTEND:20190423T194500
SUMMARY:Coach Howard vs. Coach Thompson
DESCRIPTION:2009-2010 -  --- Ref (2): Christopher Robinson
LOCATION:SOA (Point Mallard) - #13
CATEGORIES:QuickScores; Soccer - Youth Game
TRANSP:0
DALARM:20190423T164500;PT10M;2;Coach Howard vs. Coach Thompson
END:VEVENT
BEGIN:VEVENT
DTSTART:20190423T184500
DTEND:20190423T194500
SUMMARY:Coach Ramirez vs. Coach Lancaster
DESCRIPTION:2009-2010 - 
LOCATION:SOA (Point Mallard) -  #14
CATEGORIES:QuickScores; Soccer - Youth Game
TRANSP:0
DALARM:20190423T164500;PT10M;2;Coach Ramirez vs. Coach Lancaster
END:VEVENT
BEGIN:VEVENT
DTSTART:20190425T184500
DTEND:20190425T194500
SUMMARY:Coach Salazar vs. Coach Ramirez
DESCRIPTION:2009-2010 -  --- Ref (2): Christopher Robinson
LOCATION:SOA (Point Mallard) - #13
CATEGORIES:QuickScores; Soccer - Youth Game
TRANSP:0
DALARM:20190425T164500;PT10M;2;Coach Salazar vs. Coach Ramirez
END:VEVENT
BEGIN:VEVENT
DTSTART:20190427T090000
DTEND:20190427T100000
SUMMARY:Coach Howard vs. Coach Howell
DESCRIPTION:2009-2010 -  --- Ref (3): Kalisa barnett
LOCATION:JARC - U21
CATEGORIES:QuickScores; Soccer - Youth Game
TRANSP:0
DALARM:20190427T070000;PT10M;2;Coach Howard vs. Coach Howell
END:VEVENT
BEGIN:VEVENT
DTSTART:20190427T100000
DTEND:20190427T110000
SUMMARY:Coach Foley vs. Coach Lancaster
DESCRIPTION:2009-2010 -  --- Ref (3): Kalisa barnett
LOCATION:JARC - U21
CATEGORIES:QuickScores; Soccer - Youth Game
TRANSP:0
DALARM:20190427T080000;PT10M;2;Coach Foley vs. Coach Lancaster
END:VEVENT
BEGIN:VEVENT
DTSTART:20190430T174500
DTEND:20190430T184500
SUMMARY:Coach Ramirez vs. Coach Thompson
DESCRIPTION:2009-2010 -  --- Ref (2): Christopher Robinson
LOCATION:JARC - U20
CATEGORIES:QuickScores; Soccer - Youth Game
TRANSP:0
DALARM:20190430T154500;PT10M;2;Coach Ramirez vs. Coach Thompson
END:VEVENT
BEGIN:VEVENT
DTSTART:20190430T174500
DTEND:20190430T184500
SUMMARY:Coach Lancaster vs. Coach Howell
DESCRIPTION:2009-2010 -  --- Ref (3): Kalisa barnett
LOCATION:JARC - U21
CATEGORIES:QuickScores; Soccer - Youth Game
TRANSP:0
DALARM:20190430T154500;PT10M;2;Coach Lancaster vs. Coach Howell
END:VEVENT
BEGIN:VEVENT
DTSTART:20190430T184500
DTEND:20190430T194500
SUMMARY:Coach Howard vs. Coach Salazar
DESCRIPTION:2009-2010 -  --- Ref (3): Kalisa barnett
LOCATION:JARC - U21
CATEGORIES:QuickScores; Soccer - Youth Game
TRANSP:0
DALARM:20190430T164500;PT10M;2;Coach Howard vs. Coach Salazar
END:VEVENT
BEGIN:VEVENT
DTSTART:20190430T184500
DTEND:20190430T194500
SUMMARY:Coach Foley vs. Coach Beever
DESCRIPTION:2009-2010 -  --- Ref (2): Christopher Robinson
LOCATION:JARC - U20
CATEGORIES:QuickScores; Soccer - Youth Game
TRANSP:0
DALARM:20190430T164500;PT10M;2;Coach Foley vs. Coach Beever
END:VEVENT
BEGIN:VEVENT
DTSTART:20190507T174500
DTEND:20190507T184500
SUMMARY:Coach Howell vs. Coach Thompson
DESCRIPTION:2009-2010 -  --- Ref (2): Christopher Robinson
LOCATION:JARC - U21
CATEGORIES:QuickScores; Soccer - Youth Game
TRANSP:0
DALARM:20190507T154500;PT10M;2;Coach Howell vs. Coach Thompson
END:VEVENT
BEGIN:VEVENT
DTSTART:20190507T174500
DTEND:20190507T184500
SUMMARY:Coach Ramirez vs. Coach Howard
DESCRIPTION:2009-2010 - 
LOCATION:JARC - U20
CATEGORIES:QuickScores; Soccer - Youth Game
TRANSP:0
DALARM:20190507T154500;PT10M;2;Coach Ramirez vs. Coach Howard
END:VEVENT
BEGIN:VEVENT
DTSTART:20190507T184500
DTEND:20190507T194500
SUMMARY:Coach Salazar vs. Coach Foley
DESCRIPTION:2009-2010 -  --- Ref (2): Christopher Robinson
LOCATION:JARC - U21
CATEGORIES:QuickScores; Soccer - Youth Game
TRANSP:0
DALARM:20190507T164500;PT10M;2;Coach Salazar vs. Coach Foley
END:VEVENT
BEGIN:VEVENT
DTSTART:20190507T184500
DTEND:20190507T194500
SUMMARY:Coach Lancaster vs. Coach Beever
DESCRIPTION:2009-2010 - 
LOCATION:JARC - U20
CATEGORIES:QuickScores; Soccer - Youth Game
TRANSP:0
DALARM:20190507T164500;PT10M;2;Coach Lancaster vs. Coach Beever
END:VEVENT
BEGIN:VEVENT
DTSTART:20190514T174500
DTEND:20190514T184500
SUMMARY:Coach Howell vs. Coach Salazar
DESCRIPTION:2009-2010 -  --- Ref (2): Christopher Robinson
LOCATION:JARC - U20
CATEGORIES:QuickScores; Soccer - Youth Game
TRANSP:0
DALARM:20190514T154500;PT10M;2;Coach Howell vs. Coach Salazar
END:VEVENT
BEGIN:VEVENT
DTSTART:20190514T174500
DTEND:20190514T184500
SUMMARY:Coach Foley vs. Coach Howard
DESCRIPTION:2009-2010 -  --- Ref (3): Tait Stewart
LOCATION:JARC - U21
CATEGORIES:QuickScores; Soccer - Youth Game
TRANSP:0
DALARM:20190514T154500;PT10M;2;Coach Foley vs. Coach Howard
END:VEVENT
BEGIN:VEVENT
DTSTART:20190514T184500
DTEND:20190514T194500
SUMMARY:Coach Lancaster vs. Coach Thompson
DESCRIPTION:2009-2010 -  --- Ref (3): Tait Stewart
LOCATION:JARC - U21
CATEGORIES:QuickScores; Soccer - Youth Game
TRANSP:0
DALARM:20190514T164500;PT10M;2;Coach Lancaster vs. Coach Thompson
END:VEVENT
BEGIN:VEVENT
DTSTART:20190514T184500
DTEND:20190514T194500
SUMMARY:Coach Ramirez vs. Coach Beever
DESCRIPTION:2009-2010 -  --- Ref (2): Christopher Robinson
LOCATION:JARC - U20
CATEGORIES:QuickScores; Soccer - Youth Game
TRANSP:0
DALARM:20190514T164500;PT10M;2;Coach Ramirez vs. Coach Beever
END:VEVENT
BEGIN:VEVENT
DTSTART:20190516T184500
DTEND:20190516T194500
SUMMARY:Coach Thompson vs. Coach Beever
DESCRIPTION:2009-2010 -  --- Ref (2): Christopher Robinson
LOCATION:JARC - U20
CATEGORIES:QuickScores; Soccer - Youth Game
TRANSP:0
DALARM:20190516T164500;PT10M;2;Coach Thompson vs. Coach Beever
END:VEVENT
END:VCALENDAR
