BEGIN:VCALENDAR
VERSION:1.0
BEGIN:VEVENT
DTSTART:20190914T000000
DTEND:20190914T000000
SUMMARY:Albertus Magnus vs. Lasell
DESCRIPTION:2019 Lasell can share a bus with WVB --- 2019 Field Hockey - Great Northeast Athletic Conference
LOCATION:New Haven, CT
CATEGORIES:QuickScores; Field Hockey Game
TRANSP:0
DALARM:20190914T000000;PT10M;2;Albertus Magnus vs. Lasell
END:VEVENT
BEGIN:VEVENT
DTSTART:20190914T000000
DTEND:20190914T000000
SUMMARY:Rivier vs. Colby Sawyer
DESCRIPTION:2019 Field Hockey - Great Northeast Athletic Conference
LOCATION:Nashua, NH
CATEGORIES:QuickScores; Field Hockey Game
TRANSP:0
DALARM:20190914T000000;PT10M;2;Rivier vs. Colby Sawyer
END:VEVENT
BEGIN:VEVENT
DTSTART:20190914T000000
DTEND:20190914T000000
SUMMARY:Simmons vs. Anna Maria
DESCRIPTION:2019 Field Hockey - Great Northeast Athletic Conference
LOCATION:Daly Field Brighton
CATEGORIES:QuickScores; Field Hockey Game
TRANSP:0
DALARM:20190914T000000;PT10M;2;Simmons vs. Anna Maria
END:VEVENT
BEGIN:VEVENT
DTSTART:20190914T000000
DTEND:20190914T000000
SUMMARY:Saint Joseph's ME vs. Regis
DESCRIPTION:2019 Field Hockey - Great Northeast Athletic Conference
LOCATION:Standish ME
CATEGORIES:QuickScores; Field Hockey Game
TRANSP:0
DALARM:20190914T000000;PT10M;2;Saint Joseph's ME vs. Regis
END:VEVENT
BEGIN:VEVENT
DTSTART:20190921T000000
DTEND:20190921T000000
SUMMARY:Anna Maria vs. Johnson and Wales
DESCRIPTION:2019 Field Hockey - Great Northeast Athletic Conference
LOCATION:Paxton MA
CATEGORIES:QuickScores; Field Hockey Game
TRANSP:0
DALARM:20190921T000000;PT10M;2;Anna Maria vs. Johnson and Wales
END:VEVENT
BEGIN:VEVENT
DTSTART:20190921T000000
DTEND:20190921T000000
SUMMARY:Rivier vs. Simmons
DESCRIPTION:2019 Field Hockey - Great Northeast Athletic Conference
LOCATION:Nashua, NH
CATEGORIES:QuickScores; Field Hockey Game
TRANSP:0
DALARM:20190921T000000;PT10M;2;Rivier vs. Simmons
END:VEVENT
BEGIN:VEVENT
DTSTART:20190921T000000
DTEND:20190921T000000
SUMMARY:Colby Sawyer vs. Lasell
DESCRIPTION:2019 Field Hockey - Great Northeast Athletic Conference
LOCATION:New London NH
CATEGORIES:QuickScores; Field Hockey Game
TRANSP:0
DALARM:20190921T000000;PT10M;2;Colby Sawyer vs. Lasell
END:VEVENT
BEGIN:VEVENT
DTSTART:20190921T000000
DTEND:20190921T000000
SUMMARY:Saint Joseph's ME vs. Albertus Magnus
DESCRIPTION:2019 ALB can share a bus with MSOC --- 2019 Field Hockey - Great Northeast Athletic Conference
LOCATION:Standish ME
CATEGORIES:QuickScores; Field Hockey Game
TRANSP:0
DALARM:20190921T000000;PT10M;2;Saint Joseph's ME vs. Albertus Magnus
END:VEVENT
BEGIN:VEVENT
DTSTART:20190928T000000
DTEND:20190928T000000
SUMMARY:Regis vs. Simmons
DESCRIPTION:2019 Regis Homecoming and Parents Weekend --- 2019 Field Hockey - Great Northeast Athletic Conference
LOCATION:Regis Weston MA
CATEGORIES:QuickScores; Field Hockey Game
TRANSP:0
DALARM:20190928T000000;PT10M;2;Regis vs. Simmons
END:VEVENT
BEGIN:VEVENT
DTSTART:20190928T000000
DTEND:20190928T000000
SUMMARY:Johnson and Wales vs. Colby Sawyer
DESCRIPTION:2019 Field Hockey - Great Northeast Athletic Conference
LOCATION:Scotts Miracle Gro Athletic Complex
CATEGORIES:QuickScores; Field Hockey Game
TRANSP:0
DALARM:20190928T000000;PT10M;2;Johnson and Wales vs. Colby Sawyer
END:VEVENT
BEGIN:VEVENT
DTSTART:20190928T000000
DTEND:20190928T000000
SUMMARY:Lasell vs. Anna Maria
DESCRIPTION:2019 DH AMC can share a bus w WS --- 2019 Field Hockey - Great Northeast Athletic Conference
LOCATION:Lasell Newton
CATEGORIES:QuickScores; Field Hockey Game
TRANSP:0
DALARM:20190928T000000;PT10M;2;Lasell vs. Anna Maria
END:VEVENT
BEGIN:VEVENT
DTSTART:20190928T000000
DTEND:20190928T000000
SUMMARY:Rivier vs. Albertus Magnus
DESCRIPTION:2019 ALB can share a bus with WSOC --- 2019 Field Hockey - Great Northeast Athletic Conference
LOCATION:Nashua, NH
CATEGORIES:QuickScores; Field Hockey Game
TRANSP:0
DALARM:20190928T000000;PT10M;2;Rivier vs. Albertus Magnus
END:VEVENT
BEGIN:VEVENT
DTSTART:20191005T000000
DTEND:20191005T000000
SUMMARY:Anna Maria vs. Regis
DESCRIPTION:2019 Regis can share a bus with Men's Soccer --- 2019 Field Hockey - Great Northeast Athletic Conference
LOCATION:Paxton MA
CATEGORIES:QuickScores; Field Hockey Game
TRANSP:0
DALARM:20191005T000000;PT10M;2;Anna Maria vs. Regis
END:VEVENT
BEGIN:VEVENT
DTSTART:20191005T000000
DTEND:20191005T000000
SUMMARY:Simmons vs. Saint Joseph's ME
DESCRIPTION:2019 Field Hockey - Great Northeast Athletic Conference
LOCATION:Daly Field Brighton
CATEGORIES:QuickScores; Field Hockey Game
TRANSP:0
DALARM:20191005T000000;PT10M;2;Simmons vs. Saint Joseph's ME
END:VEVENT
BEGIN:VEVENT
DTSTART:20191005T000000
DTEND:20191005T000000
SUMMARY:Johnson and Wales vs. Lasell
DESCRIPTION:2019 Field Hockey - Great Northeast Athletic Conference
LOCATION:Scotts Miracle Gro Athletic Complex
CATEGORIES:QuickScores; Field Hockey Game
TRANSP:0
DALARM:20191005T000000;PT10M;2;Johnson and Wales vs. Lasell
END:VEVENT
BEGIN:VEVENT
DTSTART:20191005T000000
DTEND:20191005T000000
SUMMARY:Colby Sawyer vs. Albertus Magnus
DESCRIPTION:2019 ALB can share a bus with WTennis --- 2019 Field Hockey - Great Northeast Athletic Conference
LOCATION:New London NH
CATEGORIES:QuickScores; Field Hockey Game
TRANSP:0
DALARM:20191005T000000;PT10M;2;Colby Sawyer vs. Albertus Magnus
END:VEVENT
BEGIN:VEVENT
DTSTART:20191012T000000
DTEND:20191012T000000
SUMMARY:Saint Joseph's ME vs. Rivier
DESCRIPTION:2019 RIV Can share a bus w WS --- 2019 Field Hockey - Great Northeast Athletic Conference
LOCATION:Standish ME
CATEGORIES:QuickScores; Field Hockey Game
TRANSP:0
DALARM:20191012T000000;PT10M;2;Saint Joseph's ME vs. Rivier
END:VEVENT
BEGIN:VEVENT
DTSTART:20191012T000000
DTEND:20191012T000000
SUMMARY:Simmons vs. Johnson and Wales
DESCRIPTION:2019 Field Hockey - Great Northeast Athletic Conference
LOCATION:Daly Field Brighton
CATEGORIES:QuickScores; Field Hockey Game
TRANSP:0
DALARM:20191012T000000;PT10M;2;Simmons vs. Johnson and Wales
END:VEVENT
BEGIN:VEVENT
DTSTART:20191012T000000
DTEND:20191012T000000
SUMMARY:Lasell vs. Regis
DESCRIPTION:2019 Field Hockey - Great Northeast Athletic Conference
LOCATION:Lasell Newton
CATEGORIES:QuickScores; Field Hockey Game
TRANSP:0
DALARM:20191012T000000;PT10M;2;Lasell vs. Regis
END:VEVENT
BEGIN:VEVENT
DTSTART:20191012T000000
DTEND:20191012T000000
SUMMARY:Albertus Magnus vs. Anna Maria
DESCRIPTION:2019 Field Hockey - Great Northeast Athletic Conference
LOCATION:New Haven, CT
CATEGORIES:QuickScores; Field Hockey Game
TRANSP:0
DALARM:20191012T000000;PT10M;2;Albertus Magnus vs. Anna Maria
END:VEVENT
BEGIN:VEVENT
DTSTART:20191019T000000
DTEND:20191019T000000
SUMMARY:Lasell vs. Saint Joseph's ME
DESCRIPTION:2019 Field Hockey - Great Northeast Athletic Conference
LOCATION:Lasell Newton
CATEGORIES:QuickScores; Field Hockey Game
TRANSP:0
DALARM:20191019T000000;PT10M;2;Lasell vs. Saint Joseph's ME
END:VEVENT
BEGIN:VEVENT
DTSTART:20191019T000000
DTEND:20191019T000000
SUMMARY:Johnson and Wales vs. Rivier
DESCRIPTION:2019 RIV can share a bus with WS --- 2019 Field Hockey - Great Northeast Athletic Conference
LOCATION:Scotts Miracle Gro Athletic Complex
CATEGORIES:QuickScores; Field Hockey Game
TRANSP:0
DALARM:20191019T000000;PT10M;2;Johnson and Wales vs. Rivier
END:VEVENT
BEGIN:VEVENT
DTSTART:20191019T000000
DTEND:20191019T000000
SUMMARY:Albertus Magnus vs. Simmons
DESCRIPTION:2019 Albertus Fall Festival --- 2019 Field Hockey - Great Northeast Athletic Conference
LOCATION:New Haven, CT
CATEGORIES:QuickScores; Field Hockey Game
TRANSP:0
DALARM:20191019T000000;PT10M;2;Albertus Magnus vs. Simmons
END:VEVENT
BEGIN:VEVENT
DTSTART:20191019T000000
DTEND:20191019T000000
SUMMARY:Regis vs. Colby Sawyer
DESCRIPTION:2019 CS can share a bus w WSOC playing at EMM --- 2019 Field Hockey - Great Northeast Athletic Conference
LOCATION:Regis Weston MA
CATEGORIES:QuickScores; Field Hockey Game
TRANSP:0
DALARM:20191019T000000;PT10M;2;Regis vs. Colby Sawyer
END:VEVENT
BEGIN:VEVENT
DTSTART:20191023T000000
DTEND:20191023T000000
SUMMARY:Anna Maria vs. Saint Joseph's ME
DESCRIPTION:2019 Field Hockey - Great Northeast Athletic Conference
LOCATION:Paxton MA
CATEGORIES:QuickScores; Field Hockey Game
TRANSP:0
DALARM:20191023T000000;PT10M;2;Anna Maria vs. Saint Joseph's ME
END:VEVENT
BEGIN:VEVENT
DTSTART:20191023T000000
DTEND:20191023T000000
SUMMARY:Albertus Magnus vs. Johnson and Wales
DESCRIPTION:2019 Field Hockey - Great Northeast Athletic Conference
LOCATION:New Haven, CT
CATEGORIES:QuickScores; Field Hockey Game
TRANSP:0
DALARM:20191023T000000;PT10M;2;Albertus Magnus vs. Johnson and Wales
END:VEVENT
BEGIN:VEVENT
DTSTART:20191023T000000
DTEND:20191023T000000
SUMMARY:Regis vs. Rivier
DESCRIPTION:2019 Field Hockey - Great Northeast Athletic Conference
LOCATION:Regis Weston MA
CATEGORIES:QuickScores; Field Hockey Game
TRANSP:0
DALARM:20191023T000000;PT10M;2;Regis vs. Rivier
END:VEVENT
BEGIN:VEVENT
DTSTART:20191023T000000
DTEND:20191023T000000
SUMMARY:Simmons vs. Colby Sawyer
DESCRIPTION:2019 CS can share a bus with WSOC playing at Suffolk --- 2019 Field Hockey - Great Northeast Athletic Conference
LOCATION:Daly Field Brighton
CATEGORIES:QuickScores; Field Hockey Game
TRANSP:0
DALARM:20191023T000000;PT10M;2;Simmons vs. Colby Sawyer
END:VEVENT
BEGIN:VEVENT
DTSTART:20191026T000000
DTEND:20191026T000000
SUMMARY:Saint Joseph's ME vs. Johnson and Wales
DESCRIPTION:2019 Field Hockey - Great Northeast Athletic Conference
LOCATION:Standish ME
CATEGORIES:QuickScores; Field Hockey Game
TRANSP:0
DALARM:20191026T000000;PT10M;2;Saint Joseph's ME vs. Johnson and Wales
END:VEVENT
BEGIN:VEVENT
DTSTART:20191026T000000
DTEND:20191026T000000
SUMMARY:Rivier vs. Lasell
DESCRIPTION:2019 LAS could share a bus w MS or WS --- 2019 Field Hockey - Great Northeast Athletic Conference
LOCATION:Nashua, NH
CATEGORIES:QuickScores; Field Hockey Game
TRANSP:0
DALARM:20191026T000000;PT10M;2;Rivier vs. Lasell
END:VEVENT
BEGIN:VEVENT
DTSTART:20191026T000000
DTEND:20191026T000000
SUMMARY:Regis vs. Albertus Magnus
DESCRIPTION:2019 Field Hockey - Great Northeast Athletic Conference
LOCATION:Regis Weston MA
CATEGORIES:QuickScores; Field Hockey Game
TRANSP:0
DALARM:20191026T000000;PT10M;2;Regis vs. Albertus Magnus
END:VEVENT
BEGIN:VEVENT
DTSTART:20191026T000000
DTEND:20191026T000000
SUMMARY:Colby Sawyer vs. Anna Maria
DESCRIPTION:2019 Anna Maria can share a bus with WVB --- 2019 Field Hockey - Great Northeast Athletic Conference
LOCATION:New London NH
CATEGORIES:QuickScores; Field Hockey Game
TRANSP:0
DALARM:20191026T000000;PT10M;2;Colby Sawyer vs. Anna Maria
END:VEVENT
BEGIN:VEVENT
DTSTART:20191030T000000
DTEND:20191030T000000
SUMMARY:Lasell vs. Simmons
DESCRIPTION:2019 Field Hockey - Great Northeast Athletic Conference
LOCATION:Lasell Newton
CATEGORIES:QuickScores; Field Hockey Game
TRANSP:0
DALARM:20191030T000000;PT10M;2;Lasell vs. Simmons
END:VEVENT
BEGIN:VEVENT
DTSTART:20191030T000000
DTEND:20191030T000000
SUMMARY:Johnson and Wales vs. Regis
DESCRIPTION:2019 Field Hockey - Great Northeast Athletic Conference
LOCATION:Scotts Miracle Gro Athletic Complex
CATEGORIES:QuickScores; Field Hockey Game
TRANSP:0
DALARM:20191030T000000;PT10M;2;Johnson and Wales vs. Regis
END:VEVENT
BEGIN:VEVENT
DTSTART:20191030T000000
DTEND:20191030T000000
SUMMARY:Anna Maria vs. Rivier
DESCRIPTION:2019 Field Hockey - Great Northeast Athletic Conference
LOCATION:Paxton MA
CATEGORIES:QuickScores; Field Hockey Game
TRANSP:0
DALARM:20191030T000000;PT10M;2;Anna Maria vs. Rivier
END:VEVENT
BEGIN:VEVENT
DTSTART:20191030T000000
DTEND:20191030T000000
SUMMARY:Colby Sawyer vs. Saint Joseph's ME
DESCRIPTION:2019 Field Hockey - Great Northeast Athletic Conference
LOCATION:New London NH
CATEGORIES:QuickScores; Field Hockey Game
TRANSP:0
DALARM:20191030T000000;PT10M;2;Colby Sawyer vs. Saint Joseph's ME
END:VEVENT
BEGIN:VEVENT
DTSTART:20191102T000000
DTEND:20191102T000000
SUMMARY:#4 Seed vs. #5 Seed
DESCRIPTION:2019 Field Hockey - Great Northeast Athletic Conference
LOCATION:Field of #4 seed
CATEGORIES:QuickScores; Field Hockey Game
TRANSP:0
DALARM:20191102T000000;PT10M;2;#4 Seed vs. #5 Seed
END:VEVENT
BEGIN:VEVENT
DTSTART:20191102T000000
DTEND:20191102T000000
SUMMARY:#3 Seed vs. #6 Seed
DESCRIPTION:2019 Field Hockey - Great Northeast Athletic Conference
LOCATION:Field of #3 seed
CATEGORIES:QuickScores; Field Hockey Game
TRANSP:0
DALARM:20191102T000000;PT10M;2;#3 Seed vs. #6 Seed
END:VEVENT
BEGIN:VEVENT
DTSTART:20191106T000000
DTEND:20191106T000000
SUMMARY:#1 Seed vs. Winner of Game 1
DESCRIPTION:2019 Field Hockey - Great Northeast Athletic Conference
LOCATION:Field of #1 seed
CATEGORIES:QuickScores; Field Hockey Game
TRANSP:0
DALARM:20191106T000000;PT10M;2;#1 Seed vs. Winner of Game 1
END:VEVENT
BEGIN:VEVENT
DTSTART:20191106T000000
DTEND:20191106T000000
SUMMARY:#2 Seed vs. Winner of Game 2
DESCRIPTION:2019 Field Hockey - Great Northeast Athletic Conference
LOCATION:Field of #2 seed
CATEGORIES:QuickScores; Field Hockey Game
TRANSP:0
DALARM:20191106T000000;PT10M;2;#2 Seed vs. Winner of Game 2
END:VEVENT
BEGIN:VEVENT
DTSTART:20191109T000000
DTEND:20191109T000000
SUMMARY:Winner of Game 3 vs. Winner of Game 4
DESCRIPTION:2019 Field Hockey - Great Northeast Athletic Conference
LOCATION:Hosted by highest remaining seed
CATEGORIES:QuickScores; Field Hockey Game
TRANSP:0
DALARM:20191109T000000;PT10M;2;Winner of Game 3 vs. Winner of Game 4
END:VEVENT
END:VCALENDAR
