BEGIN:VCALENDAR
VERSION:1.0
BEGIN:VEVENT
DTSTART:20181006T121500
DTEND:20181006T131500
SUMMARY:SOUTH WARRIORS vs. NORTH DYNAMO
DESCRIPTION:VARSITY (5TH & 6TH GRADE) - Brunswick County Parks & Recreation
LOCATION:SMITHVILLE PARK
CATEGORIES:QuickScores; Soccer - Youth Game
TRANSP:0
DALARM:20181006T101500;PT10M;2;SOUTH WARRIORS vs. NORTH DYNAMO
END:VEVENT
BEGIN:VEVENT
DTSTART:20181006T121500
DTEND:20181006T131500
SUMMARY:WEST PRIDE vs. WEST CREW
DESCRIPTION:PPD --- VARSITY (5TH & 6TH GRADE) - Brunswick County Parks & Recreation
LOCATION:SHALLOTTE PARK VARSITY #2
CATEGORIES:QuickScores; Soccer - Youth Game
TRANSP:0
DALARM:20181006T101500;PT10M;2;WEST PRIDE vs. WEST CREW
END:VEVENT
BEGIN:VEVENT
DTSTART:20181013T133000
DTEND:20181013T143000
SUMMARY:WEST CREW vs. NORTH DYNAMO
DESCRIPTION:VARSITY (5TH & 6TH GRADE) - Brunswick County Parks & Recreation
LOCATION:SMITHVILLE PARK
CATEGORIES:QuickScores; Soccer - Youth Game
TRANSP:0
DALARM:20181013T113000;PT10M;2;WEST CREW vs. NORTH DYNAMO
END:VEVENT
BEGIN:VEVENT
DTSTART:20181013T133000
DTEND:20181013T143000
SUMMARY:NORTH MUTINY vs. SOUTH WARRIORS
DESCRIPTION:VARSITY (5TH & 6TH GRADE) - Brunswick County Parks & Recreation
LOCATION:NORTHWEST PARK
CATEGORIES:QuickScores; Soccer - Youth Game
TRANSP:0
DALARM:20181013T113000;PT10M;2;NORTH MUTINY vs. SOUTH WARRIORS
END:VEVENT
BEGIN:VEVENT
DTSTART:20181013T144500
DTEND:20181013T154500
SUMMARY:WEST PRIDE vs. NORTH MUTINY
DESCRIPTION:VARSITY (5TH & 6TH GRADE) - Brunswick County Parks & Recreation
LOCATION:NORTHWEST PARK
CATEGORIES:QuickScores; Soccer - Youth Game
TRANSP:0
DALARM:20181013T124500;PT10M;2;WEST PRIDE vs. NORTH MUTINY
END:VEVENT
BEGIN:VEVENT
DTSTART:20181020T121500
DTEND:20181020T131500
SUMMARY:NORTH DYNAMO vs. NORTH MUTINY
DESCRIPTION:VARSITY (5TH & 6TH GRADE) - Brunswick County Parks & Recreation
LOCATION:NORTHWEST PARK
CATEGORIES:QuickScores; Soccer - Youth Game
TRANSP:0
DALARM:20181020T101500;PT10M;2;NORTH DYNAMO vs. NORTH MUTINY
END:VEVENT
BEGIN:VEVENT
DTSTART:20181020T121500
DTEND:20181020T131500
SUMMARY:SOUTH WARRIORS vs. WEST PRIDE
DESCRIPTION:VARSITY (5TH & 6TH GRADE) - Brunswick County Parks & Recreation
LOCATION:SMITHVILLE PARK
CATEGORIES:QuickScores; Soccer - Youth Game
TRANSP:0
DALARM:20181020T101500;PT10M;2;SOUTH WARRIORS vs. WEST PRIDE
END:VEVENT
BEGIN:VEVENT
DTSTART:20181020T133000
DTEND:20181020T143000
SUMMARY:WEST CREW vs. SOUTH WARRIORS
DESCRIPTION:VARSITY (5TH & 6TH GRADE) - Brunswick County Parks & Recreation
LOCATION:SMITHVILLE PARK
CATEGORIES:QuickScores; Soccer - Youth Game
TRANSP:0
DALARM:20181020T113000;PT10M;2;WEST CREW vs. SOUTH WARRIORS
END:VEVENT
BEGIN:VEVENT
DTSTART:20181027T110000
DTEND:20181027T120000
SUMMARY:NORTH DYNAMO vs. WEST CREW
DESCRIPTION:VARSITY (5TH & 6TH GRADE) - Brunswick County Parks & Recreation
LOCATION:SHALLOTTE PARK VARSITY #1
CATEGORIES:QuickScores; Soccer - Youth Game
TRANSP:0
DALARM:20181027T090000;PT10M;2;NORTH DYNAMO vs. WEST CREW
END:VEVENT
BEGIN:VEVENT
DTSTART:20181027T121500
DTEND:20181027T131500
SUMMARY:SOUTH WARRIORS vs. WEST CREW
DESCRIPTION:VARSITY (5TH & 6TH GRADE) - Brunswick County Parks & Recreation
LOCATION:SHALLOTTE PARK VARSITY #2
CATEGORIES:QuickScores; Soccer - Youth Game
TRANSP:0
DALARM:20181027T101500;PT10M;2;SOUTH WARRIORS vs. WEST CREW
END:VEVENT
BEGIN:VEVENT
DTSTART:20181027T121500
DTEND:20181027T131500
SUMMARY:NORTH MUTINY vs. WEST PRIDE
DESCRIPTION:VARSITY (5TH & 6TH GRADE) - Brunswick County Parks & Recreation
LOCATION:SMITHVILLE PARK
CATEGORIES:QuickScores; Soccer - Youth Game
TRANSP:0
DALARM:20181027T101500;PT10M;2;NORTH MUTINY vs. WEST PRIDE
END:VEVENT
BEGIN:VEVENT
DTSTART:20181103T120000
DTEND:20181103T130000
SUMMARY:WEST PRIDE vs. SOUTH WARRIORS
DESCRIPTION:VARSITY (5TH & 6TH GRADE) - Brunswick County Parks & Recreation
LOCATION:SHALLOTTE PARK VARSITY #2
CATEGORIES:QuickScores; Soccer - Youth Game
TRANSP:0
DALARM:20181103T100000;PT10M;2;WEST PRIDE vs. SOUTH WARRIORS
END:VEVENT
BEGIN:VEVENT
DTSTART:20181103T131500
DTEND:20181103T141500
SUMMARY:WEST PRIDE vs. NORTH DYNAMO
DESCRIPTION:VARSITY (5TH & 6TH GRADE) - Brunswick County Parks & Recreation
LOCATION:SHALLOTTE PARK VARSITY #2
CATEGORIES:QuickScores; Soccer - Youth Game
TRANSP:0
DALARM:20181103T111500;PT10M;2;WEST PRIDE vs. NORTH DYNAMO
END:VEVENT
BEGIN:VEVENT
DTSTART:20181103T133000
DTEND:20181103T143000
SUMMARY:WEST CREW vs. NORTH MUTINY
DESCRIPTION:VARSITY (5TH & 6TH GRADE) - Brunswick County Parks & Recreation
LOCATION:SMITHVILLE PARK
CATEGORIES:QuickScores; Soccer - Youth Game
TRANSP:0
DALARM:20181103T113000;PT10M;2;WEST CREW vs. NORTH MUTINY
END:VEVENT
BEGIN:VEVENT
DTSTART:20181110T110000
DTEND:20181110T120000
SUMMARY:NORTH MUTINY vs. NORTH DYNAMO
DESCRIPTION:VARSITY (5TH & 6TH GRADE) - Brunswick County Parks & Recreation
LOCATION:NORTHWEST PARK
CATEGORIES:QuickScores; Soccer - Youth Game
TRANSP:0
DALARM:20181110T090000;PT10M;2;NORTH MUTINY vs. NORTH DYNAMO
END:VEVENT
BEGIN:VEVENT
DTSTART:20181110T121500
DTEND:20181110T131500
SUMMARY:NORTH DYNAMO vs. SOUTH WARRIORS
DESCRIPTION:VARSITY (5TH & 6TH GRADE) - Brunswick County Parks & Recreation
LOCATION:NORTHWEST PARK
CATEGORIES:QuickScores; Soccer - Youth Game
TRANSP:0
DALARM:20181110T101500;PT10M;2;NORTH DYNAMO vs. SOUTH WARRIORS
END:VEVENT
BEGIN:VEVENT
DTSTART:20181110T121500
DTEND:20181110T131500
SUMMARY:WEST CREW vs. WEST PRIDE
DESCRIPTION:VARSITY (5TH & 6TH GRADE) - Brunswick County Parks & Recreation
LOCATION:SHALLOTTE PARK VARSITY #2
CATEGORIES:QuickScores; Soccer - Youth Game
TRANSP:0
DALARM:20181110T101500;PT10M;2;WEST CREW vs. WEST PRIDE
END:VEVENT
BEGIN:VEVENT
DTSTART:20181117T121500
DTEND:20181117T131500
SUMMARY:SOUTH WARRIORS vs. NORTH MUTINY
DESCRIPTION:VARSITY (5TH & 6TH GRADE) - Brunswick County Parks & Recreation
LOCATION:NORTHWEST PARK
CATEGORIES:QuickScores; Soccer - Youth Game
TRANSP:0
DALARM:20181117T101500;PT10M;2;SOUTH WARRIORS vs. NORTH MUTINY
END:VEVENT
END:VCALENDAR
