BEGIN:VCALENDAR
VERSION:1.0
BEGIN:VEVENT
DTSTART:20180320T000000
DTEND:20180320T000000
SUMMARY:Lasell vs. Rivier
DESCRIPTION:2018 Women's Lacrosse - Great Northeast Athletic Conference
LOCATION:Lasell Newton
CATEGORIES:QuickScores; Lacrosse Game
TRANSP:0
DALARM:20180320T000000;PT10M;2;Lasell vs. Rivier
END:VEVENT
BEGIN:VEVENT
DTSTART:20180320T000000
DTEND:20180320T000000
SUMMARY:Albertus Magnus vs. Mount Ida
DESCRIPTION:2018 Women's Lacrosse - Great Northeast Athletic Conference
LOCATION:New Haven, CT
CATEGORIES:QuickScores; Lacrosse Game
TRANSP:0
DALARM:20180320T000000;PT10M;2;Albertus Magnus vs. Mount Ida
END:VEVENT
BEGIN:VEVENT
DTSTART:20180320T000000
DTEND:20180320T000000
SUMMARY:Saint Joseph's ME vs. Simmons
DESCRIPTION:2018 Women's Lacrosse - Great Northeast Athletic Conference
LOCATION:Standish ME
CATEGORIES:QuickScores; Lacrosse Game
TRANSP:0
DALARM:20180320T000000;PT10M;2;Saint Joseph's ME vs. Simmons
END:VEVENT
BEGIN:VEVENT
DTSTART:20180320T000000
DTEND:20180320T000000
SUMMARY:Emmanuel vs. Norwich
DESCRIPTION:2018 Women's Lacrosse - Great Northeast Athletic Conference
LOCATION:Roberto Clemente Field
CATEGORIES:QuickScores; Lacrosse Game
TRANSP:0
DALARM:20180320T000000;PT10M;2;Emmanuel vs. Norwich
END:VEVENT
BEGIN:VEVENT
DTSTART:20180320T000000
DTEND:20180320T000000
SUMMARY:Johnson & Wales vs. Regis
DESCRIPTION:2018 Women's Lacrosse - Great Northeast Athletic Conference
LOCATION:Scotts Miracle Gro Athletic Complex
CATEGORIES:QuickScores; Lacrosse Game
TRANSP:0
DALARM:20180320T000000;PT10M;2;Johnson & Wales vs. Regis
END:VEVENT
BEGIN:VEVENT
DTSTART:20180324T000000
DTEND:20180324T000000
SUMMARY:Emmanuel vs. Lasell
DESCRIPTION:2018 Women's Lacrosse - Great Northeast Athletic Conference
LOCATION:Roberto Clemente Field
CATEGORIES:QuickScores; Lacrosse Game
TRANSP:0
DALARM:20180324T000000;PT10M;2;Emmanuel vs. Lasell
END:VEVENT
BEGIN:VEVENT
DTSTART:20180324T000000
DTEND:20180324T000000
SUMMARY:Albertus Magnus vs. Saint Joseph's ME
DESCRIPTION:2018 Women's Lacrosse - Great Northeast Athletic Conference
LOCATION:New Haven, CT
CATEGORIES:QuickScores; Lacrosse Game
TRANSP:0
DALARM:20180324T000000;PT10M;2;Albertus Magnus vs. Saint Joseph's ME
END:VEVENT
BEGIN:VEVENT
DTSTART:20180324T000000
DTEND:20180324T000000
SUMMARY:Mount Ida vs. Rivier
DESCRIPTION:2018 Women's Lacrosse - Great Northeast Athletic Conference
LOCATION:Mount Ida
CATEGORIES:QuickScores; Lacrosse Game
TRANSP:0
DALARM:20180324T000000;PT10M;2;Mount Ida vs. Rivier
END:VEVENT
BEGIN:VEVENT
DTSTART:20180324T000000
DTEND:20180324T000000
SUMMARY:Simmons vs. Johnson & Wales
DESCRIPTION:2018 Women's Lacrosse - Great Northeast Athletic Conference
LOCATION:Daly Field Brighton
CATEGORIES:QuickScores; Lacrosse Game
TRANSP:0
DALARM:20180324T000000;PT10M;2;Simmons vs. Johnson & Wales
END:VEVENT
BEGIN:VEVENT
DTSTART:20180324T000000
DTEND:20180324T000000
SUMMARY:Regis vs. Saint Joseph CT
DESCRIPTION:2018 Women's Lacrosse - Great Northeast Athletic Conference
LOCATION:Regis Weston MA
CATEGORIES:QuickScores; Lacrosse Game
TRANSP:0
DALARM:20180324T000000;PT10M;2;Regis vs. Saint Joseph CT
END:VEVENT
BEGIN:VEVENT
DTSTART:20180327T000000
DTEND:20180327T000000
SUMMARY:Mount Ida vs. Emmanuel
DESCRIPTION:2018 Women's Lacrosse - Great Northeast Athletic Conference
LOCATION:Mount Ida
CATEGORIES:QuickScores; Lacrosse Game
TRANSP:0
DALARM:20180327T000000;PT10M;2;Mount Ida vs. Emmanuel
END:VEVENT
BEGIN:VEVENT
DTSTART:20180327T000000
DTEND:20180327T000000
SUMMARY:Saint Joseph CT vs. Saint Joseph's ME
DESCRIPTION:2018 Women's Lacrosse - Great Northeast Athletic Conference
LOCATION:W. Hartford, CT
CATEGORIES:QuickScores; Lacrosse Game
TRANSP:0
DALARM:20180327T000000;PT10M;2;Saint Joseph CT vs. Saint Joseph's ME
END:VEVENT
BEGIN:VEVENT
DTSTART:20180327T000000
DTEND:20180327T000000
SUMMARY:Simmons vs. Rivier
DESCRIPTION:2018 Women's Lacrosse - Great Northeast Athletic Conference
LOCATION:Daly Field Brighton
CATEGORIES:QuickScores; Lacrosse Game
TRANSP:0
DALARM:20180327T000000;PT10M;2;Simmons vs. Rivier
END:VEVENT
BEGIN:VEVENT
DTSTART:20180327T000000
DTEND:20180327T000000
SUMMARY:Johnson & Wales vs. Lasell
DESCRIPTION:2018 Women's Lacrosse - Great Northeast Athletic Conference
LOCATION:Scotts Miracle Gro Athletic Complex
CATEGORIES:QuickScores; Lacrosse Game
TRANSP:0
DALARM:20180327T000000;PT10M;2;Johnson & Wales vs. Lasell
END:VEVENT
BEGIN:VEVENT
DTSTART:20180327T000000
DTEND:20180327T000000
SUMMARY:Norwich vs. Regis
DESCRIPTION:2018 Women's Lacrosse - Great Northeast Athletic Conference
LOCATION:Northfield, VT
CATEGORIES:QuickScores; Lacrosse Game
TRANSP:0
DALARM:20180327T000000;PT10M;2;Norwich vs. Regis
END:VEVENT
BEGIN:VEVENT
DTSTART:20180331T000000
DTEND:20180331T000000
SUMMARY:Saint Joseph CT vs. Emmanuel
DESCRIPTION:2018 EMM can share a bus w softball --- 2018 Women's Lacrosse - Great Northeast Athletic Conference
LOCATION:W. Hartford, CT
CATEGORIES:QuickScores; Lacrosse Game
TRANSP:0
DALARM:20180331T000000;PT10M;2;Saint Joseph CT vs. Emmanuel
END:VEVENT
BEGIN:VEVENT
DTSTART:20180331T000000
DTEND:20180331T000000
SUMMARY:Saint Joseph's ME vs. Johnson & Wales
DESCRIPTION:2018 DH w softball --- 2018 Women's Lacrosse - Great Northeast Athletic Conference
LOCATION:Standish ME
CATEGORIES:QuickScores; Lacrosse Game
TRANSP:0
DALARM:20180331T000000;PT10M;2;Saint Joseph's ME vs. Johnson & Wales
END:VEVENT
BEGIN:VEVENT
DTSTART:20180331T000000
DTEND:20180331T000000
SUMMARY:Norwich vs. Rivier
DESCRIPTION:2018 DH w softball --- 2018 Women's Lacrosse - Great Northeast Athletic Conference
LOCATION:Northfield, VT
CATEGORIES:QuickScores; Lacrosse Game
TRANSP:0
DALARM:20180331T000000;PT10M;2;Norwich vs. Rivier
END:VEVENT
BEGIN:VEVENT
DTSTART:20180331T000000
DTEND:20180331T000000
SUMMARY:Mount Ida vs. Lasell
DESCRIPTION:2018 Women's Lacrosse - Great Northeast Athletic Conference
LOCATION:Mount Ida
CATEGORIES:QuickScores; Lacrosse Game
TRANSP:0
DALARM:20180331T000000;PT10M;2;Mount Ida vs. Lasell
END:VEVENT
BEGIN:VEVENT
DTSTART:20180331T000000
DTEND:20180331T000000
SUMMARY:Simmons vs. Albertus Magnus
DESCRIPTION:2018 Women's Lacrosse - Great Northeast Athletic Conference
LOCATION:Daly Field Brighton
CATEGORIES:QuickScores; Lacrosse Game
TRANSP:0
DALARM:20180331T000000;PT10M;2;Simmons vs. Albertus Magnus
END:VEVENT
BEGIN:VEVENT
DTSTART:20180403T000000
DTEND:20180403T000000
SUMMARY:Norwich vs. Saint Joseph CT
DESCRIPTION:2018 Women's Lacrosse - Great Northeast Athletic Conference
LOCATION:Northfield, VT
CATEGORIES:QuickScores; Lacrosse Game
TRANSP:0
DALARM:20180403T000000;PT10M;2;Norwich vs. Saint Joseph CT
END:VEVENT
BEGIN:VEVENT
DTSTART:20180403T000000
DTEND:20180403T000000
SUMMARY:Emmanuel vs. Albertus Magnus
DESCRIPTION:2018 Women's Lacrosse - Great Northeast Athletic Conference
LOCATION:Roberto Clemente Field
CATEGORIES:QuickScores; Lacrosse Game
TRANSP:0
DALARM:20180403T000000;PT10M;2;Emmanuel vs. Albertus Magnus
END:VEVENT
BEGIN:VEVENT
DTSTART:20180403T000000
DTEND:20180403T000000
SUMMARY:Mount Ida vs. Simmons
DESCRIPTION:2018 Women's Lacrosse - Great Northeast Athletic Conference
LOCATION:Mount Ida
CATEGORIES:QuickScores; Lacrosse Game
TRANSP:0
DALARM:20180403T000000;PT10M;2;Mount Ida vs. Simmons
END:VEVENT
BEGIN:VEVENT
DTSTART:20180403T000000
DTEND:20180403T000000
SUMMARY:Rivier vs. Johnson & Wales
DESCRIPTION:2018 DH w MVB --- 2018 Women's Lacrosse - Great Northeast Athletic Conference
LOCATION:Nashua, NH
CATEGORIES:QuickScores; Lacrosse Game
TRANSP:0
DALARM:20180403T000000;PT10M;2;Rivier vs. Johnson & Wales
END:VEVENT
BEGIN:VEVENT
DTSTART:20180403T000000
DTEND:20180403T000000
SUMMARY:Lasell vs. Regis
DESCRIPTION:2018 Women's Lacrosse - Great Northeast Athletic Conference
LOCATION:Lasell Newton
CATEGORIES:QuickScores; Lacrosse Game
TRANSP:0
DALARM:20180403T000000;PT10M;2;Lasell vs. Regis
END:VEVENT
BEGIN:VEVENT
DTSTART:20180407T000000
DTEND:20180407T000000
SUMMARY:Johnson & Wales vs. Saint Joseph CT
DESCRIPTION:2018 DH w softball --- 2018 Women's Lacrosse - Great Northeast Athletic Conference
LOCATION:Scotts Miracle Gro Athletic Complex
CATEGORIES:QuickScores; Lacrosse Game
TRANSP:0
DALARM:20180407T000000;PT10M;2;Johnson & Wales vs. Saint Joseph CT
END:VEVENT
BEGIN:VEVENT
DTSTART:20180407T000000
DTEND:20180407T000000
SUMMARY:Lasell vs. Simmons
DESCRIPTION:2018 Women's Lacrosse - Great Northeast Athletic Conference
LOCATION:Lasell Newton
CATEGORIES:QuickScores; Lacrosse Game
TRANSP:0
DALARM:20180407T000000;PT10M;2;Lasell vs. Simmons
END:VEVENT
BEGIN:VEVENT
DTSTART:20180407T000000
DTEND:20180407T000000
SUMMARY:Saint Joseph's ME vs. Norwich
DESCRIPTION:2018 DH w SB --- 2018 Women's Lacrosse - Great Northeast Athletic Conference
LOCATION:Standish ME
CATEGORIES:QuickScores; Lacrosse Game
TRANSP:0
DALARM:20180407T000000;PT10M;2;Saint Joseph's ME vs. Norwich
END:VEVENT
BEGIN:VEVENT
DTSTART:20180407T000000
DTEND:20180407T000000
SUMMARY:Rivier vs. Albertus Magnus
DESCRIPTION:2018  ALB can share a bus with softball --- 2018 Women's Lacrosse - Great Northeast Athletic Conference
LOCATION:Nashua, NH
CATEGORIES:QuickScores; Lacrosse Game
TRANSP:0
DALARM:20180407T000000;PT10M;2;Rivier vs. Albertus Magnus
END:VEVENT
BEGIN:VEVENT
DTSTART:20180407T000000
DTEND:20180407T000000
SUMMARY:Regis vs. Emmanuel
DESCRIPTION:2018 Women's Lacrosse - Great Northeast Athletic Conference
LOCATION:Regis Weston MA
CATEGORIES:QuickScores; Lacrosse Game
TRANSP:0
DALARM:20180407T000000;PT10M;2;Regis vs. Emmanuel
END:VEVENT
BEGIN:VEVENT
DTSTART:20180410T000000
DTEND:20180410T000000
SUMMARY:Simmons vs. Norwich
DESCRIPTION:2018 DH w SB at Daly Field. --- 2018 Women's Lacrosse - Great Northeast Athletic Conference
LOCATION:Daly Field Brighton
CATEGORIES:QuickScores; Lacrosse Game
TRANSP:0
DALARM:20180410T000000;PT10M;2;Simmons vs. Norwich
END:VEVENT
BEGIN:VEVENT
DTSTART:20180410T000000
DTEND:20180410T000000
SUMMARY:Rivier vs. Emmanuel
DESCRIPTION:2018 Women's Lacrosse - Great Northeast Athletic Conference
LOCATION:Nashua, NH
CATEGORIES:QuickScores; Lacrosse Game
TRANSP:0
DALARM:20180410T000000;PT10M;2;Rivier vs. Emmanuel
END:VEVENT
BEGIN:VEVENT
DTSTART:20180410T000000
DTEND:20180410T000000
SUMMARY:Lasell vs. Albertus Magnus
DESCRIPTION:2018 Women's Lacrosse - Great Northeast Athletic Conference
LOCATION:Lasell Newton
CATEGORIES:QuickScores; Lacrosse Game
TRANSP:0
DALARM:20180410T000000;PT10M;2;Lasell vs. Albertus Magnus
END:VEVENT
BEGIN:VEVENT
DTSTART:20180410T000000
DTEND:20180410T000000
SUMMARY:Saint Joseph CT vs. Mount Ida
DESCRIPTION:2018 Women's Lacrosse - Great Northeast Athletic Conference
LOCATION:W. Hartford, CT
CATEGORIES:QuickScores; Lacrosse Game
TRANSP:0
DALARM:20180410T000000;PT10M;2;Saint Joseph CT vs. Mount Ida
END:VEVENT
BEGIN:VEVENT
DTSTART:20180410T000000
DTEND:20180410T000000
SUMMARY:Regis vs. Saint Joseph's ME
DESCRIPTION:2018 Women's Lacrosse - Great Northeast Athletic Conference
LOCATION:Regis Weston MA
CATEGORIES:QuickScores; Lacrosse Game
TRANSP:0
DALARM:20180410T000000;PT10M;2;Regis vs. Saint Joseph's ME
END:VEVENT
BEGIN:VEVENT
DTSTART:20180414T000000
DTEND:20180414T000000
SUMMARY:Saint Joseph's ME vs. Mount Ida
DESCRIPTION:2018 Women's Lacrosse - Great Northeast Athletic Conference
LOCATION:Standish ME
CATEGORIES:QuickScores; Lacrosse Game
TRANSP:0
DALARM:20180414T000000;PT10M;2;Saint Joseph's ME vs. Mount Ida
END:VEVENT
BEGIN:VEVENT
DTSTART:20180414T000000
DTEND:20180414T000000
SUMMARY:Norwich vs. Lasell
DESCRIPTION:2018 LAS can share a bus w Softball --- 2018 Women's Lacrosse - Great Northeast Athletic Conference
LOCATION:Northfield, VT
CATEGORIES:QuickScores; Lacrosse Game
TRANSP:0
DALARM:20180414T000000;PT10M;2;Norwich vs. Lasell
END:VEVENT
BEGIN:VEVENT
DTSTART:20180414T000000
DTEND:20180414T000000
SUMMARY:Emmanuel vs. Johnson & Wales
DESCRIPTION:2018 Women's Lacrosse - Great Northeast Athletic Conference
LOCATION:Roberto Clemente Field
CATEGORIES:QuickScores; Lacrosse Game
TRANSP:0
DALARM:20180414T000000;PT10M;2;Emmanuel vs. Johnson & Wales
END:VEVENT
BEGIN:VEVENT
DTSTART:20180414T000000
DTEND:20180414T000000
SUMMARY:Rivier vs. Saint Joseph CT
DESCRIPTION:2018 DH w SB --- 2018 Women's Lacrosse - Great Northeast Athletic Conference
LOCATION:Nashua, NH
CATEGORIES:QuickScores; Lacrosse Game
TRANSP:0
DALARM:20180414T000000;PT10M;2;Rivier vs. Saint Joseph CT
END:VEVENT
BEGIN:VEVENT
DTSTART:20180414T000000
DTEND:20180414T000000
SUMMARY:Albertus Magnus vs. Regis
DESCRIPTION:2018 Women's Lacrosse - Great Northeast Athletic Conference
LOCATION:New Haven, CT
CATEGORIES:QuickScores; Lacrosse Game
TRANSP:0
DALARM:20180414T000000;PT10M;2;Albertus Magnus vs. Regis
END:VEVENT
BEGIN:VEVENT
DTSTART:20180417T000000
DTEND:20180417T000000
SUMMARY:Saint Joseph CT vs. Simmons
DESCRIPTION:2018 Women's Lacrosse - Great Northeast Athletic Conference
LOCATION:W. Hartford, CT
CATEGORIES:QuickScores; Lacrosse Game
TRANSP:0
DALARM:20180417T000000;PT10M;2;Saint Joseph CT vs. Simmons
END:VEVENT
BEGIN:VEVENT
DTSTART:20180417T000000
DTEND:20180417T000000
SUMMARY:Albertus Magnus vs. Johnson & Wales
DESCRIPTION:2018 Women's Lacrosse - Great Northeast Athletic Conference
LOCATION:New Haven, CT
CATEGORIES:QuickScores; Lacrosse Game
TRANSP:0
DALARM:20180417T000000;PT10M;2;Albertus Magnus vs. Johnson & Wales
END:VEVENT
BEGIN:VEVENT
DTSTART:20180417T000000
DTEND:20180417T000000
SUMMARY:Mount Ida vs. Norwich
DESCRIPTION:2018 Women's Lacrosse - Great Northeast Athletic Conference
LOCATION:Mount Ida
CATEGORIES:QuickScores; Lacrosse Game
TRANSP:0
DALARM:20180417T000000;PT10M;2;Mount Ida vs. Norwich
END:VEVENT
BEGIN:VEVENT
DTSTART:20180417T000000
DTEND:20180417T000000
SUMMARY:Saint Joseph's ME vs. Emmanuel
DESCRIPTION:2018 Women's Lacrosse - Great Northeast Athletic Conference
LOCATION:Standish ME
CATEGORIES:QuickScores; Lacrosse Game
TRANSP:0
DALARM:20180417T000000;PT10M;2;Saint Joseph's ME vs. Emmanuel
END:VEVENT
BEGIN:VEVENT
DTSTART:20180417T000000
DTEND:20180417T000000
SUMMARY:Regis vs. Rivier
DESCRIPTION:2018 Women's Lacrosse - Great Northeast Athletic Conference
LOCATION:Regis Weston MA
CATEGORIES:QuickScores; Lacrosse Game
TRANSP:0
DALARM:20180417T000000;PT10M;2;Regis vs. Rivier
END:VEVENT
BEGIN:VEVENT
DTSTART:20180421T000000
DTEND:20180421T000000
SUMMARY:Rivier vs. Saint Joseph's ME
DESCRIPTION:2018 STJME can share a bus w Softball --- 2018 Women's Lacrosse - Great Northeast Athletic Conference
LOCATION:Nashua, NH
CATEGORIES:QuickScores; Lacrosse Game
TRANSP:0
DALARM:20180421T000000;PT10M;2;Rivier vs. Saint Joseph's ME
END:VEVENT
BEGIN:VEVENT
DTSTART:20180421T000000
DTEND:20180421T000000
SUMMARY:Norwich vs. Albertus Magnus
DESCRIPTION:2018 ALB can share a bus w SB. 2018 NOR Jr. Ring Weekend --- 2018 Women's Lacrosse - Great Northeast Athletic Conference
LOCATION:Northfield, VT
CATEGORIES:QuickScores; Lacrosse Game
TRANSP:0
DALARM:20180421T000000;PT10M;2;Norwich vs. Albertus Magnus
END:VEVENT
BEGIN:VEVENT
DTSTART:20180421T000000
DTEND:20180421T000000
SUMMARY:Saint Joseph CT vs. Lasell
DESCRIPTION:LAS can share a bus w softball --- 2018 Women's Lacrosse - Great Northeast Athletic Conference
LOCATION:W. Hartford, CT
CATEGORIES:QuickScores; Lacrosse Game
TRANSP:0
DALARM:20180421T000000;PT10M;2;Saint Joseph CT vs. Lasell
END:VEVENT
BEGIN:VEVENT
DTSTART:20180421T000000
DTEND:20180421T000000
SUMMARY:Johnson & Wales vs. Mount Ida
DESCRIPTION:2018 Women's Lacrosse - Great Northeast Athletic Conference
LOCATION:Scotts Miracle Gro Athletic Complex
CATEGORIES:QuickScores; Lacrosse Game
TRANSP:0
DALARM:20180421T000000;PT10M;2;Johnson & Wales vs. Mount Ida
END:VEVENT
BEGIN:VEVENT
DTSTART:20180421T000000
DTEND:20180421T000000
SUMMARY:Simmons vs. Regis
DESCRIPTION:2018 Women's Lacrosse - Great Northeast Athletic Conference
LOCATION:Daly Field Brighton
CATEGORIES:QuickScores; Lacrosse Game
TRANSP:0
DALARM:20180421T000000;PT10M;2;Simmons vs. Regis
END:VEVENT
BEGIN:VEVENT
DTSTART:20180424T000000
DTEND:20180424T000000
SUMMARY:Johnson & Wales vs. Norwich
DESCRIPTION:2018 Women's Lacrosse - Great Northeast Athletic Conference
LOCATION:Scotts Miracle Gro Athletic Complex
CATEGORIES:QuickScores; Lacrosse Game
TRANSP:0
DALARM:20180424T000000;PT10M;2;Johnson & Wales vs. Norwich
END:VEVENT
BEGIN:VEVENT
DTSTART:20180424T000000
DTEND:20180424T000000
SUMMARY:Emmanuel vs. Simmons
DESCRIPTION:2018 Women's Lacrosse - Great Northeast Athletic Conference
LOCATION:Roberto Clemente Field
CATEGORIES:QuickScores; Lacrosse Game
TRANSP:0
DALARM:20180424T000000;PT10M;2;Emmanuel vs. Simmons
END:VEVENT
BEGIN:VEVENT
DTSTART:20180424T000000
DTEND:20180424T000000
SUMMARY:Albertus Magnus vs. Saint Joseph CT
DESCRIPTION:2018 Women's Lacrosse - Great Northeast Athletic Conference
LOCATION:New Haven, CT
CATEGORIES:QuickScores; Lacrosse Game
TRANSP:0
DALARM:20180424T000000;PT10M;2;Albertus Magnus vs. Saint Joseph CT
END:VEVENT
BEGIN:VEVENT
DTSTART:20180424T000000
DTEND:20180424T000000
SUMMARY:Lasell vs. Saint Joseph's ME
DESCRIPTION:2018 Women's Lacrosse - Great Northeast Athletic Conference
LOCATION:Lasell Newton
CATEGORIES:QuickScores; Lacrosse Game
TRANSP:0
DALARM:20180424T000000;PT10M;2;Lasell vs. Saint Joseph's ME
END:VEVENT
BEGIN:VEVENT
DTSTART:20180424T000000
DTEND:20180424T000000
SUMMARY:Regis vs. Mount Ida
DESCRIPTION:2018 Women's Lacrosse - Great Northeast Athletic Conference
LOCATION:Regis Weston MA
CATEGORIES:QuickScores; Lacrosse Game
TRANSP:0
DALARM:20180424T000000;PT10M;2;Regis vs. Mount Ida
END:VEVENT
BEGIN:VEVENT
DTSTART:20180428T000000
DTEND:20180428T000000
SUMMARY:#2 Seed vs. #7 Seed
DESCRIPTION:2018 Women's Lacrosse - Great Northeast Athletic Conference
LOCATION:Field of #2 seed
CATEGORIES:QuickScores; Lacrosse Game
TRANSP:0
DALARM:20180428T000000;PT10M;2;#2 Seed vs. #7 Seed
END:VEVENT
BEGIN:VEVENT
DTSTART:20180428T000000
DTEND:20180428T000000
SUMMARY:#1 Seed vs. #8 Seed
DESCRIPTION:2018 Women's Lacrosse - Great Northeast Athletic Conference
LOCATION:Field of #1 seed
CATEGORIES:QuickScores; Lacrosse Game
TRANSP:0
DALARM:20180428T000000;PT10M;2;#1 Seed vs. #8 Seed
END:VEVENT
BEGIN:VEVENT
DTSTART:20180428T000000
DTEND:20180428T000000
SUMMARY:#3 Seed vs. #6 Seed
DESCRIPTION:2018 Women's Lacrosse - Great Northeast Athletic Conference
LOCATION:Field of #3 seed
CATEGORIES:QuickScores; Lacrosse Game
TRANSP:0
DALARM:20180428T000000;PT10M;2;#3 Seed vs. #6 Seed
END:VEVENT
BEGIN:VEVENT
DTSTART:20180428T000000
DTEND:20180428T000000
SUMMARY:#4 Seed vs. #5 Seed
DESCRIPTION:2018 Women's Lacrosse - Great Northeast Athletic Conference
LOCATION:Field of #4 seed
CATEGORIES:QuickScores; Lacrosse Game
TRANSP:0
DALARM:20180428T000000;PT10M;2;#4 Seed vs. #5 Seed
END:VEVENT
BEGIN:VEVENT
DTSTART:20180501T000000
DTEND:20180501T000000
SUMMARY:Winner of Game 3 vs. Winner of Game 4
DESCRIPTION:2018 Women's Lacrosse - Great Northeast Athletic Conference
LOCATION:Hosted by highest remaining seed
CATEGORIES:QuickScores; Lacrosse Game
TRANSP:0
DALARM:20180501T000000;PT10M;2;Winner of Game 3 vs. Winner of Game 4
END:VEVENT
BEGIN:VEVENT
DTSTART:20180501T000000
DTEND:20180501T000000
SUMMARY:Winner of Game 1 vs. Winner of Game 2
DESCRIPTION:2018 Women's Lacrosse - Great Northeast Athletic Conference
LOCATION:Hosted by highest remaining seed
CATEGORIES:QuickScores; Lacrosse Game
TRANSP:0
DALARM:20180501T000000;PT10M;2;Winner of Game 1 vs. Winner of Game 2
END:VEVENT
BEGIN:VEVENT
DTSTART:20180505T000000
DTEND:20180505T000000
SUMMARY:Winner of Game 5 vs. Winner of Game 6
DESCRIPTION:2018 Women's Lacrosse - Great Northeast Athletic Conference
LOCATION:Hosted by highest remaining seed
CATEGORIES:QuickScores; Lacrosse Game
TRANSP:0
DALARM:20180505T000000;PT10M;2;Winner of Game 5 vs. Winner of Game 6
END:VEVENT
END:VCALENDAR
