BEGIN:VCALENDAR
VERSION:1.0
BEGIN:VEVENT
DTSTART:20100327T000000
DTEND:20100327T000000
SUMMARY:Lasell vs. Norwich
DESCRIPTION:2010 Baseball - Great Northeast Athletic Conference
LOCATION:Lasell Newton
CATEGORIES:QuickScores; Baseball Game
TRANSP:0
DALARM:20100327T000000;PT10M;2;Lasell vs. Norwich
END:VEVENT
BEGIN:VEVENT
DTSTART:20100327T000000
DTEND:20100327T000000
SUMMARY:Saint Joseph's ME vs. Rivier
DESCRIPTION:2010 Baseball - Great Northeast Athletic Conference
LOCATION:Standish ME
CATEGORIES:QuickScores; Baseball Game
TRANSP:0
DALARM:20100327T000000;PT10M;2;Saint Joseph's ME vs. Rivier
END:VEVENT
BEGIN:VEVENT
DTSTART:20100327T000000
DTEND:20100327T000000
SUMMARY:Emerson vs. Albertus Magnus
DESCRIPTION:AMC can share a bus w men's tennis --- 2010 Baseball - Great Northeast Athletic Conference
LOCATION:Emerson
CATEGORIES:QuickScores; Baseball Game
TRANSP:0
DALARM:20100327T000000;PT10M;2;Emerson vs. Albertus Magnus
END:VEVENT
BEGIN:VEVENT
DTSTART:20100327T000000
DTEND:20100327T000000
SUMMARY:Suffolk vs. Johnson & Wales
DESCRIPTION:2010 Baseball - Great Northeast Athletic Conference
LOCATION:Suffolk
CATEGORIES:QuickScores; Baseball Game
TRANSP:0
DALARM:20100327T000000;PT10M;2;Suffolk vs. Johnson & Wales
END:VEVENT
BEGIN:VEVENT
DTSTART:20100328T000000
DTEND:20100328T000000
SUMMARY:Emerson vs. Lasell
DESCRIPTION:2010 Baseball - Great Northeast Athletic Conference
LOCATION:Emerson
CATEGORIES:QuickScores; Baseball Game
TRANSP:0
DALARM:20100328T000000;PT10M;2;Emerson vs. Lasell
END:VEVENT
BEGIN:VEVENT
DTSTART:20100328T000000
DTEND:20100328T000000
SUMMARY:Albertus Magnus vs. Rivier
DESCRIPTION:2010 Baseball - Great Northeast Athletic Conference
LOCATION:New Haven, CT
CATEGORIES:QuickScores; Baseball Game
TRANSP:0
DALARM:20100328T000000;PT10M;2;Albertus Magnus vs. Rivier
END:VEVENT
BEGIN:VEVENT
DTSTART:20100328T000000
DTEND:20100328T000000
SUMMARY:Johnson & Wales vs. Norwich
DESCRIPTION:2010 Baseball - Great Northeast Athletic Conference
LOCATION:Providence, RI
CATEGORIES:QuickScores; Baseball Game
TRANSP:0
DALARM:20100328T000000;PT10M;2;Johnson & Wales vs. Norwich
END:VEVENT
BEGIN:VEVENT
DTSTART:20100328T000000
DTEND:20100328T000000
SUMMARY:Suffolk vs. Saint Joseph's ME
DESCRIPTION:3 STJME can share a bus. SB @ SUF & WLAX going to PMC --- 2010 Baseball - Great Northeast Athletic Conference
LOCATION:Suffolk
CATEGORIES:QuickScores; Baseball Game
TRANSP:0
DALARM:20100328T000000;PT10M;2;Suffolk vs. Saint Joseph's ME
END:VEVENT
BEGIN:VEVENT
DTSTART:20100403T000000
DTEND:20100403T000000
SUMMARY:Lasell vs. Albertus Magnus
DESCRIPTION:2010 Baseball - Great Northeast Athletic Conference
LOCATION:Lasell Newton
CATEGORIES:QuickScores; Baseball Game
TRANSP:0
DALARM:20100403T000000;PT10M;2;Lasell vs. Albertus Magnus
END:VEVENT
BEGIN:VEVENT
DTSTART:20100403T000000
DTEND:20100403T000000
SUMMARY:Norwich vs. Suffolk
DESCRIPTION:SUF can share a bus w softball --- 2010 Baseball - Great Northeast Athletic Conference
LOCATION:Northfield, VT
CATEGORIES:QuickScores; Baseball Game
TRANSP:0
DALARM:20100403T000000;PT10M;2;Norwich vs. Suffolk
END:VEVENT
BEGIN:VEVENT
DTSTART:20100403T000000
DTEND:20100403T000000
SUMMARY:Emerson vs. Rivier
DESCRIPTION:2010 Baseball - Great Northeast Athletic Conference
LOCATION:Emerson
CATEGORIES:QuickScores; Baseball Game
TRANSP:0
DALARM:20100403T000000;PT10M;2;Emerson vs. Rivier
END:VEVENT
BEGIN:VEVENT
DTSTART:20100403T000000
DTEND:20100403T000000
SUMMARY:Saint Joseph's ME vs. Johnson & Wales
DESCRIPTION:JWU can share a bus w softball --- 2010 Baseball - Great Northeast Athletic Conference
LOCATION:Standish ME
CATEGORIES:QuickScores; Baseball Game
TRANSP:0
DALARM:20100403T000000;PT10M;2;Saint Joseph's ME vs. Johnson & Wales
END:VEVENT
BEGIN:VEVENT
DTSTART:20100410T000000
DTEND:20100410T000000
SUMMARY:Rivier vs. Johnson & Wales
DESCRIPTION:2010 Baseball - Great Northeast Athletic Conference
LOCATION:Nashua, NH
CATEGORIES:QuickScores; Baseball Game
TRANSP:0
DALARM:20100410T000000;PT10M;2;Rivier vs. Johnson & Wales
END:VEVENT
BEGIN:VEVENT
DTSTART:20100410T000000
DTEND:20100410T000000
SUMMARY:Suffolk vs. Emerson
DESCRIPTION:2010 Baseball - Great Northeast Athletic Conference
LOCATION:Suffolk
CATEGORIES:QuickScores; Baseball Game
TRANSP:0
DALARM:20100410T000000;PT10M;2;Suffolk vs. Emerson
END:VEVENT
BEGIN:VEVENT
DTSTART:20100410T000000
DTEND:20100410T000000
SUMMARY:Norwich vs. Albertus Magnus
DESCRIPTION:AMC can share a bus w softball --- 2010 Baseball - Great Northeast Athletic Conference
LOCATION:Northfield, VT
CATEGORIES:QuickScores; Baseball Game
TRANSP:0
DALARM:20100410T000000;PT10M;2;Norwich vs. Albertus Magnus
END:VEVENT
BEGIN:VEVENT
DTSTART:20100410T000000
DTEND:20100410T000000
SUMMARY:Lasell vs. Saint Joseph's ME
DESCRIPTION:2010 Baseball - Great Northeast Athletic Conference
LOCATION:Lasell Newton
CATEGORIES:QuickScores; Baseball Game
TRANSP:0
DALARM:20100410T000000;PT10M;2;Lasell vs. Saint Joseph's ME
END:VEVENT
BEGIN:VEVENT
DTSTART:20100411T000000
DTEND:20100411T000000
SUMMARY:Lasell vs. Suffolk
DESCRIPTION:2010 Baseball - Great Northeast Athletic Conference
LOCATION:Lasell Newton
CATEGORIES:QuickScores; Baseball Game
TRANSP:0
DALARM:20100411T000000;PT10M;2;Lasell vs. Suffolk
END:VEVENT
BEGIN:VEVENT
DTSTART:20100411T000000
DTEND:20100411T000000
SUMMARY:Johnson & Wales vs. Albertus Magnus
DESCRIPTION:2010 Baseball - Great Northeast Athletic Conference
LOCATION:Providence, RI
CATEGORIES:QuickScores; Baseball Game
TRANSP:0
DALARM:20100411T000000;PT10M;2;Johnson & Wales vs. Albertus Magnus
END:VEVENT
BEGIN:VEVENT
DTSTART:20100411T000000
DTEND:20100411T000000
SUMMARY:Emerson vs. Saint Joseph's ME
DESCRIPTION:2010 Baseball - Great Northeast Athletic Conference
LOCATION:Emerson
CATEGORIES:QuickScores; Baseball Game
TRANSP:0
DALARM:20100411T000000;PT10M;2;Emerson vs. Saint Joseph's ME
END:VEVENT
BEGIN:VEVENT
DTSTART:20100411T000000
DTEND:20100411T000000
SUMMARY:Rivier vs. Norwich
DESCRIPTION:2010 Baseball - Great Northeast Athletic Conference
LOCATION:Nashua, NH
CATEGORIES:QuickScores; Baseball Game
TRANSP:0
DALARM:20100411T000000;PT10M;2;Rivier vs. Norwich
END:VEVENT
BEGIN:VEVENT
DTSTART:20100417T000000
DTEND:20100417T000000
SUMMARY:Norwich vs. Saint Joseph's ME
DESCRIPTION:2010 Baseball - Great Northeast Athletic Conference
LOCATION:Standish ME
CATEGORIES:QuickScores; Baseball Game
TRANSP:0
DALARM:20100417T000000;PT10M;2;Norwich vs. Saint Joseph's ME
END:VEVENT
BEGIN:VEVENT
DTSTART:20100417T000000
DTEND:20100417T000000
SUMMARY:Johnson & Wales vs. Emerson
DESCRIPTION:2010 Baseball - Great Northeast Athletic Conference
LOCATION:Providence, RI
CATEGORIES:QuickScores; Baseball Game
TRANSP:0
DALARM:20100417T000000;PT10M;2;Johnson & Wales vs. Emerson
END:VEVENT
BEGIN:VEVENT
DTSTART:20100417T000000
DTEND:20100417T000000
SUMMARY:Rivier vs. Lasell
DESCRIPTION:2010 Baseball - Great Northeast Athletic Conference
LOCATION:Nashua, NH
CATEGORIES:QuickScores; Baseball Game
TRANSP:0
DALARM:20100417T000000;PT10M;2;Rivier vs. Lasell
END:VEVENT
BEGIN:VEVENT
DTSTART:20100417T000000
DTEND:20100417T000000
SUMMARY:Albertus Magnus vs. Suffolk
DESCRIPTION:2010 Baseball - Great Northeast Athletic Conference
LOCATION:New Haven, CT
CATEGORIES:QuickScores; Baseball Game
TRANSP:0
DALARM:20100417T000000;PT10M;2;Albertus Magnus vs. Suffolk
END:VEVENT
BEGIN:VEVENT
DTSTART:20100418T000000
DTEND:20100418T000000
SUMMARY:Norwich vs. Emerson
DESCRIPTION:2010 Baseball - Great Northeast Athletic Conference
LOCATION:Northfield, VT
CATEGORIES:QuickScores; Baseball Game
TRANSP:0
DALARM:20100418T000000;PT10M;2;Norwich vs. Emerson
END:VEVENT
BEGIN:VEVENT
DTSTART:20100418T000000
DTEND:20100418T000000
SUMMARY:Johnson & Wales vs. Lasell
DESCRIPTION:2010 Baseball - Great Northeast Athletic Conference
LOCATION:Providence, RI
CATEGORIES:QuickScores; Baseball Game
TRANSP:0
DALARM:20100418T000000;PT10M;2;Johnson & Wales vs. Lasell
END:VEVENT
BEGIN:VEVENT
DTSTART:20100418T000000
DTEND:20100418T000000
SUMMARY:Suffolk vs. Rivier
DESCRIPTION:2010 Baseball - Great Northeast Athletic Conference
LOCATION:Suffolk
CATEGORIES:QuickScores; Baseball Game
TRANSP:0
DALARM:20100418T000000;PT10M;2;Suffolk vs. Rivier
END:VEVENT
BEGIN:VEVENT
DTSTART:20100418T000000
DTEND:20100418T000000
SUMMARY:Saint Joseph's ME vs. Albertus Magnus
DESCRIPTION:2010 Baseball - Great Northeast Athletic Conference
LOCATION:Standish ME
CATEGORIES:QuickScores; Baseball Game
TRANSP:0
DALARM:20100418T000000;PT10M;2;Saint Joseph's ME vs. Albertus Magnus
END:VEVENT
BEGIN:VEVENT
DTSTART:20100429T000000
DTEND:20100429T000000
SUMMARY:#1 Seed vs. Winner of #5 vs. #4
DESCRIPTION:2010 Baseball - Great Northeast Athletic Conference
LOCATION:Field of #1 seed
CATEGORIES:QuickScores; Baseball Game
TRANSP:0
DALARM:20100429T000000;PT10M;2;#1 Seed vs. Winner of #5 vs. #4
END:VEVENT
BEGIN:VEVENT
DTSTART:20100429T000000
DTEND:20100429T000000
SUMMARY:#2 Seed vs. Winner of #6 vs. #3
DESCRIPTION:2010 Baseball - Great Northeast Athletic Conference
LOCATION:Field of #2 seed
CATEGORIES:QuickScores; Baseball Game
TRANSP:0
DALARM:20100429T000000;PT10M;2;#2 Seed vs. Winner of #6 vs. #3
END:VEVENT
BEGIN:VEVENT
DTSTART:20100501T000000
DTEND:20100501T000000
SUMMARY:Loser of Game 1 vs. Loser of Game 2
DESCRIPTION:2010 Baseball - Great Northeast Athletic Conference
LOCATION:Predetermined tournament host site
CATEGORIES:QuickScores; Baseball Game
TRANSP:0
DALARM:20100501T000000;PT10M;2;Loser of Game 1 vs. Loser of Game 2
END:VEVENT
BEGIN:VEVENT
DTSTART:20100501T000000
DTEND:20100501T000000
SUMMARY:Winner of Game 1 vs. Winner of Game 2
DESCRIPTION:2010 Baseball - Great Northeast Athletic Conference
LOCATION:Predetermined tournament host site
CATEGORIES:QuickScores; Baseball Game
TRANSP:0
DALARM:20100501T000000;PT10M;2;Winner of Game 1 vs. Winner of Game 2
END:VEVENT
BEGIN:VEVENT
DTSTART:20100501T000000
DTEND:20100501T000000
SUMMARY:Loser of Game 3 vs. Winner of Game 4
DESCRIPTION:2010 Baseball - Great Northeast Athletic Conference
LOCATION:Predetermined tournament host site
CATEGORIES:QuickScores; Baseball Game
TRANSP:0
DALARM:20100501T000000;PT10M;2;Loser of Game 3 vs. Winner of Game 4
END:VEVENT
BEGIN:VEVENT
DTSTART:20100502T000000
DTEND:20100502T000000
SUMMARY:Winner of Game 3 vs. Winner of Game 5
DESCRIPTION:2010 Baseball - Great Northeast Athletic Conference
LOCATION:Predetermined tournament host site
CATEGORIES:QuickScores; Baseball Game
TRANSP:0
DALARM:20100502T000000;PT10M;2;Winner of Game 3 vs. Winner of Game 5
END:VEVENT
BEGIN:VEVENT
DTSTART:20100502T000000
DTEND:20100502T000000
SUMMARY:Winner of Game 6 vs. Loser of Game 6
DESCRIPTION:2010 Baseball - Great Northeast Athletic Conference
LOCATION:Predetermined tournament host site
CATEGORIES:QuickScores; Baseball Game
TRANSP:0
DALARM:20100502T000000;PT10M;2;Winner of Game 6 vs. Loser of Game 6
END:VEVENT
END:VCALENDAR
