BEGIN:VCALENDAR
VERSION:1.0
BEGIN:VEVENT
DTSTART:20070324T000000
DTEND:20070324T000000
SUMMARY:WNEC vs. Norwich
DESCRIPTION:GNAC Baseball - Great Northeast Athletic Conference
LOCATION:Springfield, MA
CATEGORIES:QuickScores; Baseball Game
TRANSP:0
DALARM:20070324T000000;PT10M;2;WNEC vs. Norwich
END:VEVENT
BEGIN:VEVENT
DTSTART:20070324T000000
DTEND:20070324T000000
SUMMARY:Albertus Magnus vs. Emerson
DESCRIPTION:GNAC Baseball - Great Northeast Athletic Conference
LOCATION:New Haven, CT
CATEGORIES:QuickScores; Baseball Game
TRANSP:0
DALARM:20070324T000000;PT10M;2;Albertus Magnus vs. Emerson
END:VEVENT
BEGIN:VEVENT
DTSTART:20070324T000000
DTEND:20070324T000000
SUMMARY:Suffolk vs. Daniel Webster
DESCRIPTION:GNAC Baseball - Great Northeast Athletic Conference
LOCATION:Suffolk
CATEGORIES:QuickScores; Baseball Game
TRANSP:0
DALARM:20070324T000000;PT10M;2;Suffolk vs. Daniel Webster
END:VEVENT
BEGIN:VEVENT
DTSTART:20070325T000000
DTEND:20070325T000000
SUMMARY:WNEC vs. Suffolk
DESCRIPTION:GNAC Baseball - Great Northeast Athletic Conference
LOCATION:Springfield, MA
CATEGORIES:QuickScores; Baseball Game
TRANSP:0
DALARM:20070325T000000;PT10M;2;WNEC vs. Suffolk
END:VEVENT
BEGIN:VEVENT
DTSTART:20070325T000000
DTEND:20070325T000000
SUMMARY:Albertus Magnus vs. Norwich
DESCRIPTION:GNAC Baseball - Great Northeast Athletic Conference
LOCATION:New Haven, CT
CATEGORIES:QuickScores; Baseball Game
TRANSP:0
DALARM:20070325T000000;PT10M;2;Albertus Magnus vs. Norwich
END:VEVENT
BEGIN:VEVENT
DTSTART:20070325T000000
DTEND:20070325T000000
SUMMARY:Johnson & Wales vs. Rivier
DESCRIPTION:GNAC Baseball - Great Northeast Athletic Conference
LOCATION:Providence, RI
CATEGORIES:QuickScores; Baseball Game
TRANSP:0
DALARM:20070325T000000;PT10M;2;Johnson & Wales vs. Rivier
END:VEVENT
BEGIN:VEVENT
DTSTART:20070331T000000
DTEND:20070331T000000
SUMMARY:Norwich vs. Daniel Webster
DESCRIPTION:GNAC Baseball - Great Northeast Athletic Conference
LOCATION:Northfield, VT
CATEGORIES:QuickScores; Baseball Game
TRANSP:0
DALARM:20070331T000000;PT10M;2;Norwich vs. Daniel Webster
END:VEVENT
BEGIN:VEVENT
DTSTART:20070331T000000
DTEND:20070331T000000
SUMMARY:Albertus Magnus vs. WNEC
DESCRIPTION:GNAC Baseball - Great Northeast Athletic Conference
LOCATION:New Haven, CT
CATEGORIES:QuickScores; Baseball Game
TRANSP:0
DALARM:20070331T000000;PT10M;2;Albertus Magnus vs. WNEC
END:VEVENT
BEGIN:VEVENT
DTSTART:20070331T000000
DTEND:20070331T000000
SUMMARY:Johnson & Wales vs. Suffolk
DESCRIPTION:GNAC Baseball - Great Northeast Athletic Conference
LOCATION:Providence, RI
CATEGORIES:QuickScores; Baseball Game
TRANSP:0
DALARM:20070331T000000;PT10M;2;Johnson & Wales vs. Suffolk
END:VEVENT
BEGIN:VEVENT
DTSTART:20070331T000000
DTEND:20070331T000000
SUMMARY:Rivier vs. Emerson
DESCRIPTION:GNAC Baseball - Great Northeast Athletic Conference
LOCATION:Nashua, NH
CATEGORIES:QuickScores; Baseball Game
TRANSP:0
DALARM:20070331T000000;PT10M;2;Rivier vs. Emerson
END:VEVENT
BEGIN:VEVENT
DTSTART:20070401T000000
DTEND:20070401T000000
SUMMARY:Rivier vs. Suffolk
DESCRIPTION:GNAC Baseball - Great Northeast Athletic Conference
LOCATION:Nashua, NH
CATEGORIES:QuickScores; Baseball Game
TRANSP:0
DALARM:20070401T000000;PT10M;2;Rivier vs. Suffolk
END:VEVENT
BEGIN:VEVENT
DTSTART:20070401T000000
DTEND:20070401T000000
SUMMARY:Daniel Webster vs. Johnson & Wales
DESCRIPTION:GNAC Baseball - Great Northeast Athletic Conference
LOCATION:Nashua, NH
CATEGORIES:QuickScores; Baseball Game
TRANSP:0
DALARM:20070401T000000;PT10M;2;Daniel Webster vs. Johnson & Wales
END:VEVENT
BEGIN:VEVENT
DTSTART:20070401T000000
DTEND:20070401T000000
SUMMARY:Emerson vs. Norwich
DESCRIPTION:GNAC Baseball - Great Northeast Athletic Conference
LOCATION:Emerson
CATEGORIES:QuickScores; Baseball Game
TRANSP:0
DALARM:20070401T000000;PT10M;2;Emerson vs. Norwich
END:VEVENT
BEGIN:VEVENT
DTSTART:20070407T000000
DTEND:20070407T000000
SUMMARY:Rivier vs. WNEC
DESCRIPTION:GNAC Baseball - Great Northeast Athletic Conference
LOCATION:Nashua, NH
CATEGORIES:QuickScores; Baseball Game
TRANSP:0
DALARM:20070407T000000;PT10M;2;Rivier vs. WNEC
END:VEVENT
BEGIN:VEVENT
DTSTART:20070407T000000
DTEND:20070407T000000
SUMMARY:Norwich vs. Johnson & Wales
DESCRIPTION:GNAC Baseball - Great Northeast Athletic Conference
LOCATION:Northfield, VT
CATEGORIES:QuickScores; Baseball Game
TRANSP:0
DALARM:20070407T000000;PT10M;2;Norwich vs. Johnson & Wales
END:VEVENT
BEGIN:VEVENT
DTSTART:20070407T000000
DTEND:20070407T000000
SUMMARY:Daniel Webster vs. Emerson
DESCRIPTION:GNAC Baseball - Great Northeast Athletic Conference
LOCATION:Daniel Webster
CATEGORIES:QuickScores; Baseball Game
TRANSP:0
DALARM:20070407T000000;PT10M;2;Daniel Webster vs. Emerson
END:VEVENT
BEGIN:VEVENT
DTSTART:20070414T000000
DTEND:20070414T000000
SUMMARY:Johnson & Wales vs. WNEC
DESCRIPTION:GNAC Baseball - Great Northeast Athletic Conference
LOCATION:Providence, RI
CATEGORIES:QuickScores; Baseball Game
TRANSP:0
DALARM:20070414T000000;PT10M;2;Johnson & Wales vs. WNEC
END:VEVENT
BEGIN:VEVENT
DTSTART:20070414T000000
DTEND:20070414T000000
SUMMARY:Suffolk vs. Norwich
DESCRIPTION:GNAC Baseball - Great Northeast Athletic Conference
LOCATION:Suffolk
CATEGORIES:QuickScores; Baseball Game
TRANSP:0
DALARM:20070414T000000;PT10M;2;Suffolk vs. Norwich
END:VEVENT
BEGIN:VEVENT
DTSTART:20070414T000000
DTEND:20070414T000000
SUMMARY:Albertus Magnus vs. Daniel Webster
DESCRIPTION:GNAC Baseball - Great Northeast Athletic Conference
LOCATION:New Haven, CT
CATEGORIES:QuickScores; Baseball Game
TRANSP:0
DALARM:20070414T000000;PT10M;2;Albertus Magnus vs. Daniel Webster
END:VEVENT
BEGIN:VEVENT
DTSTART:20070415T000000
DTEND:20070415T000000
SUMMARY:Rivier vs. Albertus Magnus
DESCRIPTION:GNAC Baseball - Great Northeast Athletic Conference
LOCATION:Nashua, NH
CATEGORIES:QuickScores; Baseball Game
TRANSP:0
DALARM:20070415T000000;PT10M;2;Rivier vs. Albertus Magnus
END:VEVENT
BEGIN:VEVENT
DTSTART:20070415T000000
DTEND:20070415T000000
SUMMARY:WNEC vs. Daniel Webster
DESCRIPTION:GNAC Baseball - Great Northeast Athletic Conference
LOCATION:Springfield, MA
CATEGORIES:QuickScores; Baseball Game
TRANSP:0
DALARM:20070415T000000;PT10M;2;WNEC vs. Daniel Webster
END:VEVENT
BEGIN:VEVENT
DTSTART:20070415T000000
DTEND:20070415T000000
SUMMARY:Emerson vs. Suffolk
DESCRIPTION:GNAC Baseball - Great Northeast Athletic Conference
LOCATION:Emerson
CATEGORIES:QuickScores; Baseball Game
TRANSP:0
DALARM:20070415T000000;PT10M;2;Emerson vs. Suffolk
END:VEVENT
BEGIN:VEVENT
DTSTART:20070421T000000
DTEND:20070421T000000
SUMMARY:Norwich vs. Rivier
DESCRIPTION:GNAC Baseball - Great Northeast Athletic Conference
LOCATION:Northfield, VT
CATEGORIES:QuickScores; Baseball Game
TRANSP:0
DALARM:20070421T000000;PT10M;2;Norwich vs. Rivier
END:VEVENT
BEGIN:VEVENT
DTSTART:20070421T000000
DTEND:20070421T000000
SUMMARY:WNEC vs. Emerson
DESCRIPTION:GNAC Baseball - Great Northeast Athletic Conference
LOCATION:Springfield, MA
CATEGORIES:QuickScores; Baseball Game
TRANSP:0
DALARM:20070421T000000;PT10M;2;WNEC vs. Emerson
END:VEVENT
BEGIN:VEVENT
DTSTART:20070421T000000
DTEND:20070421T000000
SUMMARY:Albertus Magnus vs. Johnson & Wales
DESCRIPTION:GNAC Baseball - Great Northeast Athletic Conference
LOCATION:New Haven, CT
CATEGORIES:QuickScores; Baseball Game
TRANSP:0
DALARM:20070421T000000;PT10M;2;Albertus Magnus vs. Johnson & Wales
END:VEVENT
BEGIN:VEVENT
DTSTART:20070422T000000
DTEND:20070422T000000
SUMMARY:Daniel Webster vs. Rivier
DESCRIPTION:GNAC Baseball - Great Northeast Athletic Conference
LOCATION:Daniel Webster
CATEGORIES:QuickScores; Baseball Game
TRANSP:0
DALARM:20070422T000000;PT10M;2;Daniel Webster vs. Rivier
END:VEVENT
BEGIN:VEVENT
DTSTART:20070422T000000
DTEND:20070422T000000
SUMMARY:Suffolk vs. Albertus Magnus
DESCRIPTION:GNAC Baseball - Great Northeast Athletic Conference
LOCATION:Suffolk
CATEGORIES:QuickScores; Baseball Game
TRANSP:0
DALARM:20070422T000000;PT10M;2;Suffolk vs. Albertus Magnus
END:VEVENT
BEGIN:VEVENT
DTSTART:20070422T000000
DTEND:20070422T000000
SUMMARY:Emerson vs. Johnson & Wales
DESCRIPTION:GNAC Baseball - Great Northeast Athletic Conference
LOCATION:Emerson
CATEGORIES:QuickScores; Baseball Game
TRANSP:0
DALARM:20070422T000000;PT10M;2;Emerson vs. Johnson & Wales
END:VEVENT
BEGIN:VEVENT
DTSTART:20070426T000000
DTEND:20070426T000000
SUMMARY:TBD vs. TBD
DESCRIPTION:GNAC Baseball - Great Northeast Athletic Conference
LOCATION:Field of #4 seed
CATEGORIES:QuickScores; Baseball Game
TRANSP:0
DALARM:20070426T000000;PT10M;2;TBD vs. TBD
END:VEVENT
BEGIN:VEVENT
DTSTART:20070426T000000
DTEND:20070426T000000
SUMMARY:TBD vs. TBD
DESCRIPTION:GNAC Baseball - Great Northeast Athletic Conference
LOCATION:Field of #3 seed
CATEGORIES:QuickScores; Baseball Game
TRANSP:0
DALARM:20070426T000000;PT10M;2;TBD vs. TBD
END:VEVENT
BEGIN:VEVENT
DTSTART:20070427T000000
DTEND:20070427T000000
SUMMARY:TBD vs. TBD
DESCRIPTION:GNAC Baseball - Great Northeast Athletic Conference
CATEGORIES:QuickScores; Baseball Game
TRANSP:0
DALARM:20070427T000000;PT10M;2;TBD vs. TBD
END:VEVENT
BEGIN:VEVENT
DTSTART:20070427T000000
DTEND:20070427T000000
SUMMARY:TBD vs. TBD
DESCRIPTION:GNAC Baseball - Great Northeast Athletic Conference
CATEGORIES:QuickScores; Baseball Game
TRANSP:0
DALARM:20070427T000000;PT10M;2;TBD vs. TBD
END:VEVENT
BEGIN:VEVENT
DTSTART:20070428T000000
DTEND:20070428T000000
SUMMARY:TBD vs. TBD
DESCRIPTION:GNAC Baseball - Great Northeast Athletic Conference
CATEGORIES:QuickScores; Baseball Game
TRANSP:0
DALARM:20070428T000000;PT10M;2;TBD vs. TBD
END:VEVENT
END:VCALENDAR
