BEGIN:VCALENDAR
VERSION:1.0
BEGIN:VEVENT
DTSTART:20160409T000000
DTEND:20160409T000000
SUMMARY:Ramapo vs. Albertus Magnus
DESCRIPTION:2016 Men's Tennis - Great Northeast Athletic Conference
LOCATION:Ramapo
CATEGORIES:QuickScores; Tennis Game
TRANSP:0
DALARM:20160409T000000;PT10M;2;Ramapo vs. Albertus Magnus
END:VEVENT
BEGIN:VEVENT
DTSTART:20160409T000000
DTEND:20160409T000000
SUMMARY:Johnson & Wales vs. Norwich
DESCRIPTION:2016 Men's Tennis - Great Northeast Athletic Conference
LOCATION:Johnson & Wales
CATEGORIES:QuickScores; Tennis Game
TRANSP:0
DALARM:20160409T000000;PT10M;2;Johnson & Wales vs. Norwich
END:VEVENT
BEGIN:VEVENT
DTSTART:20160409T000000
DTEND:20160409T000000
SUMMARY:Rutgers Camden vs. Rutgers Newark
DESCRIPTION:2016 Men's Tennis - Great Northeast Athletic Conference
LOCATION:Camden NJ
CATEGORIES:QuickScores; Tennis Game
TRANSP:0
DALARM:20160409T000000;PT10M;2;Rutgers Camden vs. Rutgers Newark
END:VEVENT
BEGIN:VEVENT
DTSTART:20160416T000000
DTEND:20160416T000000
SUMMARY:Rutgers Newark vs. Ramapo
DESCRIPTION:2016 Men's Tennis - Great Northeast Athletic Conference
LOCATION:Rutgers Newark
CATEGORIES:QuickScores; Tennis Game
TRANSP:0
DALARM:20160416T000000;PT10M;2;Rutgers Newark vs. Ramapo
END:VEVENT
BEGIN:VEVENT
DTSTART:20160416T000000
DTEND:20160416T000000
SUMMARY:Johnson & Wales vs. Suffolk
DESCRIPTION:2016 Men's Tennis - Great Northeast Athletic Conference
LOCATION:Johnson & Wales
CATEGORIES:QuickScores; Tennis Game
TRANSP:0
DALARM:20160416T000000;PT10M;2;Johnson & Wales vs. Suffolk
END:VEVENT
BEGIN:VEVENT
DTSTART:20160416T000000
DTEND:20160416T000000
SUMMARY:Rutgers Camden vs. Albertus Magnus
DESCRIPTION:2016 Men's Tennis - Great Northeast Athletic Conference
LOCATION:Camden NJ
CATEGORIES:QuickScores; Tennis Game
TRANSP:0
DALARM:20160416T000000;PT10M;2;Rutgers Camden vs. Albertus Magnus
END:VEVENT
BEGIN:VEVENT
DTSTART:20160423T000000
DTEND:20160423T000000
SUMMARY:Albertus Magnus vs. Rutgers Newark
DESCRIPTION:2016 Men's Tennis - Great Northeast Athletic Conference
LOCATION:New Haven, CT
CATEGORIES:QuickScores; Tennis Game
TRANSP:0
DALARM:20160423T000000;PT10M;2;Albertus Magnus vs. Rutgers Newark
END:VEVENT
BEGIN:VEVENT
DTSTART:20160423T000000
DTEND:20160423T000000
SUMMARY:Norwich vs. Suffolk
DESCRIPTION:2016 Men's Tennis - Great Northeast Athletic Conference
LOCATION:Northfield, VT
CATEGORIES:QuickScores; Tennis Game
TRANSP:0
DALARM:20160423T000000;PT10M;2;Norwich vs. Suffolk
END:VEVENT
BEGIN:VEVENT
DTSTART:20160423T000000
DTEND:20160423T000000
SUMMARY:Ramapo vs. Rutgers Camden
DESCRIPTION:2016 Men's Tennis - Great Northeast Athletic Conference
LOCATION:Ramapo
CATEGORIES:QuickScores; Tennis Game
TRANSP:0
DALARM:20160423T000000;PT10M;2;Ramapo vs. Rutgers Camden
END:VEVENT
BEGIN:VEVENT
DTSTART:20160507T000000
DTEND:20160507T000000
SUMMARY:Winner of Game 1 vs. Winner of Game 2
DESCRIPTION:2016 Men's Tennis - Great Northeast Athletic Conference
LOCATION:Court of # 1 South Seed
CATEGORIES:QuickScores; Tennis Game
TRANSP:0
DALARM:20160507T000000;PT10M;2;Winner of Game 1 vs. Winner of Game 2
END:VEVENT
END:VCALENDAR
