BEGIN:VCALENDAR
VERSION:1.0
BEGIN:VEVENT
DTSTART:20160105T000000
DTEND:20160105T000000
SUMMARY:Emmanuel vs. Norwich
DESCRIPTION:2016 DH w MBB --- 2015-2016 WBB - Great Northeast Athletic Conference
LOCATION:Jean Yawkey Center
CATEGORIES:QuickScores; Basketball Game
TRANSP:0
DALARM:20160105T000000;PT10M;2;Emmanuel vs. Norwich
END:VEVENT
BEGIN:VEVENT
DTSTART:20160105T000000
DTEND:20160105T000000
SUMMARY:Albertus Magnus vs. Johnson & Wales
DESCRIPTION:2015-2016 WBB - Great Northeast Athletic Conference
LOCATION:New Haven, CT
CATEGORIES:QuickScores; Basketball Game
TRANSP:0
DALARM:20160105T000000;PT10M;2;Albertus Magnus vs. Johnson & Wales
END:VEVENT
BEGIN:VEVENT
DTSTART:20160105T000000
DTEND:20160105T000000
SUMMARY:Rivier vs. Mount Ida
DESCRIPTION:2016 DH w MBB --- 2015-2016 WBB - Great Northeast Athletic Conference
LOCATION:Nashua, NH
CATEGORIES:QuickScores; Basketball Game
TRANSP:0
DALARM:20160105T000000;PT10M;2;Rivier vs. Mount Ida
END:VEVENT
BEGIN:VEVENT
DTSTART:20160109T000000
DTEND:20160109T000000
SUMMARY:Mount Ida vs. Anna Maria
DESCRIPTION:2015-2016 WBB - Great Northeast Athletic Conference
LOCATION:Mount Ida
CATEGORIES:QuickScores; Basketball Game
TRANSP:0
DALARM:20160109T000000;PT10M;2;Mount Ida vs. Anna Maria
END:VEVENT
BEGIN:VEVENT
DTSTART:20160109T000000
DTEND:20160109T000000
SUMMARY:Lasell vs. Emmanuel
DESCRIPTION:2015-2016 WBB - Great Northeast Athletic Conference
LOCATION:Lasell Newton
CATEGORIES:QuickScores; Basketball Game
TRANSP:0
DALARM:20160109T000000;PT10M;2;Lasell vs. Emmanuel
END:VEVENT
BEGIN:VEVENT
DTSTART:20160109T000000
DTEND:20160109T000000
SUMMARY:Saint Joseph's ME vs. Albertus Magnus
DESCRIPTION:2016 DH w MBB --- 2015-2016 WBB - Great Northeast Athletic Conference
LOCATION:Standish ME
CATEGORIES:QuickScores; Basketball Game
TRANSP:0
DALARM:20160109T000000;PT10M;2;Saint Joseph's ME vs. Albertus Magnus
END:VEVENT
BEGIN:VEVENT
DTSTART:20160109T000000
DTEND:20160109T000000
SUMMARY:Johnson & Wales vs. Norwich
DESCRIPTION:2016 DH w MBB --- 2015-2016 WBB - Great Northeast Athletic Conference
LOCATION:Harborside Athletic Center
CATEGORIES:QuickScores; Basketball Game
TRANSP:0
DALARM:20160109T000000;PT10M;2;Johnson & Wales vs. Norwich
END:VEVENT
BEGIN:VEVENT
DTSTART:20160109T000000
DTEND:20160109T000000
SUMMARY:Rivier vs. Saint Joseph CT
DESCRIPTION:2015-2016 WBB - Great Northeast Athletic Conference
LOCATION:Nashua, NH
CATEGORIES:QuickScores; Basketball Game
TRANSP:0
DALARM:20160109T000000;PT10M;2;Rivier vs. Saint Joseph CT
END:VEVENT
BEGIN:VEVENT
DTSTART:20160109T000000
DTEND:20160109T000000
SUMMARY:Simmons vs. Suffolk
DESCRIPTION:2015-2016 WBB - Great Northeast Athletic Conference
LOCATION:Holmes Sports Center
CATEGORIES:QuickScores; Basketball Game
TRANSP:0
DALARM:20160109T000000;PT10M;2;Simmons vs. Suffolk
END:VEVENT
BEGIN:VEVENT
DTSTART:20160112T000000
DTEND:20160112T000000
SUMMARY:Johnson & Wales vs. Mount Ida
DESCRIPTION:2015-2016 WBB - Great Northeast Athletic Conference
LOCATION:Harborside Athletic Center
CATEGORIES:QuickScores; Basketball Game
TRANSP:0
DALARM:20160112T000000;PT10M;2;Johnson & Wales vs. Mount Ida
END:VEVENT
BEGIN:VEVENT
DTSTART:20160112T000000
DTEND:20160112T000000
SUMMARY:Anna Maria vs. Lasell
DESCRIPTION:2015-2016 WBB - Great Northeast Athletic Conference
LOCATION:Paxton MA
CATEGORIES:QuickScores; Basketball Game
TRANSP:0
DALARM:20160112T000000;PT10M;2;Anna Maria vs. Lasell
END:VEVENT
BEGIN:VEVENT
DTSTART:20160112T000000
DTEND:20160112T000000
SUMMARY:Norwich vs. Simmons
DESCRIPTION:2015-2016 WBB - Great Northeast Athletic Conference
LOCATION:Northfield, VT
CATEGORIES:QuickScores; Basketball Game
TRANSP:0
DALARM:20160112T000000;PT10M;2;Norwich vs. Simmons
END:VEVENT
BEGIN:VEVENT
DTSTART:20160112T000000
DTEND:20160112T000000
SUMMARY:Albertus Magnus vs. Saint Joseph CT
DESCRIPTION:2015-2016 WBB - Great Northeast Athletic Conference
LOCATION:New Haven, CT
CATEGORIES:QuickScores; Basketball Game
TRANSP:0
DALARM:20160112T000000;PT10M;2;Albertus Magnus vs. Saint Joseph CT
END:VEVENT
BEGIN:VEVENT
DTSTART:20160116T000000
DTEND:20160116T000000
SUMMARY:Norwich vs. Anna Maria
DESCRIPTION:2016 DH w MBB --- 2015-2016 WBB - Great Northeast Athletic Conference
LOCATION:Northfield, VT
CATEGORIES:QuickScores; Basketball Game
TRANSP:0
DALARM:20160116T000000;PT10M;2;Norwich vs. Anna Maria
END:VEVENT
BEGIN:VEVENT
DTSTART:20160116T000000
DTEND:20160116T000000
SUMMARY:Albertus Magnus vs. Mount Ida
DESCRIPTION:2016 DH w MBB --- 2015-2016 WBB - Great Northeast Athletic Conference
LOCATION:New Haven, CT
CATEGORIES:QuickScores; Basketball Game
TRANSP:0
DALARM:20160116T000000;PT10M;2;Albertus Magnus vs. Mount Ida
END:VEVENT
BEGIN:VEVENT
DTSTART:20160116T000000
DTEND:20160116T000000
SUMMARY:Lasell vs. Saint Joseph's ME
DESCRIPTION:2016 DH w MBB --- 2015-2016 WBB - Great Northeast Athletic Conference
LOCATION:Lasell Newton
CATEGORIES:QuickScores; Basketball Game
TRANSP:0
DALARM:20160116T000000;PT10M;2;Lasell vs. Saint Joseph's ME
END:VEVENT
BEGIN:VEVENT
DTSTART:20160116T000000
DTEND:20160116T000000
SUMMARY:Rivier vs. Simmons
DESCRIPTION:2015-2016 WBB - Great Northeast Athletic Conference
LOCATION:Nashua, NH
CATEGORIES:QuickScores; Basketball Game
TRANSP:0
DALARM:20160116T000000;PT10M;2;Rivier vs. Simmons
END:VEVENT
BEGIN:VEVENT
DTSTART:20160116T000000
DTEND:20160116T000000
SUMMARY:Suffolk vs. Emmanuel
DESCRIPTION:2015-2016 WBB - Great Northeast Athletic Conference
LOCATION:Suffolk
CATEGORIES:QuickScores; Basketball Game
TRANSP:0
DALARM:20160116T000000;PT10M;2;Suffolk vs. Emmanuel
END:VEVENT
BEGIN:VEVENT
DTSTART:20160116T000000
DTEND:20160116T000000
SUMMARY:Saint Joseph CT vs. Johnson & Wales
DESCRIPTION:2015-2016 WBB - Great Northeast Athletic Conference
LOCATION:W. Hartford, CT
CATEGORIES:QuickScores; Basketball Game
TRANSP:0
DALARM:20160116T000000;PT10M;2;Saint Joseph CT vs. Johnson & Wales
END:VEVENT
BEGIN:VEVENT
DTSTART:20160118T000000
DTEND:20160118T000000
SUMMARY:Simmons vs. Saint Joseph CT
DESCRIPTION:MLK Day --- 2015-2016 WBB - Great Northeast Athletic Conference
LOCATION:Holmes Sports Center
CATEGORIES:QuickScores; Basketball Game
TRANSP:0
DALARM:20160118T000000;PT10M;2;Simmons vs. Saint Joseph CT
END:VEVENT
BEGIN:VEVENT
DTSTART:20160118T000000
DTEND:20160118T000000
SUMMARY:Mount Ida vs. Emmanuel
DESCRIPTION:MLK Day --- 2015-2016 WBB - Great Northeast Athletic Conference
LOCATION:Mount Ida
CATEGORIES:QuickScores; Basketball Game
TRANSP:0
DALARM:20160118T000000;PT10M;2;Mount Ida vs. Emmanuel
END:VEVENT
BEGIN:VEVENT
DTSTART:20160118T000000
DTEND:20160118T000000
SUMMARY:Albertus Magnus vs. Rivier
DESCRIPTION:MLK Day. 2016 DH w MBB. --- 2015-2016 WBB - Great Northeast Athletic Conference
LOCATION:New Haven, CT
CATEGORIES:QuickScores; Basketball Game
TRANSP:0
DALARM:20160118T000000;PT10M;2;Albertus Magnus vs. Rivier
END:VEVENT
BEGIN:VEVENT
DTSTART:20160118T000000
DTEND:20160118T000000
SUMMARY:Lasell vs. Norwich
DESCRIPTION:MLK Day. 2016 DH w MBB. --- 2015-2016 WBB - Great Northeast Athletic Conference
LOCATION:Lasell Newton
CATEGORIES:QuickScores; Basketball Game
TRANSP:0
DALARM:20160118T000000;PT10M;2;Lasell vs. Norwich
END:VEVENT
BEGIN:VEVENT
DTSTART:20160118T000000
DTEND:20160118T000000
SUMMARY:Anna Maria vs. Johnson & Wales
DESCRIPTION:MLK Day --- 2015-2016 WBB - Great Northeast Athletic Conference
LOCATION:Paxton MA
CATEGORIES:QuickScores; Basketball Game
TRANSP:0
DALARM:20160118T000000;PT10M;2;Anna Maria vs. Johnson & Wales
END:VEVENT
BEGIN:VEVENT
DTSTART:20160118T000000
DTEND:20160118T000000
SUMMARY:Saint Joseph's ME vs. Suffolk
DESCRIPTION:MLK Day. 2016 DH w MBB. --- 2015-2016 WBB - Great Northeast Athletic Conference
LOCATION:Standish ME
CATEGORIES:QuickScores; Basketball Game
TRANSP:0
DALARM:20160118T000000;PT10M;2;Saint Joseph's ME vs. Suffolk
END:VEVENT
BEGIN:VEVENT
DTSTART:20160123T000000
DTEND:20160123T000000
SUMMARY:Johnson & Wales vs. Saint Joseph's ME
DESCRIPTION:2016 DH w MBB --- 2015-2016 WBB - Great Northeast Athletic Conference
LOCATION:Harborside Athletic Center
CATEGORIES:QuickScores; Basketball Game
TRANSP:0
DALARM:20160123T000000;PT10M;2;Johnson & Wales vs. Saint Joseph's ME
END:VEVENT
BEGIN:VEVENT
DTSTART:20160123T000000
DTEND:20160123T000000
SUMMARY:Emmanuel vs. Rivier
DESCRIPTION:2015-2016 WBB - Great Northeast Athletic Conference
LOCATION:Jean Yawkey Center
CATEGORIES:QuickScores; Basketball Game
TRANSP:0
DALARM:20160123T000000;PT10M;2;Emmanuel vs. Rivier
END:VEVENT
BEGIN:VEVENT
DTSTART:20160123T000000
DTEND:20160123T000000
SUMMARY:Anna Maria vs. Saint Joseph CT
DESCRIPTION:2015-2016 WBB - Great Northeast Athletic Conference
LOCATION:Paxton MA
CATEGORIES:QuickScores; Basketball Game
TRANSP:0
DALARM:20160123T000000;PT10M;2;Anna Maria vs. Saint Joseph CT
END:VEVENT
BEGIN:VEVENT
DTSTART:20160123T000000
DTEND:20160123T000000
SUMMARY:Mount Ida vs. Simmons
DESCRIPTION:2015-2016 WBB - Great Northeast Athletic Conference
LOCATION:Mount Ida
CATEGORIES:QuickScores; Basketball Game
TRANSP:0
DALARM:20160123T000000;PT10M;2;Mount Ida vs. Simmons
END:VEVENT
BEGIN:VEVENT
DTSTART:20160123T000000
DTEND:20160123T000000
SUMMARY:Norwich vs. Albertus Magnus
DESCRIPTION:2016 DH w MBB --- 2015-2016 WBB - Great Northeast Athletic Conference
LOCATION:Northfield, VT
CATEGORIES:QuickScores; Basketball Game
TRANSP:0
DALARM:20160123T000000;PT10M;2;Norwich vs. Albertus Magnus
END:VEVENT
BEGIN:VEVENT
DTSTART:20160123T000000
DTEND:20160123T000000
SUMMARY:Suffolk vs. Lasell
DESCRIPTION:2015-2016 WBB - Great Northeast Athletic Conference
LOCATION:Suffolk
CATEGORIES:QuickScores; Basketball Game
TRANSP:0
DALARM:20160123T000000;PT10M;2;Suffolk vs. Lasell
END:VEVENT
BEGIN:VEVENT
DTSTART:20160128T000000
DTEND:20160128T000000
SUMMARY:Suffolk vs. Anna Maria
DESCRIPTION:2015-2016 WBB - Great Northeast Athletic Conference
LOCATION:Suffolk
CATEGORIES:QuickScores; Basketball Game
TRANSP:0
DALARM:20160128T000000;PT10M;2;Suffolk vs. Anna Maria
END:VEVENT
BEGIN:VEVENT
DTSTART:20160128T000000
DTEND:20160128T000000
SUMMARY:Emmanuel vs. Johnson & Wales
DESCRIPTION:2015-2016 WBB - Great Northeast Athletic Conference
LOCATION:Jean Yawkey Center
CATEGORIES:QuickScores; Basketball Game
TRANSP:0
DALARM:20160128T000000;PT10M;2;Emmanuel vs. Johnson & Wales
END:VEVENT
BEGIN:VEVENT
DTSTART:20160128T000000
DTEND:20160128T000000
SUMMARY:Lasell vs. Simmons
DESCRIPTION:2015-2016 WBB - Great Northeast Athletic Conference
LOCATION:Lasell Newton
CATEGORIES:QuickScores; Basketball Game
TRANSP:0
DALARM:20160128T000000;PT10M;2;Lasell vs. Simmons
END:VEVENT
BEGIN:VEVENT
DTSTART:20160128T000000
DTEND:20160128T000000
SUMMARY:Saint Joseph CT vs. Norwich
DESCRIPTION:2015-2016 WBB - Great Northeast Athletic Conference
LOCATION:W. Hartford, CT
CATEGORIES:QuickScores; Basketball Game
TRANSP:0
DALARM:20160128T000000;PT10M;2;Saint Joseph CT vs. Norwich
END:VEVENT
BEGIN:VEVENT
DTSTART:20160130T000000
DTEND:20160130T000000
SUMMARY:Simmons vs. Albertus Magnus
DESCRIPTION:2015-2016 WBB - Great Northeast Athletic Conference
LOCATION:Holmes Sports Center
CATEGORIES:QuickScores; Basketball Game
TRANSP:0
DALARM:20160130T000000;PT10M;2;Simmons vs. Albertus Magnus
END:VEVENT
BEGIN:VEVENT
DTSTART:20160130T000000
DTEND:20160130T000000
SUMMARY:Saint Joseph's ME vs. Saint Joseph CT
DESCRIPTION:2015-2016 WBB - Great Northeast Athletic Conference
LOCATION:Standish ME
CATEGORIES:QuickScores; Basketball Game
TRANSP:0
DALARM:20160130T000000;PT10M;2;Saint Joseph's ME vs. Saint Joseph CT
END:VEVENT
BEGIN:VEVENT
DTSTART:20160130T000000
DTEND:20160130T000000
SUMMARY:Norwich vs. Mount Ida
DESCRIPTION:2016 DH w MBB --- 2015-2016 WBB - Great Northeast Athletic Conference
LOCATION:Northfield, VT
CATEGORIES:QuickScores; Basketball Game
TRANSP:0
DALARM:20160130T000000;PT10M;2;Norwich vs. Mount Ida
END:VEVENT
BEGIN:VEVENT
DTSTART:20160130T000000
DTEND:20160130T000000
SUMMARY:Anna Maria vs. Emmanuel
DESCRIPTION:2015-2016 WBB - Great Northeast Athletic Conference
LOCATION:Paxton MA
CATEGORIES:QuickScores; Basketball Game
TRANSP:0
DALARM:20160130T000000;PT10M;2;Anna Maria vs. Emmanuel
END:VEVENT
BEGIN:VEVENT
DTSTART:20160130T000000
DTEND:20160130T000000
SUMMARY:Rivier vs. Lasell
DESCRIPTION:2016 DH w MBB --- 2015-2016 WBB - Great Northeast Athletic Conference
LOCATION:Nashua, NH
CATEGORIES:QuickScores; Basketball Game
TRANSP:0
DALARM:20160130T000000;PT10M;2;Rivier vs. Lasell
END:VEVENT
BEGIN:VEVENT
DTSTART:20160130T000000
DTEND:20160130T000000
SUMMARY:Johnson & Wales vs. Suffolk
DESCRIPTION:2015-2016 WBB - Great Northeast Athletic Conference
LOCATION:Harborside Athletic Center
CATEGORIES:QuickScores; Basketball Game
TRANSP:0
DALARM:20160130T000000;PT10M;2;Johnson & Wales vs. Suffolk
END:VEVENT
BEGIN:VEVENT
DTSTART:20160202T000000
DTEND:20160202T000000
SUMMARY:Albertus Magnus vs. Anna Maria
DESCRIPTION:2015-2016 WBB - Great Northeast Athletic Conference
LOCATION:New Haven, CT
CATEGORIES:QuickScores; Basketball Game
TRANSP:0
DALARM:20160202T000000;PT10M;2;Albertus Magnus vs. Anna Maria
END:VEVENT
BEGIN:VEVENT
DTSTART:20160202T000000
DTEND:20160202T000000
SUMMARY:Mount Ida vs. Lasell
DESCRIPTION:2015-2016 WBB - Great Northeast Athletic Conference
LOCATION:Mount Ida
CATEGORIES:QuickScores; Basketball Game
TRANSP:0
DALARM:20160202T000000;PT10M;2;Mount Ida vs. Lasell
END:VEVENT
BEGIN:VEVENT
DTSTART:20160202T000000
DTEND:20160202T000000
SUMMARY:Saint Joseph's ME vs. Rivier
DESCRIPTION:2015-2016 WBB - Great Northeast Athletic Conference
LOCATION:Standish ME
CATEGORIES:QuickScores; Basketball Game
TRANSP:0
DALARM:20160202T000000;PT10M;2;Saint Joseph's ME vs. Rivier
END:VEVENT
BEGIN:VEVENT
DTSTART:20160206T000000
DTEND:20160206T000000
SUMMARY:Anna Maria vs. Simmons
DESCRIPTION:2015-2016 WBB - Great Northeast Athletic Conference
LOCATION:Paxton MA
CATEGORIES:QuickScores; Basketball Game
TRANSP:0
DALARM:20160206T000000;PT10M;2;Anna Maria vs. Simmons
END:VEVENT
BEGIN:VEVENT
DTSTART:20160206T000000
DTEND:20160206T000000
SUMMARY:Rivier vs. Johnson & Wales
DESCRIPTION:2015-2016 WBB - Great Northeast Athletic Conference
LOCATION:Nashua, NH
CATEGORIES:QuickScores; Basketball Game
TRANSP:0
DALARM:20160206T000000;PT10M;2;Rivier vs. Johnson & Wales
END:VEVENT
BEGIN:VEVENT
DTSTART:20160206T000000
DTEND:20160206T000000
SUMMARY:Suffolk vs. Norwich
DESCRIPTION:2016 DH w MBB --- 2015-2016 WBB - Great Northeast Athletic Conference
LOCATION:Suffolk
CATEGORIES:QuickScores; Basketball Game
TRANSP:0
DALARM:20160206T000000;PT10M;2;Suffolk vs. Norwich
END:VEVENT
BEGIN:VEVENT
DTSTART:20160206T000000
DTEND:20160206T000000
SUMMARY:Saint Joseph's ME vs. Mount Ida
DESCRIPTION:2016 DH w MBB --- 2015-2016 WBB - Great Northeast Athletic Conference
LOCATION:Standish ME
CATEGORIES:QuickScores; Basketball Game
TRANSP:0
DALARM:20160206T000000;PT10M;2;Saint Joseph's ME vs. Mount Ida
END:VEVENT
BEGIN:VEVENT
DTSTART:20160206T000000
DTEND:20160206T000000
SUMMARY:Saint Joseph CT vs. Emmanuel
DESCRIPTION:2015-2016 WBB - Great Northeast Athletic Conference
LOCATION:W. Hartford, CT
CATEGORIES:QuickScores; Basketball Game
TRANSP:0
DALARM:20160206T000000;PT10M;2;Saint Joseph CT vs. Emmanuel
END:VEVENT
BEGIN:VEVENT
DTSTART:20160206T000000
DTEND:20160206T000000
SUMMARY:Lasell vs. Albertus Magnus
DESCRIPTION:2016 DH w MBB --- 2015-2016 WBB - Great Northeast Athletic Conference
LOCATION:Lasell Newton
CATEGORIES:QuickScores; Basketball Game
TRANSP:0
DALARM:20160206T000000;PT10M;2;Lasell vs. Albertus Magnus
END:VEVENT
BEGIN:VEVENT
DTSTART:20160209T000000
DTEND:20160209T000000
SUMMARY:Emmanuel vs. Saint Joseph's ME
DESCRIPTION:2015-2016 WBB - Great Northeast Athletic Conference
LOCATION:Jean Yawkey Center
CATEGORIES:QuickScores; Basketball Game
TRANSP:0
DALARM:20160209T000000;PT10M;2;Emmanuel vs. Saint Joseph's ME
END:VEVENT
BEGIN:VEVENT
DTSTART:20160209T000000
DTEND:20160209T000000
SUMMARY:Suffolk vs. Rivier
DESCRIPTION:2015-2016 WBB - Great Northeast Athletic Conference
LOCATION:Suffolk
CATEGORIES:QuickScores; Basketball Game
TRANSP:0
DALARM:20160209T000000;PT10M;2;Suffolk vs. Rivier
END:VEVENT
BEGIN:VEVENT
DTSTART:20160213T000000
DTEND:20160213T000000
SUMMARY:Suffolk vs. Albertus Magnus
DESCRIPTION:2015-2016 WBB - Great Northeast Athletic Conference
LOCATION:Suffolk
CATEGORIES:QuickScores; Basketball Game
TRANSP:0
DALARM:20160213T000000;PT10M;2;Suffolk vs. Albertus Magnus
END:VEVENT
BEGIN:VEVENT
DTSTART:20160213T000000
DTEND:20160213T000000
SUMMARY:Emmanuel vs. Simmons
DESCRIPTION:2015-2016 WBB - Great Northeast Athletic Conference
LOCATION:Jean Yawkey Center
CATEGORIES:QuickScores; Basketball Game
TRANSP:0
DALARM:20160213T000000;PT10M;2;Emmanuel vs. Simmons
END:VEVENT
BEGIN:VEVENT
DTSTART:20160213T000000
DTEND:20160213T000000
SUMMARY:Rivier vs. Anna Maria
DESCRIPTION:2015-2016 WBB - Great Northeast Athletic Conference
LOCATION:Nashua, NH
CATEGORIES:QuickScores; Basketball Game
TRANSP:0
DALARM:20160213T000000;PT10M;2;Rivier vs. Anna Maria
END:VEVENT
BEGIN:VEVENT
DTSTART:20160213T000000
DTEND:20160213T000000
SUMMARY:Saint Joseph's ME vs. Norwich
DESCRIPTION:2016 DH w MBB --- 2015-2016 WBB - Great Northeast Athletic Conference
LOCATION:Standish ME
CATEGORIES:QuickScores; Basketball Game
TRANSP:0
DALARM:20160213T000000;PT10M;2;Saint Joseph's ME vs. Norwich
END:VEVENT
BEGIN:VEVENT
DTSTART:20160213T000000
DTEND:20160213T000000
SUMMARY:Johnson & Wales vs. Lasell
DESCRIPTION:2015-2016 WBB - Great Northeast Athletic Conference
LOCATION:Harborside Athletic Center
CATEGORIES:QuickScores; Basketball Game
TRANSP:0
DALARM:20160213T000000;PT10M;2;Johnson & Wales vs. Lasell
END:VEVENT
BEGIN:VEVENT
DTSTART:20160213T000000
DTEND:20160213T000000
SUMMARY:Saint Joseph CT vs. Mount Ida
DESCRIPTION:2015-2016 WBB - Great Northeast Athletic Conference
LOCATION:W. Hartford, CT
CATEGORIES:QuickScores; Basketball Game
TRANSP:0
DALARM:20160213T000000;PT10M;2;Saint Joseph CT vs. Mount Ida
END:VEVENT
BEGIN:VEVENT
DTSTART:20160216T000000
DTEND:20160216T000000
SUMMARY:Simmons vs. Saint Joseph's ME
DESCRIPTION:2015-2016 WBB - Great Northeast Athletic Conference
LOCATION:Holmes Sports Center
CATEGORIES:QuickScores; Basketball Game
TRANSP:0
DALARM:20160216T000000;PT10M;2;Simmons vs. Saint Joseph's ME
END:VEVENT
BEGIN:VEVENT
DTSTART:20160216T000000
DTEND:20160216T000000
SUMMARY:Saint Joseph CT vs. Suffolk
DESCRIPTION:2015-2016 WBB - Great Northeast Athletic Conference
LOCATION:W. Hartford, CT
CATEGORIES:QuickScores; Basketball Game
TRANSP:0
DALARM:20160216T000000;PT10M;2;Saint Joseph CT vs. Suffolk
END:VEVENT
BEGIN:VEVENT
DTSTART:20160220T000000
DTEND:20160220T000000
SUMMARY:Norwich vs. Rivier
DESCRIPTION:2015-2016 WBB - Great Northeast Athletic Conference
LOCATION:Northfield, VT
CATEGORIES:QuickScores; Basketball Game
TRANSP:0
DALARM:20160220T000000;PT10M;2;Norwich vs. Rivier
END:VEVENT
BEGIN:VEVENT
DTSTART:20160220T000000
DTEND:20160220T000000
SUMMARY:Simmons vs. Johnson & Wales
DESCRIPTION:2015-2016 WBB - Great Northeast Athletic Conference
LOCATION:Holmes Sports Center
CATEGORIES:QuickScores; Basketball Game
TRANSP:0
DALARM:20160220T000000;PT10M;2;Simmons vs. Johnson & Wales
END:VEVENT
BEGIN:VEVENT
DTSTART:20160220T000000
DTEND:20160220T000000
SUMMARY:Albertus Magnus vs. Emmanuel
DESCRIPTION:2016 DH w MBB --- 2015-2016 WBB - Great Northeast Athletic Conference
LOCATION:New Haven, CT
CATEGORIES:QuickScores; Basketball Game
TRANSP:0
DALARM:20160220T000000;PT10M;2;Albertus Magnus vs. Emmanuel
END:VEVENT
BEGIN:VEVENT
DTSTART:20160220T000000
DTEND:20160220T000000
SUMMARY:Anna Maria vs. Saint Joseph's ME
DESCRIPTION:2016 DH w MBB --- 2015-2016 WBB - Great Northeast Athletic Conference
LOCATION:Paxton MA
CATEGORIES:QuickScores; Basketball Game
TRANSP:0
DALARM:20160220T000000;PT10M;2;Anna Maria vs. Saint Joseph's ME
END:VEVENT
BEGIN:VEVENT
DTSTART:20160220T000000
DTEND:20160220T000000
SUMMARY:Lasell vs. Saint Joseph CT
DESCRIPTION:2015-2016 WBB - Great Northeast Athletic Conference
LOCATION:Lasell Newton
CATEGORIES:QuickScores; Basketball Game
TRANSP:0
DALARM:20160220T000000;PT10M;2;Lasell vs. Saint Joseph CT
END:VEVENT
BEGIN:VEVENT
DTSTART:20160220T000000
DTEND:20160220T000000
SUMMARY:Mount Ida vs. Suffolk
DESCRIPTION:2015-2016 WBB - Great Northeast Athletic Conference
LOCATION:Mount Ida
CATEGORIES:QuickScores; Basketball Game
TRANSP:0
DALARM:20160220T000000;PT10M;2;Mount Ida vs. Suffolk
END:VEVENT
BEGIN:VEVENT
DTSTART:20160223T000000
DTEND:20160223T000000
SUMMARY:#3 Seed vs. HOPE THROUGH HOOPS
DESCRIPTION:2015-2016 WBB - Great Northeast Athletic Conference
LOCATION:Court of #3 seed
CATEGORIES:QuickScores; Basketball Game
TRANSP:0
DALARM:20160223T000000;PT10M;2;#3 Seed vs. HOPE THROUGH HOOPS
END:VEVENT
BEGIN:VEVENT
DTSTART:20160223T000000
DTEND:20160223T000000
SUMMARY:#2 Seed vs. #7 Seed
DESCRIPTION:2015-2016 WBB - Great Northeast Athletic Conference
LOCATION:Court of #2 seed
CATEGORIES:QuickScores; Basketball Game
TRANSP:0
DALARM:20160223T000000;PT10M;2;#2 Seed vs. #7 Seed
END:VEVENT
BEGIN:VEVENT
DTSTART:20160223T000000
DTEND:20160223T000000
SUMMARY:AEA vs. #5 Seed
DESCRIPTION:2015-2016 WBB - Great Northeast Athletic Conference
LOCATION:Court of #4 seed
CATEGORIES:QuickScores; Basketball Game
TRANSP:0
DALARM:20160223T000000;PT10M;2;AEA vs. #5 Seed
END:VEVENT
BEGIN:VEVENT
DTSTART:20160223T000000
DTEND:20160223T000000
SUMMARY:#1 Seed vs. 3D HOOPS
DESCRIPTION:2015-2016 WBB - Great Northeast Athletic Conference
LOCATION:Court of #1 seed
CATEGORIES:QuickScores; Basketball Game
TRANSP:0
DALARM:20160223T000000;PT10M;2;#1 Seed vs. 3D HOOPS
END:VEVENT
BEGIN:VEVENT
DTSTART:20160225T000000
DTEND:20160225T000000
SUMMARY:Winner of Game 1 vs. Winner of Game 2
DESCRIPTION:2015-2016 WBB - Great Northeast Athletic Conference
LOCATION:Hosted by highest remaining seed
CATEGORIES:QuickScores; Basketball Game
TRANSP:0
DALARM:20160225T000000;PT10M;2;Winner of Game 1 vs. Winner of Game 2
END:VEVENT
BEGIN:VEVENT
DTSTART:20160225T000000
DTEND:20160225T000000
SUMMARY:Winner of Game 3 vs. Winner of Game 4
DESCRIPTION:2015-2016 WBB - Great Northeast Athletic Conference
LOCATION:Hosted by highest remaining seed
CATEGORIES:QuickScores; Basketball Game
TRANSP:0
DALARM:20160225T000000;PT10M;2;Winner of Game 3 vs. Winner of Game 4
END:VEVENT
BEGIN:VEVENT
DTSTART:20160227T000000
DTEND:20160227T000000
SUMMARY:Winner of Game 5 vs. Winner of Game 6
DESCRIPTION:2015-2016 WBB - Great Northeast Athletic Conference
LOCATION:Hosted by highest remaining seed
CATEGORIES:QuickScores; Basketball Game
TRANSP:0
DALARM:20160227T000000;PT10M;2;Winner of Game 5 vs. Winner of Game 6
END:VEVENT
END:VCALENDAR
