BEGIN:VCALENDAR
VERSION:1.0
BEGIN:VEVENT
DTSTART:20051129T190000
DTEND:20051129T200000
SUMMARY:Norwich vs. Suffolk
DESCRIPTION:Men's - Great Northeast Athletic Conference
LOCATION:Northfield, VT
CATEGORIES:QuickScores; Basketball Game
TRANSP:0
DALARM:20051129T170000;PT10M;2;Norwich vs. Suffolk
END:VEVENT
BEGIN:VEVENT
DTSTART:20051129T190000
DTEND:20051129T200000
SUMMARY:Daniel Webster vs. Johnson & Wales
DESCRIPTION:Men's - Great Northeast Athletic Conference
LOCATION:Nashua, NH
CATEGORIES:QuickScores; Basketball Game
TRANSP:0
DALARM:20051129T170000;PT10M;2;Daniel Webster vs. Johnson & Wales
END:VEVENT
BEGIN:VEVENT
DTSTART:20051130T190000
DTEND:20051130T200000
SUMMARY:Rivier vs. Emmanuel
DESCRIPTION:Men's - Great Northeast Athletic Conference
LOCATION:Nashua, NH
CATEGORIES:QuickScores; Basketball Game
TRANSP:0
DALARM:20051130T170000;PT10M;2;Rivier vs. Emmanuel
END:VEVENT
BEGIN:VEVENT
DTSTART:20051203T190000
DTEND:20051203T200000
SUMMARY:Emerson vs. Daniel Webster
DESCRIPTION:Game Site: Pine Manor --- Men's - Great Northeast Athletic Conference
LOCATION:Chestnut Hill, MA
CATEGORIES:QuickScores; Basketball Game
TRANSP:0
DALARM:20051203T170000;PT10M;2;Emerson vs. Daniel Webster
END:VEVENT
BEGIN:VEVENT
DTSTART:20051203T190000
DTEND:20051203T200000
SUMMARY:Southern Vermont vs. Johnson & Wales
DESCRIPTION:Men's - Great Northeast Athletic Conference
LOCATION:Bennington, VT
CATEGORIES:QuickScores; Basketball Game
TRANSP:0
DALARM:20051203T170000;PT10M;2;Southern Vermont vs. Johnson & Wales
END:VEVENT
BEGIN:VEVENT
DTSTART:20051203T190000
DTEND:20051203T200000
SUMMARY:Albertus Magnus vs. Rivier
DESCRIPTION:Men's - Great Northeast Athletic Conference
LOCATION:New Haven, CT
CATEGORIES:QuickScores; Basketball Game
TRANSP:0
DALARM:20051203T170000;PT10M;2;Albertus Magnus vs. Rivier
END:VEVENT
BEGIN:VEVENT
DTSTART:20051207T190000
DTEND:20051207T200000
SUMMARY:Norwich vs. Southern Vermont
DESCRIPTION:Men's - Great Northeast Athletic Conference
LOCATION:Northfield, VT
CATEGORIES:QuickScores; Basketball Game
TRANSP:0
DALARM:20051207T170000;PT10M;2;Norwich vs. Southern Vermont
END:VEVENT
BEGIN:VEVENT
DTSTART:20051210T130000
DTEND:20051210T140000
SUMMARY:Southern Vermont vs. Albertus Magnus
DESCRIPTION:Men's - Great Northeast Athletic Conference
LOCATION:Bennington, VT
CATEGORIES:QuickScores; Basketball Game
TRANSP:0
DALARM:20051210T110000;PT10M;2;Southern Vermont vs. Albertus Magnus
END:VEVENT
BEGIN:VEVENT
DTSTART:20051210T150000
DTEND:20051210T160000
SUMMARY:Emerson vs. Rivier
DESCRIPTION:Game Site: Pine Manor College --- Men's - Great Northeast Athletic Conference
LOCATION:Chestnut Hill, MA
CATEGORIES:QuickScores; Basketball Game
TRANSP:0
DALARM:20051210T130000;PT10M;2;Emerson vs. Rivier
END:VEVENT
BEGIN:VEVENT
DTSTART:20051210T150000
DTEND:20051210T160000
SUMMARY:Norwich vs. Johnson & Wales
DESCRIPTION:Men's - Great Northeast Athletic Conference
LOCATION:Northfield, VT
CATEGORIES:QuickScores; Basketball Game
TRANSP:0
DALARM:20051210T130000;PT10M;2;Norwich vs. Johnson & Wales
END:VEVENT
BEGIN:VEVENT
DTSTART:20051210T150000
DTEND:20051210T160000
SUMMARY:Western New England vs. Suffolk
DESCRIPTION:Men's - Great Northeast Athletic Conference
LOCATION:Springfield, MA
CATEGORIES:QuickScores; Basketball Game
TRANSP:0
DALARM:20051210T130000;PT10M;2;Western New England vs. Suffolk
END:VEVENT
BEGIN:VEVENT
DTSTART:20060107T150000
DTEND:20060107T160000
SUMMARY:Emmanuel vs. Johnson & Wales
DESCRIPTION:Men's - Great Northeast Athletic Conference
LOCATION:Boston, MA
CATEGORIES:QuickScores; Basketball Game
TRANSP:0
DALARM:20060107T130000;PT10M;2;Emmanuel vs. Johnson & Wales
END:VEVENT
BEGIN:VEVENT
DTSTART:20060110T190000
DTEND:20060110T200000
SUMMARY:Emmanuel vs. Western New England
DESCRIPTION:Men's - Great Northeast Athletic Conference
LOCATION:Boston, MA
CATEGORIES:QuickScores; Basketball Game
TRANSP:0
DALARM:20060110T170000;PT10M;2;Emmanuel vs. Western New England
END:VEVENT
BEGIN:VEVENT
DTSTART:20060110T190000
DTEND:20060110T200000
SUMMARY:Emerson vs. Norwich
DESCRIPTION:Game Site: Pine Manor College --- Men's - Great Northeast Athletic Conference
LOCATION:Chestnut Hill, MA
CATEGORIES:QuickScores; Basketball Game
TRANSP:0
DALARM:20060110T170000;PT10M;2;Emerson vs. Norwich
END:VEVENT
BEGIN:VEVENT
DTSTART:20060110T190000
DTEND:20060110T200000
SUMMARY:Suffolk vs. Albertus Magnus
DESCRIPTION:Men's - Great Northeast Athletic Conference
LOCATION:Boston, MA
CATEGORIES:QuickScores; Basketball Game
TRANSP:0
DALARM:20060110T170000;PT10M;2;Suffolk vs. Albertus Magnus
END:VEVENT
BEGIN:VEVENT
DTSTART:20060112T190000
DTEND:20060112T200000
SUMMARY:Daniel Webster vs. Southern Vermont
DESCRIPTION:Men's - Great Northeast Athletic Conference
LOCATION:Nashua, NH
CATEGORIES:QuickScores; Basketball Game
TRANSP:0
DALARM:20060112T170000;PT10M;2;Daniel Webster vs. Southern Vermont
END:VEVENT
BEGIN:VEVENT
DTSTART:20060112T190000
DTEND:20060112T200000
SUMMARY:Albertus Magnus vs. Western New England
DESCRIPTION:Men's - Great Northeast Athletic Conference
LOCATION:New Haven, CT
CATEGORIES:QuickScores; Basketball Game
TRANSP:0
DALARM:20060112T170000;PT10M;2;Albertus Magnus vs. Western New England
END:VEVENT
BEGIN:VEVENT
DTSTART:20060112T190000
DTEND:20060112T200000
SUMMARY:Johnson & Wales vs. Emerson
DESCRIPTION:Men's - Great Northeast Athletic Conference
LOCATION:Providence, RI
CATEGORIES:QuickScores; Basketball Game
TRANSP:0
DALARM:20060112T170000;PT10M;2;Johnson & Wales vs. Emerson
END:VEVENT
BEGIN:VEVENT
DTSTART:20060112T190000
DTEND:20060112T200000
SUMMARY:Norwich vs. Emmanuel
DESCRIPTION:Overtime --- Men's - Great Northeast Athletic Conference
LOCATION:Northfield, VT
CATEGORIES:QuickScores; Basketball Game
TRANSP:0
DALARM:20060112T170000;PT10M;2;Norwich vs. Emmanuel
END:VEVENT
BEGIN:VEVENT
DTSTART:20060114T150000
DTEND:20060114T160000
SUMMARY:Southern Vermont vs. Emmanuel
DESCRIPTION:Men's - Great Northeast Athletic Conference
LOCATION:Bennington, VT
CATEGORIES:QuickScores; Basketball Game
TRANSP:0
DALARM:20060114T130000;PT10M;2;Southern Vermont vs. Emmanuel
END:VEVENT
BEGIN:VEVENT
DTSTART:20060114T150000
DTEND:20060114T160000
SUMMARY:Western New England vs. Johnson & Wales
DESCRIPTION:Overtime --- Men's - Great Northeast Athletic Conference
LOCATION:Springfield, MA
CATEGORIES:QuickScores; Basketball Game
TRANSP:0
DALARM:20060114T130000;PT10M;2;Western New England vs. Johnson & Wales
END:VEVENT
BEGIN:VEVENT
DTSTART:20060114T150000
DTEND:20060114T160000
SUMMARY:Suffolk vs. Norwich
DESCRIPTION:Men's - Great Northeast Athletic Conference
LOCATION:Boston, MA
CATEGORIES:QuickScores; Basketball Game
TRANSP:0
DALARM:20060114T130000;PT10M;2;Suffolk vs. Norwich
END:VEVENT
BEGIN:VEVENT
DTSTART:20060114T150000
DTEND:20060114T160000
SUMMARY:Rivier vs. Emerson
DESCRIPTION:4 overtimes --- Men's - Great Northeast Athletic Conference
LOCATION:Nashua, NH
CATEGORIES:QuickScores; Basketball Game
TRANSP:0
DALARM:20060114T130000;PT10M;2;Rivier vs. Emerson
END:VEVENT
BEGIN:VEVENT
DTSTART:20060114T150000
DTEND:20060114T160000
SUMMARY:Albertus Magnus vs. Daniel Webster
DESCRIPTION:Men's - Great Northeast Athletic Conference
LOCATION:New Haven, CT
CATEGORIES:QuickScores; Basketball Game
TRANSP:0
DALARM:20060114T130000;PT10M;2;Albertus Magnus vs. Daniel Webster
END:VEVENT
BEGIN:VEVENT
DTSTART:20060116T190000
DTEND:20060116T200000
SUMMARY:Rivier vs. Johnson & Wales
DESCRIPTION:Men's - Great Northeast Athletic Conference
LOCATION:Nashua, NH
CATEGORIES:QuickScores; Basketball Game
TRANSP:0
DALARM:20060116T170000;PT10M;2;Rivier vs. Johnson & Wales
END:VEVENT
BEGIN:VEVENT
DTSTART:20060116T190000
DTEND:20060116T200000
SUMMARY:Emerson vs. Western New England
DESCRIPTION:Game Site: Pine Manor College --- Men's - Great Northeast Athletic Conference
LOCATION:Chestnut Hill, MA
CATEGORIES:QuickScores; Basketball Game
TRANSP:0
DALARM:20060116T170000;PT10M;2;Emerson vs. Western New England
END:VEVENT
BEGIN:VEVENT
DTSTART:20060116T190000
DTEND:20060116T200000
SUMMARY:Daniel Webster vs. Emmanuel
DESCRIPTION:Men's - Great Northeast Athletic Conference
LOCATION:Nashua, NH
CATEGORIES:QuickScores; Basketball Game
TRANSP:0
DALARM:20060116T170000;PT10M;2;Daniel Webster vs. Emmanuel
END:VEVENT
BEGIN:VEVENT
DTSTART:20060116T190000
DTEND:20060116T200000
SUMMARY:Albertus Magnus vs. Norwich
DESCRIPTION:Men's - Great Northeast Athletic Conference
LOCATION:New Haven, CT
CATEGORIES:QuickScores; Basketball Game
TRANSP:0
DALARM:20060116T170000;PT10M;2;Albertus Magnus vs. Norwich
END:VEVENT
BEGIN:VEVENT
DTSTART:20060116T190000
DTEND:20060116T200000
SUMMARY:Southern Vermont vs. Suffolk
DESCRIPTION:Men's - Great Northeast Athletic Conference
LOCATION:Bennington, VT
CATEGORIES:QuickScores; Basketball Game
TRANSP:0
DALARM:20060116T170000;PT10M;2;Southern Vermont vs. Suffolk
END:VEVENT
BEGIN:VEVENT
DTSTART:20060118T190000
DTEND:20060118T200000
SUMMARY:Suffolk vs. Johnson & Wales
DESCRIPTION:Men's - Great Northeast Athletic Conference
LOCATION:Boston, MA
CATEGORIES:QuickScores; Basketball Game
TRANSP:0
DALARM:20060118T170000;PT10M;2;Suffolk vs. Johnson & Wales
END:VEVENT
BEGIN:VEVENT
DTSTART:20060118T190000
DTEND:20060118T200000
SUMMARY:Emmanuel vs. Albertus Magnus
DESCRIPTION:Men's - Great Northeast Athletic Conference
LOCATION:Boston, MA
CATEGORIES:QuickScores; Basketball Game
TRANSP:0
DALARM:20060118T170000;PT10M;2;Emmanuel vs. Albertus Magnus
END:VEVENT
BEGIN:VEVENT
DTSTART:20060118T190000
DTEND:20060118T200000
SUMMARY:Daniel Webster vs. Western New England
DESCRIPTION:Men's - Great Northeast Athletic Conference
LOCATION:Nashua, NH
CATEGORIES:QuickScores; Basketball Game
TRANSP:0
DALARM:20060118T170000;PT10M;2;Daniel Webster vs. Western New England
END:VEVENT
BEGIN:VEVENT
DTSTART:20060119T190000
DTEND:20060119T200000
SUMMARY:Norwich vs. Rivier
DESCRIPTION:Men's - Great Northeast Athletic Conference
LOCATION:Northfield, VT
CATEGORIES:QuickScores; Basketball Game
TRANSP:0
DALARM:20060119T170000;PT10M;2;Norwich vs. Rivier
END:VEVENT
BEGIN:VEVENT
DTSTART:20060121T140000
DTEND:20060121T150000
SUMMARY:Southern Vermont vs. Emerson
DESCRIPTION:Men's - Great Northeast Athletic Conference
LOCATION:Bennington, VT
CATEGORIES:QuickScores; Basketball Game
TRANSP:0
DALARM:20060121T120000;PT10M;2;Southern Vermont vs. Emerson
END:VEVENT
BEGIN:VEVENT
DTSTART:20060121T150000
DTEND:20060121T160000
SUMMARY:Emmanuel vs. Norwich
DESCRIPTION:Men's - Great Northeast Athletic Conference
LOCATION:Boston, MA
CATEGORIES:QuickScores; Basketball Game
TRANSP:0
DALARM:20060121T130000;PT10M;2;Emmanuel vs. Norwich
END:VEVENT
BEGIN:VEVENT
DTSTART:20060121T150000
DTEND:20060121T160000
SUMMARY:Albertus Magnus vs. Johnson & Wales
DESCRIPTION:Men's - Great Northeast Athletic Conference
LOCATION:New Haven, CT
CATEGORIES:QuickScores; Basketball Game
TRANSP:0
DALARM:20060121T130000;PT10M;2;Albertus Magnus vs. Johnson & Wales
END:VEVENT
BEGIN:VEVENT
DTSTART:20060121T150000
DTEND:20060121T160000
SUMMARY:Rivier vs. Western New England
DESCRIPTION:Men's - Great Northeast Athletic Conference
LOCATION:Nashua, NH
CATEGORIES:QuickScores; Basketball Game
TRANSP:0
DALARM:20060121T130000;PT10M;2;Rivier vs. Western New England
END:VEVENT
BEGIN:VEVENT
DTSTART:20060121T150000
DTEND:20060121T160000
SUMMARY:Suffolk vs. Daniel Webster
DESCRIPTION:Men's - Great Northeast Athletic Conference
LOCATION:Boston, MA
CATEGORIES:QuickScores; Basketball Game
TRANSP:0
DALARM:20060121T130000;PT10M;2;Suffolk vs. Daniel Webster
END:VEVENT
BEGIN:VEVENT
DTSTART:20060124T190000
DTEND:20060124T200000
SUMMARY:Southern Vermont vs. Western New England
DESCRIPTION:Men's - Great Northeast Athletic Conference
LOCATION:Bennington, VT
CATEGORIES:QuickScores; Basketball Game
TRANSP:0
DALARM:20060124T170000;PT10M;2;Southern Vermont vs. Western New England
END:VEVENT
BEGIN:VEVENT
DTSTART:20060124T190000
DTEND:20060124T200000
SUMMARY:Norwich vs. Daniel Webster
DESCRIPTION:Men's - Great Northeast Athletic Conference
LOCATION:Northfield, VT
CATEGORIES:QuickScores; Basketball Game
TRANSP:0
DALARM:20060124T170000;PT10M;2;Norwich vs. Daniel Webster
END:VEVENT
BEGIN:VEVENT
DTSTART:20060124T190000
DTEND:20060124T200000
SUMMARY:Johnson & Wales vs. Rivier
DESCRIPTION:Men's - Great Northeast Athletic Conference
LOCATION:Providence, RI
CATEGORIES:QuickScores; Basketball Game
TRANSP:0
DALARM:20060124T170000;PT10M;2;Johnson & Wales vs. Rivier
END:VEVENT
BEGIN:VEVENT
DTSTART:20060124T190000
DTEND:20060124T200000
SUMMARY:Emmanuel vs. Suffolk
DESCRIPTION:Men's - Great Northeast Athletic Conference
LOCATION:Boston, MA
CATEGORIES:QuickScores; Basketball Game
TRANSP:0
DALARM:20060124T170000;PT10M;2;Emmanuel vs. Suffolk
END:VEVENT
BEGIN:VEVENT
DTSTART:20060124T190000
DTEND:20060124T200000
SUMMARY:Emerson vs. Albertus Magnus
DESCRIPTION:Game Site: Pine Manor College --- Men's - Great Northeast Athletic Conference
LOCATION:Chestnut Hill, MA
CATEGORIES:QuickScores; Basketball Game
TRANSP:0
DALARM:20060124T170000;PT10M;2;Emerson vs. Albertus Magnus
END:VEVENT
BEGIN:VEVENT
DTSTART:20060126T190000
DTEND:20060126T200000
SUMMARY:Western New England vs. Norwich
DESCRIPTION:Men's - Great Northeast Athletic Conference
LOCATION:Springfield, MA
CATEGORIES:QuickScores; Basketball Game
TRANSP:0
DALARM:20060126T170000;PT10M;2;Western New England vs. Norwich
END:VEVENT
BEGIN:VEVENT
DTSTART:20060126T190000
DTEND:20060126T200000
SUMMARY:Emerson vs. Suffolk
DESCRIPTION:Game Site: Pine Manor College --- Men's - Great Northeast Athletic Conference
LOCATION:Chestnut Hill, MA
CATEGORIES:QuickScores; Basketball Game
TRANSP:0
DALARM:20060126T170000;PT10M;2;Emerson vs. Suffolk
END:VEVENT
BEGIN:VEVENT
DTSTART:20060126T190000
DTEND:20060126T200000
SUMMARY:Rivier vs. Southern Vermont
DESCRIPTION:Men's - Great Northeast Athletic Conference
LOCATION:Nashua, NH
CATEGORIES:QuickScores; Basketball Game
TRANSP:0
DALARM:20060126T170000;PT10M;2;Rivier vs. Southern Vermont
END:VEVENT
BEGIN:VEVENT
DTSTART:20060126T190000
DTEND:20060126T200000
SUMMARY:Daniel Webster vs. Albertus Magnus
DESCRIPTION:Men's - Great Northeast Athletic Conference
LOCATION:Nashua, NH
CATEGORIES:QuickScores; Basketball Game
TRANSP:0
DALARM:20060126T170000;PT10M;2;Daniel Webster vs. Albertus Magnus
END:VEVENT
BEGIN:VEVENT
DTSTART:20060128T150000
DTEND:20060128T160000
SUMMARY:Johnson & Wales vs. Norwich
DESCRIPTION:Men's - Great Northeast Athletic Conference
LOCATION:Providence, RI
CATEGORIES:QuickScores; Basketball Game
TRANSP:0
DALARM:20060128T130000;PT10M;2;Johnson & Wales vs. Norwich
END:VEVENT
BEGIN:VEVENT
DTSTART:20060128T150000
DTEND:20060128T160000
SUMMARY:Suffolk vs. Western New England
DESCRIPTION:Men's - Great Northeast Athletic Conference
LOCATION:Boston, MA
CATEGORIES:QuickScores; Basketball Game
TRANSP:0
DALARM:20060128T130000;PT10M;2;Suffolk vs. Western New England
END:VEVENT
BEGIN:VEVENT
DTSTART:20060128T150000
DTEND:20060128T160000
SUMMARY:Emmanuel vs. Rivier
DESCRIPTION:Men's - Great Northeast Athletic Conference
LOCATION:Boston, MA
CATEGORIES:QuickScores; Basketball Game
TRANSP:0
DALARM:20060128T130000;PT10M;2;Emmanuel vs. Rivier
END:VEVENT
BEGIN:VEVENT
DTSTART:20060128T150000
DTEND:20060128T160000
SUMMARY:Daniel Webster vs. Emerson
DESCRIPTION:Men's - Great Northeast Athletic Conference
LOCATION:Nashua, NH
CATEGORIES:QuickScores; Basketball Game
TRANSP:0
DALARM:20060128T130000;PT10M;2;Daniel Webster vs. Emerson
END:VEVENT
BEGIN:VEVENT
DTSTART:20060128T190000
DTEND:20060128T200000
SUMMARY:Albertus Magnus vs. Southern Vermont
DESCRIPTION:Men's - Great Northeast Athletic Conference
LOCATION:New Haven, CT
CATEGORIES:QuickScores; Basketball Game
TRANSP:0
DALARM:20060128T170000;PT10M;2;Albertus Magnus vs. Southern Vermont
END:VEVENT
BEGIN:VEVENT
DTSTART:20060130T190000
DTEND:20060130T200000
SUMMARY:Emmanuel vs. Emerson
DESCRIPTION:Men's - Great Northeast Athletic Conference
LOCATION:Boston, MA
CATEGORIES:QuickScores; Basketball Game
TRANSP:0
DALARM:20060130T170000;PT10M;2;Emmanuel vs. Emerson
END:VEVENT
BEGIN:VEVENT
DTSTART:20060130T190000
DTEND:20060130T200000
SUMMARY:Daniel Webster vs. Rivier
DESCRIPTION:Men's - Great Northeast Athletic Conference
LOCATION:Nashua, NH
CATEGORIES:QuickScores; Basketball Game
TRANSP:0
DALARM:20060130T170000;PT10M;2;Daniel Webster vs. Rivier
END:VEVENT
BEGIN:VEVENT
DTSTART:20060130T190000
DTEND:20060130T200000
SUMMARY:Johnson & Wales vs. Suffolk
DESCRIPTION:Men's - Great Northeast Athletic Conference
LOCATION:Providence, RI
CATEGORIES:QuickScores; Basketball Game
TRANSP:0
DALARM:20060130T170000;PT10M;2;Johnson & Wales vs. Suffolk
END:VEVENT
BEGIN:VEVENT
DTSTART:20060130T190000
DTEND:20060130T200000
SUMMARY:Western New England vs. Albertus Magnus
DESCRIPTION:Men's - Great Northeast Athletic Conference
LOCATION:Springfield, MA
CATEGORIES:QuickScores; Basketball Game
TRANSP:0
DALARM:20060130T170000;PT10M;2;Western New England vs. Albertus Magnus
END:VEVENT
BEGIN:VEVENT
DTSTART:20060201T190000
DTEND:20060201T200000
SUMMARY:Albertus Magnus vs. Emmanuel
DESCRIPTION:Men's - Great Northeast Athletic Conference
LOCATION:New Haven, CT
CATEGORIES:QuickScores; Basketball Game
TRANSP:0
DALARM:20060201T170000;PT10M;2;Albertus Magnus vs. Emmanuel
END:VEVENT
BEGIN:VEVENT
DTSTART:20060201T190000
DTEND:20060201T200000
SUMMARY:Western New England vs. Daniel Webster
DESCRIPTION:Men's - Great Northeast Athletic Conference
LOCATION:Springfield, MA
CATEGORIES:QuickScores; Basketball Game
TRANSP:0
DALARM:20060201T170000;PT10M;2;Western New England vs. Daniel Webster
END:VEVENT
BEGIN:VEVENT
DTSTART:20060201T190000
DTEND:20060201T200000
SUMMARY:Southern Vermont vs. Rivier
DESCRIPTION:Men's - Great Northeast Athletic Conference
LOCATION:Bennington, VT
CATEGORIES:QuickScores; Basketball Game
TRANSP:0
DALARM:20060201T170000;PT10M;2;Southern Vermont vs. Rivier
END:VEVENT
BEGIN:VEVENT
DTSTART:20060202T190000
DTEND:20060202T200000
SUMMARY:Suffolk vs. Emerson
DESCRIPTION:Men's - Great Northeast Athletic Conference
LOCATION:Boston, MA
CATEGORIES:QuickScores; Basketball Game
TRANSP:0
DALARM:20060202T170000;PT10M;2;Suffolk vs. Emerson
END:VEVENT
BEGIN:VEVENT
DTSTART:20060204T150000
DTEND:20060204T160000
SUMMARY:Western New England vs. Emmanuel
DESCRIPTION:Men's - Great Northeast Athletic Conference
LOCATION:Springfield, MA
CATEGORIES:QuickScores; Basketball Game
TRANSP:0
DALARM:20060204T130000;PT10M;2;Western New England vs. Emmanuel
END:VEVENT
BEGIN:VEVENT
DTSTART:20060204T150000
DTEND:20060204T160000
SUMMARY:Rivier vs. Albertus Magnus
DESCRIPTION:Men's - Great Northeast Athletic Conference
LOCATION:Nashua, NH
CATEGORIES:QuickScores; Basketball Game
TRANSP:0
DALARM:20060204T130000;PT10M;2;Rivier vs. Albertus Magnus
END:VEVENT
BEGIN:VEVENT
DTSTART:20060204T150000
DTEND:20060204T160000
SUMMARY:Suffolk vs. Southern Vermont
DESCRIPTION:Overtime --- Men's - Great Northeast Athletic Conference
LOCATION:Boston, MA
CATEGORIES:QuickScores; Basketball Game
TRANSP:0
DALARM:20060204T130000;PT10M;2;Suffolk vs. Southern Vermont
END:VEVENT
BEGIN:VEVENT
DTSTART:20060204T150000
DTEND:20060204T160000
SUMMARY:Norwich vs. Emerson
DESCRIPTION:Men's - Great Northeast Athletic Conference
LOCATION:Northfield, VT
CATEGORIES:QuickScores; Basketball Game
TRANSP:0
DALARM:20060204T130000;PT10M;2;Norwich vs. Emerson
END:VEVENT
BEGIN:VEVENT
DTSTART:20060204T150000
DTEND:20060204T160000
SUMMARY:Johnson & Wales vs. Daniel Webster
DESCRIPTION:Men's - Great Northeast Athletic Conference
LOCATION:Providence, RI
CATEGORIES:QuickScores; Basketball Game
TRANSP:0
DALARM:20060204T130000;PT10M;2;Johnson & Wales vs. Daniel Webster
END:VEVENT
BEGIN:VEVENT
DTSTART:20060207T190000
DTEND:20060207T200000
SUMMARY:Rivier vs. Suffolk
DESCRIPTION:Men's - Great Northeast Athletic Conference
LOCATION:Nashua, NH
CATEGORIES:QuickScores; Basketball Game
TRANSP:0
DALARM:20060207T170000;PT10M;2;Rivier vs. Suffolk
END:VEVENT
BEGIN:VEVENT
DTSTART:20060207T190000
DTEND:20060207T200000
SUMMARY:Johnson & Wales vs. Emmanuel
DESCRIPTION:Men's - Great Northeast Athletic Conference
LOCATION:Providence, RI
CATEGORIES:QuickScores; Basketball Game
TRANSP:0
DALARM:20060207T170000;PT10M;2;Johnson & Wales vs. Emmanuel
END:VEVENT
BEGIN:VEVENT
DTSTART:20060207T190000
DTEND:20060207T200000
SUMMARY:Albertus Magnus vs. Emerson
DESCRIPTION:Men's - Great Northeast Athletic Conference
LOCATION:New Haven, CT
CATEGORIES:QuickScores; Basketball Game
TRANSP:0
DALARM:20060207T170000;PT10M;2;Albertus Magnus vs. Emerson
END:VEVENT
BEGIN:VEVENT
DTSTART:20060207T190000
DTEND:20060207T200000
SUMMARY:Daniel Webster vs. Norwich
DESCRIPTION:Men's - Great Northeast Athletic Conference
LOCATION:Nashua, NH
CATEGORIES:QuickScores; Basketball Game
TRANSP:0
DALARM:20060207T170000;PT10M;2;Daniel Webster vs. Norwich
END:VEVENT
BEGIN:VEVENT
DTSTART:20060207T190000
DTEND:20060207T200000
SUMMARY:Western New England vs. Southern Vermont
DESCRIPTION:Men's - Great Northeast Athletic Conference
LOCATION:Springfield, MA
CATEGORIES:QuickScores; Basketball Game
TRANSP:0
DALARM:20060207T170000;PT10M;2;Western New England vs. Southern Vermont
END:VEVENT
BEGIN:VEVENT
DTSTART:20060209T190000
DTEND:20060209T200000
SUMMARY:Rivier vs. Norwich
DESCRIPTION:Men's - Great Northeast Athletic Conference
LOCATION:Nashua, NH
CATEGORIES:QuickScores; Basketball Game
TRANSP:0
DALARM:20060209T170000;PT10M;2;Rivier vs. Norwich
END:VEVENT
BEGIN:VEVENT
DTSTART:20060209T190000
DTEND:20060209T200000
SUMMARY:Emerson vs. Johnson & Wales
DESCRIPTION:Men's - Great Northeast Athletic Conference
LOCATION:Boston, MA
CATEGORIES:QuickScores; Basketball Game
TRANSP:0
DALARM:20060209T170000;PT10M;2;Emerson vs. Johnson & Wales
END:VEVENT
BEGIN:VEVENT
DTSTART:20060209T190000
DTEND:20060209T200000
SUMMARY:Emmanuel vs. Southern Vermont
DESCRIPTION:Men's - Great Northeast Athletic Conference
LOCATION:Boston, MA
CATEGORIES:QuickScores; Basketball Game
TRANSP:0
DALARM:20060209T170000;PT10M;2;Emmanuel vs. Southern Vermont
END:VEVENT
BEGIN:VEVENT
DTSTART:20060209T190000
DTEND:20060209T200000
SUMMARY:Daniel Webster vs. Suffolk
DESCRIPTION:Men's - Great Northeast Athletic Conference
LOCATION:Nashua, NH
CATEGORIES:QuickScores; Basketball Game
TRANSP:0
DALARM:20060209T170000;PT10M;2;Daniel Webster vs. Suffolk
END:VEVENT
BEGIN:VEVENT
DTSTART:20060211T150000
DTEND:20060211T160000
SUMMARY:Johnson & Wales vs. Albertus Magnus
DESCRIPTION:Men's - Great Northeast Athletic Conference
LOCATION:Providence, RI
CATEGORIES:QuickScores; Basketball Game
TRANSP:0
DALARM:20060211T130000;PT10M;2;Johnson & Wales vs. Albertus Magnus
END:VEVENT
BEGIN:VEVENT
DTSTART:20060211T150000
DTEND:20060211T160000
SUMMARY:Norwich vs. Western New England
DESCRIPTION:Men's - Great Northeast Athletic Conference
LOCATION:Northfield, VT
CATEGORIES:QuickScores; Basketball Game
TRANSP:0
DALARM:20060211T130000;PT10M;2;Norwich vs. Western New England
END:VEVENT
BEGIN:VEVENT
DTSTART:20060211T150000
DTEND:20060211T160000
SUMMARY:Rivier vs. Daniel Webster
DESCRIPTION:Men's - Great Northeast Athletic Conference
LOCATION:Nashua, NH
CATEGORIES:QuickScores; Basketball Game
TRANSP:0
DALARM:20060211T130000;PT10M;2;Rivier vs. Daniel Webster
END:VEVENT
BEGIN:VEVENT
DTSTART:20060211T150000
DTEND:20060211T160000
SUMMARY:Suffolk vs. Emmanuel
DESCRIPTION:Men's - Great Northeast Athletic Conference
LOCATION:Boston, MA
CATEGORIES:QuickScores; Basketball Game
TRANSP:0
DALARM:20060211T130000;PT10M;2;Suffolk vs. Emmanuel
END:VEVENT
BEGIN:VEVENT
DTSTART:20060211T160000
DTEND:20060211T170000
SUMMARY:Emerson vs. Southern Vermont
DESCRIPTION:Game Site: Pine Manor College --- Men's - Great Northeast Athletic Conference
LOCATION:Chestnut Hill, MA
CATEGORIES:QuickScores; Basketball Game
TRANSP:0
DALARM:20060211T140000;PT10M;2;Emerson vs. Southern Vermont
END:VEVENT
BEGIN:VEVENT
DTSTART:20060213T190000
DTEND:20060213T200000
SUMMARY:Western New England vs. Rivier
DESCRIPTION:Men's - Great Northeast Athletic Conference
LOCATION:Springfield, MA
CATEGORIES:QuickScores; Basketball Game
TRANSP:0
DALARM:20060213T170000;PT10M;2;Western New England vs. Rivier
END:VEVENT
BEGIN:VEVENT
DTSTART:20060213T190000
DTEND:20060213T200000
SUMMARY:Southern Vermont vs. Daniel Webster
DESCRIPTION:Men's - Great Northeast Athletic Conference
LOCATION:Bennington, VT
CATEGORIES:QuickScores; Basketball Game
TRANSP:0
DALARM:20060213T170000;PT10M;2;Southern Vermont vs. Daniel Webster
END:VEVENT
BEGIN:VEVENT
DTSTART:20060216T190000
DTEND:20060216T200000
SUMMARY:Albertus Magnus vs. Suffolk
DESCRIPTION:Men's - Great Northeast Athletic Conference
LOCATION:New Haven, CT
CATEGORIES:QuickScores; Basketball Game
TRANSP:0
DALARM:20060216T170000;PT10M;2;Albertus Magnus vs. Suffolk
END:VEVENT
BEGIN:VEVENT
DTSTART:20060216T190000
DTEND:20060216T200000
SUMMARY:Emerson vs. Emmanuel
DESCRIPTION:Game Site: Pine Manor Colllege --- Men's - Great Northeast Athletic Conference
LOCATION:Chestnut Hill, MA
CATEGORIES:QuickScores; Basketball Game
TRANSP:0
DALARM:20060216T170000;PT10M;2;Emerson vs. Emmanuel
END:VEVENT
BEGIN:VEVENT
DTSTART:20060216T190000
DTEND:20060216T200000
SUMMARY:Southern Vermont vs. Norwich
DESCRIPTION:Men's - Great Northeast Athletic Conference
LOCATION:Bennington, VT
CATEGORIES:QuickScores; Basketball Game
TRANSP:0
DALARM:20060216T170000;PT10M;2;Southern Vermont vs. Norwich
END:VEVENT
BEGIN:VEVENT
DTSTART:20060216T190000
DTEND:20060216T200000
SUMMARY:Johnson & Wales vs. Western New England
DESCRIPTION:Men's - Great Northeast Athletic Conference
LOCATION:Providence, RI
CATEGORIES:QuickScores; Basketball Game
TRANSP:0
DALARM:20060216T170000;PT10M;2;Johnson & Wales vs. Western New England
END:VEVENT
BEGIN:VEVENT
DTSTART:20060218T150000
DTEND:20060218T160000
SUMMARY:Suffolk vs. Rivier
DESCRIPTION:Men's - Great Northeast Athletic Conference
LOCATION:Boston, MA
CATEGORIES:QuickScores; Basketball Game
TRANSP:0
DALARM:20060218T130000;PT10M;2;Suffolk vs. Rivier
END:VEVENT
BEGIN:VEVENT
DTSTART:20060218T150000
DTEND:20060218T160000
SUMMARY:Norwich vs. Albertus Magnus
DESCRIPTION:Men's - Great Northeast Athletic Conference
LOCATION:Northfield, VT
CATEGORIES:QuickScores; Basketball Game
TRANSP:0
DALARM:20060218T130000;PT10M;2;Norwich vs. Albertus Magnus
END:VEVENT
BEGIN:VEVENT
DTSTART:20060218T150000
DTEND:20060218T160000
SUMMARY:Western New England vs. Emerson
DESCRIPTION:Men's - Great Northeast Athletic Conference
LOCATION:Springfield, MA
CATEGORIES:QuickScores; Basketball Game
TRANSP:0
DALARM:20060218T130000;PT10M;2;Western New England vs. Emerson
END:VEVENT
BEGIN:VEVENT
DTSTART:20060218T150000
DTEND:20060218T160000
SUMMARY:Johnson & Wales vs. Southern Vermont
DESCRIPTION:Men's - Great Northeast Athletic Conference
LOCATION:Providence, RI
CATEGORIES:QuickScores; Basketball Game
TRANSP:0
DALARM:20060218T130000;PT10M;2;Johnson & Wales vs. Southern Vermont
END:VEVENT
BEGIN:VEVENT
DTSTART:20060218T150000
DTEND:20060218T160000
SUMMARY:Emmanuel vs. Daniel Webster
DESCRIPTION:Men's - Great Northeast Athletic Conference
LOCATION:Boston, MA
CATEGORIES:QuickScores; Basketball Game
TRANSP:0
DALARM:20060218T130000;PT10M;2;Emmanuel vs. Daniel Webster
END:VEVENT
BEGIN:VEVENT
DTSTART:20060221T190000
DTEND:20060221T200000
SUMMARY:Emmanuel vs. Rivier
DESCRIPTION:Men's - Great Northeast Athletic Conference
LOCATION:Boston, MA
CATEGORIES:QuickScores; Basketball Game
TRANSP:0
DALARM:20060221T170000;PT10M;2;Emmanuel vs. Rivier
END:VEVENT
BEGIN:VEVENT
DTSTART:20060221T190000
DTEND:20060221T200000
SUMMARY:Emerson vs. Johnson & Wales
DESCRIPTION:Men's - Great Northeast Athletic Conference
LOCATION:Chestnut Hill, MA
CATEGORIES:QuickScores; Basketball Game
TRANSP:0
DALARM:20060221T170000;PT10M;2;Emerson vs. Johnson & Wales
END:VEVENT
BEGIN:VEVENT
DTSTART:20060221T190000
DTEND:20060221T200000
SUMMARY:Norwich vs. Southern Vermont
DESCRIPTION:Men's - Great Northeast Athletic Conference
LOCATION:Northfield, VT
CATEGORIES:QuickScores; Basketball Game
TRANSP:0
DALARM:20060221T170000;PT10M;2;Norwich vs. Southern Vermont
END:VEVENT
BEGIN:VEVENT
DTSTART:20060221T190000
DTEND:20060221T200000
SUMMARY:Western New England vs. Suffolk
DESCRIPTION:Men's - Great Northeast Athletic Conference
LOCATION:Springfield, MA
CATEGORIES:QuickScores; Basketball Game
TRANSP:0
DALARM:20060221T170000;PT10M;2;Western New England vs. Suffolk
END:VEVENT
BEGIN:VEVENT
DTSTART:20060223T000000
DTEND:20060223T000000
SUMMARY:Emmanuel vs. Emerson
DESCRIPTION:Men's - Great Northeast Athletic Conference
CATEGORIES:QuickScores; Basketball Game
TRANSP:0
DALARM:20060223T000000;PT10M;2;Emmanuel vs. Emerson
END:VEVENT
BEGIN:VEVENT
DTSTART:20060223T000000
DTEND:20060223T000000
SUMMARY:Norwich vs. Western New England
DESCRIPTION:Men's - Great Northeast Athletic Conference
CATEGORIES:QuickScores; Basketball Game
TRANSP:0
DALARM:20060223T000000;PT10M;2;Norwich vs. Western New England
END:VEVENT
BEGIN:VEVENT
DTSTART:20060225T000000
DTEND:20060225T000000
SUMMARY:Emerson vs. Norwich
DESCRIPTION:Men's - Great Northeast Athletic Conference
CATEGORIES:QuickScores; Basketball Game
TRANSP:0
DALARM:20060225T000000;PT10M;2;Emerson vs. Norwich
END:VEVENT
END:VCALENDAR
