BEGIN:VCALENDAR
VERSION:1.0
BEGIN:VEVENT
DTSTART:20130914T000000
DTEND:20130914T000000
SUMMARY:Norwich vs. Albertus Magnus
DESCRIPTION:DH AMC can share bus w WS --- 2013 Men's Soccer - Great Northeast Athletic Conference
LOCATION:Northfield, VT
CATEGORIES:QuickScores; Soccer Game
TRANSP:0
DALARM:20130914T000000;PT10M;2;Norwich vs. Albertus Magnus
END:VEVENT
BEGIN:VEVENT
DTSTART:20130914T000000
DTEND:20130914T000000
SUMMARY:Suffolk vs. Saint Joseph ME
DESCRIPTION:2013 Men's Soccer - Great Northeast Athletic Conference
LOCATION:Dilboy Stadium Somerville
CATEGORIES:QuickScores; Soccer Game
TRANSP:0
DALARM:20130914T000000;PT10M;2;Suffolk vs. Saint Joseph ME
END:VEVENT
BEGIN:VEVENT
DTSTART:20130914T000000
DTEND:20130914T000000
SUMMARY:Emmanuel vs. Mount Ida
DESCRIPTION:IDA has home football --- 2013 Men's Soccer - Great Northeast Athletic Conference
LOCATION:Roberto Clemente Field
CATEGORIES:QuickScores; Soccer Game
TRANSP:0
DALARM:20130914T000000;PT10M;2;Emmanuel vs. Mount Ida
END:VEVENT
BEGIN:VEVENT
DTSTART:20130914T000000
DTEND:20130914T000000
SUMMARY:Rivier vs. Johnson & Wales
DESCRIPTION:2013 Men's Soccer - Great Northeast Athletic Conference
LOCATION:Nashua, NH
CATEGORIES:QuickScores; Soccer Game
TRANSP:0
DALARM:20130914T000000;PT10M;2;Rivier vs. Johnson & Wales
END:VEVENT
BEGIN:VEVENT
DTSTART:20130914T000000
DTEND:20130914T000000
SUMMARY:Lasell vs. Anna Maria
DESCRIPTION:Anna Maria can share a bus w WS --- 2013 Men's Soccer - Great Northeast Athletic Conference
LOCATION:Taylor Field at Lasell College
CATEGORIES:QuickScores; Soccer Game
TRANSP:0
DALARM:20130914T000000;PT10M;2;Lasell vs. Anna Maria
END:VEVENT
BEGIN:VEVENT
DTSTART:20130921T000000
DTEND:20130921T000000
SUMMARY:Emmanuel vs. Johnson & Wales
DESCRIPTION:2013 Men's Soccer - Great Northeast Athletic Conference
LOCATION:Roberto Clemente Field
CATEGORIES:QuickScores; Soccer Game
TRANSP:0
DALARM:20130921T000000;PT10M;2;Emmanuel vs. Johnson & Wales
END:VEVENT
BEGIN:VEVENT
DTSTART:20130921T000000
DTEND:20130921T000000
SUMMARY:Albertus Magnus vs. Lasell
DESCRIPTION:2013 DH. LAS MS & WS can share a bus. --- 2013 Men's Soccer - Great Northeast Athletic Conference
LOCATION:New Haven, CT
CATEGORIES:QuickScores; Soccer Game
TRANSP:0
DALARM:20130921T000000;PT10M;2;Albertus Magnus vs. Lasell
END:VEVENT
BEGIN:VEVENT
DTSTART:20130921T000000
DTEND:20130921T000000
SUMMARY:Saint Joseph ME vs. Norwich
DESCRIPTION:2013 DH. NOR MS & WS can share a bus. --- 2013 Men's Soccer - Great Northeast Athletic Conference
LOCATION:Standish ME
CATEGORIES:QuickScores; Soccer Game
TRANSP:0
DALARM:20130921T000000;PT10M;2;Saint Joseph ME vs. Norwich
END:VEVENT
BEGIN:VEVENT
DTSTART:20130921T000000
DTEND:20130921T000000
SUMMARY:Anna Maria vs. Suffolk
DESCRIPTION:2013 Men's Soccer - Great Northeast Athletic Conference
LOCATION:Paxton MA
CATEGORIES:QuickScores; Soccer Game
TRANSP:0
DALARM:20130921T000000;PT10M;2;Anna Maria vs. Suffolk
END:VEVENT
BEGIN:VEVENT
DTSTART:20130922T000000
DTEND:20130922T000000
SUMMARY:Mount Ida vs. Rivier
DESCRIPTION:Ida has home football on Saturday --- 2013 Men's Soccer - Great Northeast Athletic Conference
LOCATION:Mount Ida
CATEGORIES:QuickScores; Soccer Game
TRANSP:0
DALARM:20130922T000000;PT10M;2;Mount Ida vs. Rivier
END:VEVENT
BEGIN:VEVENT
DTSTART:20130928T000000
DTEND:20130928T000000
SUMMARY:Rivier vs. Emmanuel
DESCRIPTION:2013 Men's Soccer - Great Northeast Athletic Conference
LOCATION:Nashua, NH
CATEGORIES:QuickScores; Soccer Game
TRANSP:0
DALARM:20130928T000000;PT10M;2;Rivier vs. Emmanuel
END:VEVENT
BEGIN:VEVENT
DTSTART:20130928T000000
DTEND:20130928T000000
SUMMARY:Lasell vs. Suffolk
DESCRIPTION:2013 Men's Soccer - Great Northeast Athletic Conference
LOCATION:Taylor Field at Lasell College
CATEGORIES:QuickScores; Soccer Game
TRANSP:0
DALARM:20130928T000000;PT10M;2;Lasell vs. Suffolk
END:VEVENT
BEGIN:VEVENT
DTSTART:20130928T000000
DTEND:20130928T000000
SUMMARY:Anna Maria vs. Mount Ida
DESCRIPTION:2013 Men's Soccer - Great Northeast Athletic Conference
LOCATION:Paxton MA
CATEGORIES:QuickScores; Soccer Game
TRANSP:0
DALARM:20130928T000000;PT10M;2;Anna Maria vs. Mount Ida
END:VEVENT
BEGIN:VEVENT
DTSTART:20130928T000000
DTEND:20130928T000000
SUMMARY:Saint Joseph ME vs. Albertus Magnus
DESCRIPTION:2013 NODHP --- 2013 Men's Soccer - Great Northeast Athletic Conference
LOCATION:Standish ME
CATEGORIES:QuickScores; Soccer Game
TRANSP:0
DALARM:20130928T000000;PT10M;2;Saint Joseph ME vs. Albertus Magnus
END:VEVENT
BEGIN:VEVENT
DTSTART:20130928T000000
DTEND:20130928T000000
SUMMARY:Johnson & Wales vs. Norwich
DESCRIPTION:NOR MS&WS can share a bus --- 2013 Men's Soccer - Great Northeast Athletic Conference
LOCATION:Providence, RI
CATEGORIES:QuickScores; Soccer Game
TRANSP:0
DALARM:20130928T000000;PT10M;2;Johnson & Wales vs. Norwich
END:VEVENT
BEGIN:VEVENT
DTSTART:20131005T000000
DTEND:20131005T000000
SUMMARY:Johnson & Wales vs. Suffolk
DESCRIPTION:2013 Men's Soccer - Great Northeast Athletic Conference
LOCATION:Providence, RI
CATEGORIES:QuickScores; Soccer Game
TRANSP:0
DALARM:20131005T000000;PT10M;2;Johnson & Wales vs. Suffolk
END:VEVENT
BEGIN:VEVENT
DTSTART:20131005T000000
DTEND:20131005T000000
SUMMARY:Saint Joseph ME vs. Anna Maria
DESCRIPTION:NODHP --- 2013 Men's Soccer - Great Northeast Athletic Conference
LOCATION:Standish ME
CATEGORIES:QuickScores; Soccer Game
TRANSP:0
DALARM:20131005T000000;PT10M;2;Saint Joseph ME vs. Anna Maria
END:VEVENT
BEGIN:VEVENT
DTSTART:20131005T000000
DTEND:20131005T000000
SUMMARY:Norwich vs. Emmanuel
DESCRIPTION:2013 DH. EMM can share a bus w WS --- 2013 Men's Soccer - Great Northeast Athletic Conference
LOCATION:Northfield, VT
CATEGORIES:QuickScores; Soccer Game
TRANSP:0
DALARM:20131005T000000;PT10M;2;Norwich vs. Emmanuel
END:VEVENT
BEGIN:VEVENT
DTSTART:20131005T000000
DTEND:20131005T000000
SUMMARY:Albertus Magnus vs. Rivier
DESCRIPTION:NODHP --- 2013 Men's Soccer - Great Northeast Athletic Conference
LOCATION:New Haven, CT
CATEGORIES:QuickScores; Soccer Game
TRANSP:0
DALARM:20131005T000000;PT10M;2;Albertus Magnus vs. Rivier
END:VEVENT
BEGIN:VEVENT
DTSTART:20131006T000000
DTEND:20131006T000000
SUMMARY:Mount Ida vs. Lasell
DESCRIPTION:IDA has home football Saturday --- 2013 Men's Soccer - Great Northeast Athletic Conference
LOCATION:Mount Ida
CATEGORIES:QuickScores; Soccer Game
TRANSP:0
DALARM:20131006T000000;PT10M;2;Mount Ida vs. Lasell
END:VEVENT
BEGIN:VEVENT
DTSTART:20131012T000000
DTEND:20131012T000000
SUMMARY:Rivier vs. Anna Maria
DESCRIPTION:2013 Anna Maria can share a a bus w WS --- 2013 Men's Soccer - Great Northeast Athletic Conference
LOCATION:Nashua, NH
CATEGORIES:QuickScores; Soccer Game
TRANSP:0
DALARM:20131012T000000;PT10M;2;Rivier vs. Anna Maria
END:VEVENT
BEGIN:VEVENT
DTSTART:20131012T000000
DTEND:20131012T000000
SUMMARY:Johnson & Wales vs. Lasell
DESCRIPTION:2013 LAS can share a bus w WS --- 2013 Men's Soccer - Great Northeast Athletic Conference
LOCATION:Providence, RI
CATEGORIES:QuickScores; Soccer Game
TRANSP:0
DALARM:20131012T000000;PT10M;2;Johnson & Wales vs. Lasell
END:VEVENT
BEGIN:VEVENT
DTSTART:20131012T000000
DTEND:20131012T000000
SUMMARY:Suffolk vs. Norwich
DESCRIPTION:2013 DH. NOR MS can share bus w WS --- 2013 Men's Soccer - Great Northeast Athletic Conference
LOCATION:Dilboy Stadium Somerville
CATEGORIES:QuickScores; Soccer Game
TRANSP:0
DALARM:20131012T000000;PT10M;2;Suffolk vs. Norwich
END:VEVENT
BEGIN:VEVENT
DTSTART:20131012T000000
DTEND:20131012T000000
SUMMARY:Emmanuel vs. Saint Joseph ME
DESCRIPTION:EMM 2013 Family Weekend. STJME can share a bus w WS --- 2013 Men's Soccer - Great Northeast Athletic Conference
LOCATION:Roberto Clemente Field
CATEGORIES:QuickScores; Soccer Game
TRANSP:0
DALARM:20131012T000000;PT10M;2;Emmanuel vs. Saint Joseph ME
END:VEVENT
BEGIN:VEVENT
DTSTART:20131012T000000
DTEND:20131012T000000
SUMMARY:Mount Ida vs. Albertus Magnus
DESCRIPTION:NODHP --- 2013 Men's Soccer - Great Northeast Athletic Conference
LOCATION:Mount Ida
CATEGORIES:QuickScores; Soccer Game
TRANSP:0
DALARM:20131012T000000;PT10M;2;Mount Ida vs. Albertus Magnus
END:VEVENT
BEGIN:VEVENT
DTSTART:20131014T000000
DTEND:20131014T000000
SUMMARY:Suffolk vs. Albertus Magnus
DESCRIPTION:AMC can share a bus w WS --- 2013 Men's Soccer - Great Northeast Athletic Conference
LOCATION:Dilboy Stadium Somerville
CATEGORIES:QuickScores; Soccer Game
TRANSP:0
DALARM:20131014T000000;PT10M;2;Suffolk vs. Albertus Magnus
END:VEVENT
BEGIN:VEVENT
DTSTART:20131014T000000
DTEND:20131014T000000
SUMMARY:Saint Joseph ME vs. Rivier
DESCRIPTION:2013 DH. RIV MS & WS can share a bus --- 2013 Men's Soccer - Great Northeast Athletic Conference
LOCATION:Standish ME
CATEGORIES:QuickScores; Soccer Game
TRANSP:0
DALARM:20131014T000000;PT10M;2;Saint Joseph ME vs. Rivier
END:VEVENT
BEGIN:VEVENT
DTSTART:20131014T000000
DTEND:20131014T000000
SUMMARY:Mount Ida vs. Johnson & Wales
DESCRIPTION:2013 Columbus Day --- 2013 Men's Soccer - Great Northeast Athletic Conference
LOCATION:Mount Ida
CATEGORIES:QuickScores; Soccer Game
TRANSP:0
DALARM:20131014T000000;PT10M;2;Mount Ida vs. Johnson & Wales
END:VEVENT
BEGIN:VEVENT
DTSTART:20131014T000000
DTEND:20131014T000000
SUMMARY:Norwich vs. Lasell
DESCRIPTION:NO DH possible. NOR WS @ LAS. --- 2013 Men's Soccer - Great Northeast Athletic Conference
LOCATION:Northfield, VT
CATEGORIES:QuickScores; Soccer Game
TRANSP:0
DALARM:20131014T000000;PT10M;2;Norwich vs. Lasell
END:VEVENT
BEGIN:VEVENT
DTSTART:20131014T000000
DTEND:20131014T000000
SUMMARY:Anna Maria vs. Emmanuel
DESCRIPTION:2013 DH share a bus w WS --- 2013 Men's Soccer - Great Northeast Athletic Conference
LOCATION:Paxton MA
CATEGORIES:QuickScores; Soccer Game
TRANSP:0
DALARM:20131014T000000;PT10M;2;Anna Maria vs. Emmanuel
END:VEVENT
BEGIN:VEVENT
DTSTART:20131019T000000
DTEND:20131019T000000
SUMMARY:Albertus Magnus vs. Anna Maria
DESCRIPTION:DH w WS share a bus --- 2013 Men's Soccer - Great Northeast Athletic Conference
LOCATION:New Haven, CT
CATEGORIES:QuickScores; Soccer Game
TRANSP:0
DALARM:20131019T000000;PT10M;2;Albertus Magnus vs. Anna Maria
END:VEVENT
BEGIN:VEVENT
DTSTART:20131019T000000
DTEND:20131019T000000
SUMMARY:Lasell vs. Emmanuel
DESCRIPTION:2013 Men's Soccer - Great Northeast Athletic Conference
LOCATION:Taylor Field at Lasell College
CATEGORIES:QuickScores; Soccer Game
TRANSP:0
DALARM:20131019T000000;PT10M;2;Lasell vs. Emmanuel
END:VEVENT
BEGIN:VEVENT
DTSTART:20131019T000000
DTEND:20131019T000000
SUMMARY:Norwich vs. Rivier
DESCRIPTION:2013 DH w WS. RIV could share a bus. --- 2013 Men's Soccer - Great Northeast Athletic Conference
LOCATION:Northfield, VT
CATEGORIES:QuickScores; Soccer Game
TRANSP:0
DALARM:20131019T000000;PT10M;2;Norwich vs. Rivier
END:VEVENT
BEGIN:VEVENT
DTSTART:20131019T000000
DTEND:20131019T000000
SUMMARY:Johnson & Wales vs. Saint Joseph ME
DESCRIPTION:No doubleheader possible with WS. Opposite sites --- 2013 Men's Soccer - Great Northeast Athletic Conference
LOCATION:Providence, RI
CATEGORIES:QuickScores; Soccer Game
TRANSP:0
DALARM:20131019T000000;PT10M;2;Johnson & Wales vs. Saint Joseph ME
END:VEVENT
BEGIN:VEVENT
DTSTART:20131019T000000
DTEND:20131019T000000
SUMMARY:Suffolk vs. Mount Ida
DESCRIPTION:2013 Men's Soccer - Great Northeast Athletic Conference
LOCATION:Dilboy Stadium Somerville
CATEGORIES:QuickScores; Soccer Game
TRANSP:0
DALARM:20131019T000000;PT10M;2;Suffolk vs. Mount Ida
END:VEVENT
BEGIN:VEVENT
DTSTART:20131023T000000
DTEND:20131023T000000
SUMMARY:Albertus Magnus vs. Johnson & Wales
DESCRIPTION:2013 DH. JWU MS&WVB can share a bus. --- 2013 Men's Soccer - Great Northeast Athletic Conference
LOCATION:New Haven, CT
CATEGORIES:QuickScores; Soccer Game
TRANSP:0
DALARM:20131023T000000;PT10M;2;Albertus Magnus vs. Johnson & Wales
END:VEVENT
BEGIN:VEVENT
DTSTART:20131023T000000
DTEND:20131023T000000
SUMMARY:Anna Maria vs. Norwich
DESCRIPTION:NOR can share a bus w WVB --- 2013 Men's Soccer - Great Northeast Athletic Conference
LOCATION:Paxton MA
CATEGORIES:QuickScores; Soccer Game
TRANSP:0
DALARM:20131023T000000;PT10M;2;Anna Maria vs. Norwich
END:VEVENT
BEGIN:VEVENT
DTSTART:20131023T000000
DTEND:20131023T000000
SUMMARY:Rivier vs. Lasell
DESCRIPTION:LAS can share a bus w WVB --- 2013 Men's Soccer - Great Northeast Athletic Conference
LOCATION:Nashua, NH
CATEGORIES:QuickScores; Soccer Game
TRANSP:0
DALARM:20131023T000000;PT10M;2;Rivier vs. Lasell
END:VEVENT
BEGIN:VEVENT
DTSTART:20131023T000000
DTEND:20131023T000000
SUMMARY:Saint Joseph ME vs. Mount Ida
DESCRIPTION:NDHP --- 2013 Men's Soccer - Great Northeast Athletic Conference
LOCATION:Standish ME
CATEGORIES:QuickScores; Soccer Game
TRANSP:0
DALARM:20131023T000000;PT10M;2;Saint Joseph ME vs. Mount Ida
END:VEVENT
BEGIN:VEVENT
DTSTART:20131023T000000
DTEND:20131023T000000
SUMMARY:Emmanuel vs. Suffolk
DESCRIPTION:2013 Men's Soccer - Great Northeast Athletic Conference
LOCATION:Roberto Clemente Field
CATEGORIES:QuickScores; Soccer Game
TRANSP:0
DALARM:20131023T000000;PT10M;2;Emmanuel vs. Suffolk
END:VEVENT
BEGIN:VEVENT
DTSTART:20131026T000000
DTEND:20131026T000000
SUMMARY:Rivier vs. Suffolk
DESCRIPTION:SUF can share a bus w WVB --- 2013 Men's Soccer - Great Northeast Athletic Conference
LOCATION:Nashua, NH
CATEGORIES:QuickScores; Soccer Game
TRANSP:0
DALARM:20131026T000000;PT10M;2;Rivier vs. Suffolk
END:VEVENT
BEGIN:VEVENT
DTSTART:20131026T000000
DTEND:20131026T000000
SUMMARY:Johnson & Wales vs. Anna Maria
DESCRIPTION:DH. Anna Maria share a bus w WS --- 2013 Men's Soccer - Great Northeast Athletic Conference
LOCATION:Providence, RI
CATEGORIES:QuickScores; Soccer Game
TRANSP:0
DALARM:20131026T000000;PT10M;2;Johnson & Wales vs. Anna Maria
END:VEVENT
BEGIN:VEVENT
DTSTART:20131026T000000
DTEND:20131026T000000
SUMMARY:Emmanuel vs. Albertus Magnus
DESCRIPTION:2013 DH. AMC can share a bus with WS --- 2013 Men's Soccer - Great Northeast Athletic Conference
LOCATION:Roberto Clemente Field
CATEGORIES:QuickScores; Soccer Game
TRANSP:0
DALARM:20131026T000000;PT10M;2;Emmanuel vs. Albertus Magnus
END:VEVENT
BEGIN:VEVENT
DTSTART:20131026T000000
DTEND:20131026T000000
SUMMARY:Mount Ida vs. Norwich
DESCRIPTION:2013 Men's Soccer - Great Northeast Athletic Conference
LOCATION:Mount Ida
CATEGORIES:QuickScores; Soccer Game
TRANSP:0
DALARM:20131026T000000;PT10M;2;Mount Ida vs. Norwich
END:VEVENT
BEGIN:VEVENT
DTSTART:20131026T000000
DTEND:20131026T000000
SUMMARY:Lasell vs. Saint Joseph ME
DESCRIPTION:DH. STJME MS &WS can share a bus --- 2013 Men's Soccer - Great Northeast Athletic Conference
LOCATION:Taylor Field at Lasell College
CATEGORIES:QuickScores; Soccer Game
TRANSP:0
DALARM:20131026T000000;PT10M;2;Lasell vs. Saint Joseph ME
END:VEVENT
BEGIN:VEVENT
DTSTART:20131103T000000
DTEND:20131103T000000
SUMMARY:#7 Seed vs. #2 Seed
DESCRIPTION:2013 Men's Soccer - Great Northeast Athletic Conference
LOCATION:Field of #2 seed
CATEGORIES:QuickScores; Soccer Game
TRANSP:0
DALARM:20131103T000000;PT10M;2;#7 Seed vs. #2 Seed
END:VEVENT
BEGIN:VEVENT
DTSTART:20131103T000000
DTEND:20131103T000000
SUMMARY:#3 Seed vs. #6 Seed
DESCRIPTION:2013 Men's Soccer - Great Northeast Athletic Conference
LOCATION:Field of #3 seed
CATEGORIES:QuickScores; Soccer Game
TRANSP:0
DALARM:20131103T000000;PT10M;2;#3 Seed vs. #6 Seed
END:VEVENT
BEGIN:VEVENT
DTSTART:20131103T000000
DTEND:20131103T000000
SUMMARY:#5 Seed vs. #4 Seed
DESCRIPTION:2013 Men's Soccer - Great Northeast Athletic Conference
LOCATION:Field of #4 seed
CATEGORIES:QuickScores; Soccer Game
TRANSP:0
DALARM:20131103T000000;PT10M;2;#5 Seed vs. #4 Seed
END:VEVENT
BEGIN:VEVENT
DTSTART:20131103T000000
DTEND:20131103T000000
SUMMARY:#1 Seed vs. #8 Seed
DESCRIPTION:2013 Men's Soccer - Great Northeast Athletic Conference
LOCATION:Field of #1 seed
CATEGORIES:QuickScores; Soccer Game
TRANSP:0
DALARM:20131103T000000;PT10M;2;#1 Seed vs. #8 Seed
END:VEVENT
BEGIN:VEVENT
DTSTART:20131106T000000
DTEND:20131106T000000
SUMMARY:Winner of Game 1 vs. Winner of Game 2
DESCRIPTION:2013 Men's Soccer - Great Northeast Athletic Conference
LOCATION:Hosted by highest remaining seed
CATEGORIES:QuickScores; Soccer Game
TRANSP:0
DALARM:20131106T000000;PT10M;2;Winner of Game 1 vs. Winner of Game 2
END:VEVENT
BEGIN:VEVENT
DTSTART:20131106T000000
DTEND:20131106T000000
SUMMARY:Winner of Game 3 vs. Winner of Game 4
DESCRIPTION:2013 Men's Soccer - Great Northeast Athletic Conference
LOCATION:Hosted by highest remaining seed
CATEGORIES:QuickScores; Soccer Game
TRANSP:0
DALARM:20131106T000000;PT10M;2;Winner of Game 3 vs. Winner of Game 4
END:VEVENT
BEGIN:VEVENT
DTSTART:20131109T000000
DTEND:20131109T000000
SUMMARY:Winner of Game 5 vs. Winner of Game 6
DESCRIPTION:2013 Men's Soccer - Great Northeast Athletic Conference
LOCATION:Hosted by highest remaining seed
CATEGORIES:QuickScores; Soccer Game
TRANSP:0
DALARM:20131109T000000;PT10M;2;Winner of Game 5 vs. Winner of Game 6
END:VEVENT
END:VCALENDAR
