BEGIN:VCALENDAR
VERSION:1.0
BEGIN:VEVENT
DTSTART:20120908T000000
DTEND:20120908T000000
SUMMARY:Suffolk vs. Anna Maria
DESCRIPTION:Anna Maria MS could share a bus w WS going to LAS --- 2012 Men's Soccer - Great Northeast Athletic Conference
LOCATION:Dilboy Stadium Somerville
CATEGORIES:QuickScores; Soccer Game
TRANSP:0
DALARM:20120908T000000;PT10M;2;Suffolk vs. Anna Maria
END:VEVENT
BEGIN:VEVENT
DTSTART:20120908T000000
DTEND:20120908T000000
SUMMARY:Albertus Magnus vs. Mount Ida
DESCRIPTION:No DH possible --- 2012 Men's Soccer - Great Northeast Athletic Conference
LOCATION:New Haven, CT
CATEGORIES:QuickScores; Soccer Game
TRANSP:0
DALARM:20120908T000000;PT10M;2;Albertus Magnus vs. Mount Ida
END:VEVENT
BEGIN:VEVENT
DTSTART:20120908T000000
DTEND:20120908T000000
SUMMARY:Emmanuel vs. Lasell
DESCRIPTION:2012 Men's Soccer - Great Northeast Athletic Conference
LOCATION:Roberto Clemente Field
CATEGORIES:QuickScores; Soccer Game
TRANSP:0
DALARM:20120908T000000;PT10M;2;Emmanuel vs. Lasell
END:VEVENT
BEGIN:VEVENT
DTSTART:20120908T000000
DTEND:20120908T000000
SUMMARY:Saint Joseph ME vs. Johnson & Wales
DESCRIPTION:no DH possible. opposite sites --- 2012 Men's Soccer - Great Northeast Athletic Conference
LOCATION:Standish ME
CATEGORIES:QuickScores; Soccer Game
TRANSP:0
DALARM:20120908T000000;PT10M;2;Saint Joseph ME vs. Johnson & Wales
END:VEVENT
BEGIN:VEVENT
DTSTART:20120908T000000
DTEND:20120908T000000
SUMMARY:Rivier vs. Norwich
DESCRIPTION:2012 DH MS & WS could share a bus. --- 2012 Men's Soccer - Great Northeast Athletic Conference
LOCATION:Nashua, NH
CATEGORIES:QuickScores; Soccer Game
TRANSP:0
DALARM:20120908T000000;PT10M;2;Rivier vs. Norwich
END:VEVENT
BEGIN:VEVENT
DTSTART:20120912T000000
DTEND:20120912T000000
SUMMARY:Albertus Magnus vs. Saint Joseph ME
DESCRIPTION:2012 Men's Soccer - Great Northeast Athletic Conference
LOCATION:New Haven, CT
CATEGORIES:QuickScores; Soccer Game
TRANSP:0
DALARM:20120912T000000;PT10M;2;Albertus Magnus vs. Saint Joseph ME
END:VEVENT
BEGIN:VEVENT
DTSTART:20120912T000000
DTEND:20120912T000000
SUMMARY:Mount Ida vs. Suffolk
DESCRIPTION:IDA has home football on Saturday 10/6/12 and all GNAC schools have Columbus Day Monday games --- 2012 Men's Soccer - Great Northeast Athletic Conference
LOCATION:Mount Ida
CATEGORIES:QuickScores; Soccer Game
TRANSP:0
DALARM:20120912T000000;PT10M;2;Mount Ida vs. Suffolk
END:VEVENT
BEGIN:VEVENT
DTSTART:20120915T000000
DTEND:20120915T000000
SUMMARY:Johnson & Wales vs. Emmanuel
DESCRIPTION:2012 Men's Soccer - Great Northeast Athletic Conference
LOCATION:Providence, RI
CATEGORIES:QuickScores; Soccer Game
TRANSP:0
DALARM:20120915T000000;PT10M;2;Johnson & Wales vs. Emmanuel
END:VEVENT
BEGIN:VEVENT
DTSTART:20120915T000000
DTEND:20120915T000000
SUMMARY:Norwich vs. Suffolk
DESCRIPTION:2012 DH. MS & WS can share bus --- 2012 Men's Soccer - Great Northeast Athletic Conference
LOCATION:Northfield, VT
CATEGORIES:QuickScores; Soccer Game
TRANSP:0
DALARM:20120915T000000;PT10M;2;Norwich vs. Suffolk
END:VEVENT
BEGIN:VEVENT
DTSTART:20120915T000000
DTEND:20120915T000000
SUMMARY:Emerson vs. Albertus Magnus
DESCRIPTION:EME 2012 Homecoming. AMC MS, WS and WT can share a bus --- 2012 Men's Soccer - Great Northeast Athletic Conference
LOCATION:Rotch Field
CATEGORIES:QuickScores; Soccer Game
TRANSP:0
DALARM:20120915T000000;PT10M;2;Emerson vs. Albertus Magnus
END:VEVENT
BEGIN:VEVENT
DTSTART:20120915T000000
DTEND:20120915T000000
SUMMARY:Mount Ida vs. Saint Joseph ME
DESCRIPTION:2012 Men's Soccer - Great Northeast Athletic Conference
LOCATION:Mount Ida
CATEGORIES:QuickScores; Soccer Game
TRANSP:0
DALARM:20120915T000000;PT10M;2;Mount Ida vs. Saint Joseph ME
END:VEVENT
BEGIN:VEVENT
DTSTART:20120915T000000
DTEND:20120915T000000
SUMMARY:Anna Maria vs. Rivier
DESCRIPTION:2012 DH. MS & WS can share a bus --- 2012 Men's Soccer - Great Northeast Athletic Conference
LOCATION:Paxton MA
CATEGORIES:QuickScores; Soccer Game
TRANSP:0
DALARM:20120915T000000;PT10M;2;Anna Maria vs. Rivier
END:VEVENT
BEGIN:VEVENT
DTSTART:20120919T000000
DTEND:20120919T000000
SUMMARY:Suffolk vs. Emmanuel
DESCRIPTION:2012 Men's Soccer - Great Northeast Athletic Conference
LOCATION:Dilboy Stadium Somerville
CATEGORIES:QuickScores; Soccer Game
TRANSP:0
DALARM:20120919T000000;PT10M;2;Suffolk vs. Emmanuel
END:VEVENT
BEGIN:VEVENT
DTSTART:20120919T000000
DTEND:20120919T000000
SUMMARY:Anna Maria vs. Albertus Magnus
DESCRIPTION:AMC can share a bus w WS --- 2012 Men's Soccer - Great Northeast Athletic Conference
LOCATION:Paxton MA
CATEGORIES:QuickScores; Soccer Game
TRANSP:0
DALARM:20120919T000000;PT10M;2;Anna Maria vs. Albertus Magnus
END:VEVENT
BEGIN:VEVENT
DTSTART:20120919T000000
DTEND:20120919T000000
SUMMARY:Lasell vs. Norwich
DESCRIPTION:2012 Men's Soccer - Great Northeast Athletic Conference
LOCATION:Lasell Newton
CATEGORIES:QuickScores; Soccer Game
TRANSP:0
DALARM:20120919T000000;PT10M;2;Lasell vs. Norwich
END:VEVENT
BEGIN:VEVENT
DTSTART:20120922T000000
DTEND:20120922T000000
SUMMARY:Saint Joseph ME vs. Emerson
DESCRIPTION:STJME Homecoming. DH MS & WS can share a bus --- 2012 Men's Soccer - Great Northeast Athletic Conference
LOCATION:Standish ME
CATEGORIES:QuickScores; Soccer Game
TRANSP:0
DALARM:20120922T000000;PT10M;2;Saint Joseph ME vs. Emerson
END:VEVENT
BEGIN:VEVENT
DTSTART:20120922T000000
DTEND:20120922T000000
SUMMARY:Suffolk vs. Johnson & Wales
DESCRIPTION:2012 Men's Soccer - Great Northeast Athletic Conference
LOCATION:Dilboy Stadium Somerville
CATEGORIES:QuickScores; Soccer Game
TRANSP:0
DALARM:20120922T000000;PT10M;2;Suffolk vs. Johnson & Wales
END:VEVENT
BEGIN:VEVENT
DTSTART:20120922T000000
DTEND:20120922T000000
SUMMARY:Rivier vs. Albertus Magnus
DESCRIPTION:No DH possible. Opposite sites --- 2012 Men's Soccer - Great Northeast Athletic Conference
LOCATION:Nashua, NH
CATEGORIES:QuickScores; Soccer Game
TRANSP:0
DALARM:20120922T000000;PT10M;2;Rivier vs. Albertus Magnus
END:VEVENT
BEGIN:VEVENT
DTSTART:20120922T000000
DTEND:20120922T000000
SUMMARY:Norwich vs. Anna Maria
DESCRIPTION:2012 DH. MS & WS can share a bus --- 2012 Men's Soccer - Great Northeast Athletic Conference
LOCATION:Northfield, VT
CATEGORIES:QuickScores; Soccer Game
TRANSP:0
DALARM:20120922T000000;PT10M;2;Norwich vs. Anna Maria
END:VEVENT
BEGIN:VEVENT
DTSTART:20120922T000000
DTEND:20120922T000000
SUMMARY:Lasell vs. Mount Ida
DESCRIPTION:2012 Men's Soccer - Great Northeast Athletic Conference
LOCATION:Lasell Newton
CATEGORIES:QuickScores; Soccer Game
TRANSP:0
DALARM:20120922T000000;PT10M;2;Lasell vs. Mount Ida
END:VEVENT
BEGIN:VEVENT
DTSTART:20120925T000000
DTEND:20120925T000000
SUMMARY:Saint Joseph ME vs. Suffolk
DESCRIPTION:2012 Men's Soccer - Great Northeast Athletic Conference
LOCATION:Standish ME
CATEGORIES:QuickScores; Soccer Game
TRANSP:0
DALARM:20120925T000000;PT10M;2;Saint Joseph ME vs. Suffolk
END:VEVENT
BEGIN:VEVENT
DTSTART:20120925T000000
DTEND:20120925T000000
SUMMARY:Emmanuel vs. Rivier
DESCRIPTION:2012 Men's Soccer - Great Northeast Athletic Conference
LOCATION:Roberto Clemente Field
CATEGORIES:QuickScores; Soccer Game
TRANSP:0
DALARM:20120925T000000;PT10M;2;Emmanuel vs. Rivier
END:VEVENT
BEGIN:VEVENT
DTSTART:20120925T000000
DTEND:20120925T000000
SUMMARY:Johnson & Wales vs. Emerson
DESCRIPTION:2012 Men's Soccer - Great Northeast Athletic Conference
LOCATION:Providence, RI
CATEGORIES:QuickScores; Soccer Game
TRANSP:0
DALARM:20120925T000000;PT10M;2;Johnson & Wales vs. Emerson
END:VEVENT
BEGIN:VEVENT
DTSTART:20120925T000000
DTEND:20120925T000000
SUMMARY:Mount Ida vs. Anna Maria
DESCRIPTION:Anna Maria could share a bus w WVB going to LAS --- 2012 Men's Soccer - Great Northeast Athletic Conference
LOCATION:Mount Ida
CATEGORIES:QuickScores; Soccer Game
TRANSP:0
DALARM:20120925T000000;PT10M;2;Mount Ida vs. Anna Maria
END:VEVENT
BEGIN:VEVENT
DTSTART:20120929T000000
DTEND:20120929T000000
SUMMARY:Lasell vs. Rivier
DESCRIPTION:2012 Men's Soccer - Great Northeast Athletic Conference
LOCATION:Lasell Newton
CATEGORIES:QuickScores; Soccer Game
TRANSP:0
DALARM:20120929T000000;PT10M;2;Lasell vs. Rivier
END:VEVENT
BEGIN:VEVENT
DTSTART:20120929T000000
DTEND:20120929T000000
SUMMARY:Albertus Magnus vs. Norwich
DESCRIPTION:2012 DH. MS & WS can share a bus --- 2012 Men's Soccer - Great Northeast Athletic Conference
LOCATION:New Haven, CT
CATEGORIES:QuickScores; Soccer Game
TRANSP:0
DALARM:20120929T000000;PT10M;2;Albertus Magnus vs. Norwich
END:VEVENT
BEGIN:VEVENT
DTSTART:20120929T000000
DTEND:20120929T000000
SUMMARY:Emerson vs. Suffolk
DESCRIPTION:2012 Men's Soccer - Great Northeast Athletic Conference
LOCATION:Rotch Field
CATEGORIES:QuickScores; Soccer Game
TRANSP:0
DALARM:20120929T000000;PT10M;2;Emerson vs. Suffolk
END:VEVENT
BEGIN:VEVENT
DTSTART:20120929T000000
DTEND:20120929T000000
SUMMARY:Anna Maria vs. Johnson & Wales
DESCRIPTION:DH MS & WS can share a bus --- 2012 Men's Soccer - Great Northeast Athletic Conference
LOCATION:Paxton MA
CATEGORIES:QuickScores; Soccer Game
TRANSP:0
DALARM:20120929T000000;PT10M;2;Anna Maria vs. Johnson & Wales
END:VEVENT
BEGIN:VEVENT
DTSTART:20120929T000000
DTEND:20120929T000000
SUMMARY:Saint Joseph ME vs. Emmanuel
DESCRIPTION:DH. MS & WS can share a bus --- 2012 Men's Soccer - Great Northeast Athletic Conference
LOCATION:Standish ME
CATEGORIES:QuickScores; Soccer Game
TRANSP:0
DALARM:20120929T000000;PT10M;2;Saint Joseph ME vs. Emmanuel
END:VEVENT
BEGIN:VEVENT
DTSTART:20121003T000000
DTEND:20121003T000000
SUMMARY:Emmanuel vs. Norwich
DESCRIPTION:NOR can share a bus w WS going to IDA --- 2012 Men's Soccer - Great Northeast Athletic Conference
LOCATION:Roberto Clemente Field
CATEGORIES:QuickScores; Soccer Game
TRANSP:0
DALARM:20121003T000000;PT10M;2;Emmanuel vs. Norwich
END:VEVENT
BEGIN:VEVENT
DTSTART:20121003T000000
DTEND:20121003T000000
SUMMARY:Emerson vs. Lasell
DESCRIPTION:2012 Men's Soccer - Great Northeast Athletic Conference
LOCATION:Rotch Field
CATEGORIES:QuickScores; Soccer Game
TRANSP:0
DALARM:20121003T000000;PT10M;2;Emerson vs. Lasell
END:VEVENT
BEGIN:VEVENT
DTSTART:20121003T000000
DTEND:20121003T000000
SUMMARY:Rivier vs. Mount Ida
DESCRIPTION:2012 Men's Soccer - Great Northeast Athletic Conference
LOCATION:Nashua, NH
CATEGORIES:QuickScores; Soccer Game
TRANSP:0
DALARM:20121003T000000;PT10M;2;Rivier vs. Mount Ida
END:VEVENT
BEGIN:VEVENT
DTSTART:20121006T000000
DTEND:20121006T000000
SUMMARY:Anna Maria vs. Lasell
DESCRIPTION:no DH possible --- 2012 Men's Soccer - Great Northeast Athletic Conference
LOCATION:Paxton MA
CATEGORIES:QuickScores; Soccer Game
TRANSP:0
DALARM:20121006T000000;PT10M;2;Anna Maria vs. Lasell
END:VEVENT
BEGIN:VEVENT
DTSTART:20121006T000000
DTEND:20121006T000000
SUMMARY:Emmanuel vs. Emerson
DESCRIPTION:2012 Men's Soccer - Great Northeast Athletic Conference
LOCATION:Roberto Clemente Field
CATEGORIES:QuickScores; Soccer Game
TRANSP:0
DALARM:20121006T000000;PT10M;2;Emmanuel vs. Emerson
END:VEVENT
BEGIN:VEVENT
DTSTART:20121006T000000
DTEND:20121006T000000
SUMMARY:Johnson & Wales vs. Albertus Magnus
DESCRIPTION:JWU 2012 Homecoming. DH MS&WS can share a bus --- 2012 Men's Soccer - Great Northeast Athletic Conference
LOCATION:Providence, RI
CATEGORIES:QuickScores; Soccer Game
TRANSP:0
DALARM:20121006T000000;PT10M;2;Johnson & Wales vs. Albertus Magnus
END:VEVENT
BEGIN:VEVENT
DTSTART:20121006T000000
DTEND:20121006T000000
SUMMARY:Norwich vs. Saint Joseph ME
DESCRIPTION:NOR 2012 Parents Weekend. DH MS & WS can share a bus --- 2012 Men's Soccer - Great Northeast Athletic Conference
LOCATION:Northfield, VT
CATEGORIES:QuickScores; Soccer Game
TRANSP:0
DALARM:20121006T000000;PT10M;2;Norwich vs. Saint Joseph ME
END:VEVENT
BEGIN:VEVENT
DTSTART:20121008T000000
DTEND:20121008T000000
SUMMARY:Rivier vs. Emerson
DESCRIPTION:Columbus Day 2012. Triple Header WVB, MS & WS can share a bus --- 2012 Men's Soccer - Great Northeast Athletic Conference
LOCATION:Nashua, NH
CATEGORIES:QuickScores; Soccer Game
TRANSP:0
DALARM:20121008T000000;PT10M;2;Rivier vs. Emerson
END:VEVENT
BEGIN:VEVENT
DTSTART:20121008T000000
DTEND:20121008T000000
SUMMARY:Anna Maria vs. Saint Joseph ME
DESCRIPTION:Columbus Day 2012. --- 2012 Men's Soccer - Great Northeast Athletic Conference
LOCATION:Paxton MA
CATEGORIES:QuickScores; Soccer Game
TRANSP:0
DALARM:20121008T000000;PT10M;2;Anna Maria vs. Saint Joseph ME
END:VEVENT
BEGIN:VEVENT
DTSTART:20121008T000000
DTEND:20121008T000000
SUMMARY:Albertus Magnus vs. Suffolk
DESCRIPTION:Columbus Day 2012. Triple Header WVB, MS & WS can share a bus --- 2012 Men's Soccer - Great Northeast Athletic Conference
LOCATION:New Haven, CT
CATEGORIES:QuickScores; Soccer Game
TRANSP:0
DALARM:20121008T000000;PT10M;2;Albertus Magnus vs. Suffolk
END:VEVENT
BEGIN:VEVENT
DTSTART:20121008T000000
DTEND:20121008T000000
SUMMARY:Mount Ida vs. Emmanuel
DESCRIPTION:Columbus Day 2012. --- 2012 Men's Soccer - Great Northeast Athletic Conference
LOCATION:Mount Ida
CATEGORIES:QuickScores; Soccer Game
TRANSP:0
DALARM:20121008T000000;PT10M;2;Mount Ida vs. Emmanuel
END:VEVENT
BEGIN:VEVENT
DTSTART:20121008T000000
DTEND:20121008T000000
SUMMARY:Lasell vs. Johnson & Wales
DESCRIPTION:Columbus Day 2012. JWU can share a bus with WS going to EMM --- 2012 Men's Soccer - Great Northeast Athletic Conference
LOCATION:Lasell Newton
CATEGORIES:QuickScores; Soccer Game
TRANSP:0
DALARM:20121008T000000;PT10M;2;Lasell vs. Johnson & Wales
END:VEVENT
BEGIN:VEVENT
DTSTART:20121013T000000
DTEND:20121013T000000
SUMMARY:Rivier vs. Saint Joseph ME
DESCRIPTION:2012 DH. MS & WS can share a bus --- 2012 Men's Soccer - Great Northeast Athletic Conference
LOCATION:Nashua, NH
CATEGORIES:QuickScores; Soccer Game
TRANSP:0
DALARM:20121013T000000;PT10M;2;Rivier vs. Saint Joseph ME
END:VEVENT
BEGIN:VEVENT
DTSTART:20121013T000000
DTEND:20121013T000000
SUMMARY:Johnson & Wales vs. Mount Ida
DESCRIPTION:DH MS & WS can share a bus --- 2012 Men's Soccer - Great Northeast Athletic Conference
LOCATION:Providence, RI
CATEGORIES:QuickScores; Soccer Game
TRANSP:0
DALARM:20121013T000000;PT10M;2;Johnson & Wales vs. Mount Ida
END:VEVENT
BEGIN:VEVENT
DTSTART:20121013T000000
DTEND:20121013T000000
SUMMARY:Lasell vs. Albertus Magnus
DESCRIPTION:LAS Family Weekend 2012. DH MS & WS can share a bus. --- 2012 Men's Soccer - Great Northeast Athletic Conference
LOCATION:Lasell Newton
CATEGORIES:QuickScores; Soccer Game
TRANSP:0
DALARM:20121013T000000;PT10M;2;Lasell vs. Albertus Magnus
END:VEVENT
BEGIN:VEVENT
DTSTART:20121013T000000
DTEND:20121013T000000
SUMMARY:Emerson vs. Norwich
DESCRIPTION:2012 DH. MS&WS can share a bus --- 2012 Men's Soccer - Great Northeast Athletic Conference
LOCATION:Rotch Field
CATEGORIES:QuickScores; Soccer Game
TRANSP:0
DALARM:20121013T000000;PT10M;2;Emerson vs. Norwich
END:VEVENT
BEGIN:VEVENT
DTSTART:20121013T000000
DTEND:20121013T000000
SUMMARY:Emmanuel vs. Anna Maria
DESCRIPTION:2012 EMM Family Weekend. Anna Maria MS, WS and WT can share a bus --- 2012 Men's Soccer - Great Northeast Athletic Conference
LOCATION:Roberto Clemente Field
CATEGORIES:QuickScores; Soccer Game
TRANSP:0
DALARM:20121013T000000;PT10M;2;Emmanuel vs. Anna Maria
END:VEVENT
BEGIN:VEVENT
DTSTART:20121017T000000
DTEND:20121017T000000
SUMMARY:Emerson vs. Anna Maria
DESCRIPTION:2012 Men's Soccer - Great Northeast Athletic Conference
LOCATION:Rotch Field
CATEGORIES:QuickScores; Soccer Game
TRANSP:0
DALARM:20121017T000000;PT10M;2;Emerson vs. Anna Maria
END:VEVENT
BEGIN:VEVENT
DTSTART:20121017T000000
DTEND:20121017T000000
SUMMARY:Suffolk vs. Lasell
DESCRIPTION:2012 Men's Soccer - Great Northeast Athletic Conference
LOCATION:Dilboy Stadium Somerville
CATEGORIES:QuickScores; Soccer Game
TRANSP:0
DALARM:20121017T000000;PT10M;2;Suffolk vs. Lasell
END:VEVENT
BEGIN:VEVENT
DTSTART:20121017T000000
DTEND:20121017T000000
SUMMARY:Johnson & Wales vs. Rivier
DESCRIPTION:2012 Men's Soccer - Great Northeast Athletic Conference
LOCATION:Providence, RI
CATEGORIES:QuickScores; Soccer Game
TRANSP:0
DALARM:20121017T000000;PT10M;2;Johnson & Wales vs. Rivier
END:VEVENT
BEGIN:VEVENT
DTSTART:20121017T000000
DTEND:20121017T000000
SUMMARY:Norwich vs. Mount Ida
DESCRIPTION:IDA can share a bus w WVB --- 2012 Men's Soccer - Great Northeast Athletic Conference
LOCATION:Northfield, VT
CATEGORIES:QuickScores; Soccer Game
TRANSP:0
DALARM:20121017T000000;PT10M;2;Norwich vs. Mount Ida
END:VEVENT
BEGIN:VEVENT
DTSTART:20121020T000000
DTEND:20121020T000000
SUMMARY:Suffolk vs. Rivier
DESCRIPTION:SUF Family Weekend --- 2012 Men's Soccer - Great Northeast Athletic Conference
LOCATION:Dilboy Stadium Somerville
CATEGORIES:QuickScores; Soccer Game
TRANSP:0
DALARM:20121020T000000;PT10M;2;Suffolk vs. Rivier
END:VEVENT
BEGIN:VEVENT
DTSTART:20121020T000000
DTEND:20121020T000000
SUMMARY:Albertus Magnus vs. Emmanuel
DESCRIPTION:2012 AMC Homecoming. DH EMM MS & WS can share a bus --- 2012 Men's Soccer - Great Northeast Athletic Conference
LOCATION:New Haven, CT
CATEGORIES:QuickScores; Soccer Game
TRANSP:0
DALARM:20121020T000000;PT10M;2;Albertus Magnus vs. Emmanuel
END:VEVENT
BEGIN:VEVENT
DTSTART:20121020T000000
DTEND:20121020T000000
SUMMARY:Saint Joseph ME vs. Lasell
DESCRIPTION:2012 STJME Homecoming. DH LAS MS &WS can share a bus --- 2012 Men's Soccer - Great Northeast Athletic Conference
LOCATION:Standish ME
CATEGORIES:QuickScores; Soccer Game
TRANSP:0
DALARM:20121020T000000;PT10M;2;Saint Joseph ME vs. Lasell
END:VEVENT
BEGIN:VEVENT
DTSTART:20121020T000000
DTEND:20121020T000000
SUMMARY:Norwich vs. Johnson & Wales
DESCRIPTION:2012 NOR Parents Weekend. JWU MS&WS can share a bus --- 2012 Men's Soccer - Great Northeast Athletic Conference
LOCATION:Northfield, VT
CATEGORIES:QuickScores; Soccer Game
TRANSP:0
DALARM:20121020T000000;PT10M;2;Norwich vs. Johnson & Wales
END:VEVENT
BEGIN:VEVENT
DTSTART:20121021T000000
DTEND:20121021T000000
SUMMARY:Mount Ida vs. Emerson
DESCRIPTION:IDA has home football on Saturday --- 2012 Men's Soccer - Great Northeast Athletic Conference
LOCATION:Mount Ida
CATEGORIES:QuickScores; Soccer Game
TRANSP:0
DALARM:20121021T000000;PT10M;2;Mount Ida vs. Emerson
END:VEVENT
BEGIN:VEVENT
DTSTART:20121027T000000
DTEND:20121027T000000
SUMMARY:#1 Seed vs. #8 Seed
DESCRIPTION:2012 Men's Soccer - Great Northeast Athletic Conference
LOCATION:Field of #1 seed
CATEGORIES:QuickScores; Soccer Game
TRANSP:0
DALARM:20121027T000000;PT10M;2;#1 Seed vs. #8 Seed
END:VEVENT
BEGIN:VEVENT
DTSTART:20121027T000000
DTEND:20121027T000000
SUMMARY:#5 Seed vs. #4 Seed
DESCRIPTION:2012 Men's Soccer - Great Northeast Athletic Conference
LOCATION:Field of #4 seed
CATEGORIES:QuickScores; Soccer Game
TRANSP:0
DALARM:20121027T000000;PT10M;2;#5 Seed vs. #4 Seed
END:VEVENT
BEGIN:VEVENT
DTSTART:20121030T000000
DTEND:20121030T000000
SUMMARY:Winner of Game 1 vs. Winner of Game 2
DESCRIPTION:2012 Men's Soccer - Great Northeast Athletic Conference
LOCATION:Hosted by highest remaining seed
CATEGORIES:QuickScores; Soccer Game
TRANSP:0
DALARM:20121030T000000;PT10M;2;Winner of Game 1 vs. Winner of Game 2
END:VEVENT
BEGIN:VEVENT
DTSTART:20121103T000000
DTEND:20121103T000000
SUMMARY:Winner of Game 5 vs. Winner of Game 6
DESCRIPTION:2012 Men's Soccer - Great Northeast Athletic Conference
LOCATION:Hosted by highest remaining seed
CATEGORIES:QuickScores; Soccer Game
TRANSP:0
DALARM:20121103T000000;PT10M;2;Winner of Game 5 vs. Winner of Game 6
END:VEVENT
END:VCALENDAR
