BEGIN:VCALENDAR
VERSION:1.0
BEGIN:VEVENT
DTSTART:20260630T180000
DTEND:20260630T200000
SUMMARY:#2 ORANGE vs. #3 BLACK
DESCRIPTION:5/6th Grade Softball District Tournament - Valley League Sports
LOCATION:Henry Hill #3
CATEGORIES:QuickScores; Softball Game
TRANSP:0
DALARM:20260630T160000;PT10M;2;#2 ORANGE vs. #3 BLACK
END:VEVENT
BEGIN:VEVENT
DTSTART:20260630T180000
DTEND:20260630T200000
SUMMARY:#2 BLACK vs. #3 ORANGE
DESCRIPTION:5/6th Grade Softball District Tournament - Valley League Sports
LOCATION:Ash Creek Elementary (Monmouth)
CATEGORIES:QuickScores; Softball Game
TRANSP:0
DALARM:20260630T160000;PT10M;2;#2 BLACK vs. #3 ORANGE
END:VEVENT
BEGIN:VEVENT
DTSTART:20260701T180000
DTEND:20260701T200000
SUMMARY:#1 BLACK vs. Winner of Game 1
DESCRIPTION:5/6th Grade Softball District Tournament - Valley League Sports
LOCATION:Henry Hill #1
CATEGORIES:QuickScores; Softball Game
TRANSP:0
DALARM:20260701T160000;PT10M;2;#1 BLACK vs. Winner of Game 1
END:VEVENT
BEGIN:VEVENT
DTSTART:20260701T180000
DTEND:20260701T200000
SUMMARY:#1 ORANGE vs. Winner of Game 2
DESCRIPTION:5/6th Grade Softball District Tournament - Valley League Sports
LOCATION:Henry Hill #3
CATEGORIES:QuickScores; Softball Game
TRANSP:0
DALARM:20260701T160000;PT10M;2;#1 ORANGE vs. Winner of Game 2
END:VEVENT
BEGIN:VEVENT
DTSTART:20260702T180000
DTEND:20260702T200000
SUMMARY:Loser of Game 3 vs. Loser of Game 4
DESCRIPTION:5/6th Grade Softball District Tournament - Valley League Sports
LOCATION:Central HS Varsity Softball Field (Monmouth)
CATEGORIES:QuickScores; Softball Game
TRANSP:0
DALARM:20260702T160000;PT10M;2;Loser of Game 3 vs. Loser of Game 4
END:VEVENT
BEGIN:VEVENT
DTSTART:20260702T180000
DTEND:20260702T200000
SUMMARY:Winner of Game 3 vs. Winner of Game 4
DESCRIPTION:5/6th Grade Softball District Tournament - Valley League Sports
LOCATION:Western Oregon University Softball Field
CATEGORIES:QuickScores; Softball Game
TRANSP:0
DALARM:20260702T160000;PT10M;2;Winner of Game 3 vs. Winner of Game 4
END:VEVENT
END:VCALENDAR
