BEGIN:VCALENDAR
VERSION:1.0
BEGIN:VEVENT
DTSTART:20260501T174500
DTEND:20260501T184500
SUMMARY:Niles -Diaz (N4) vs. Niles Riptide (N3)
DESCRIPTION:3rd/4th Grade Crosstown Softball - Niles Park District
LOCATION:Pioneer Park #1 (SW Field)
CATEGORIES:QuickScores; Softball Game
TRANSP:0
DALARM:20260501T154500;PT10M;2;Niles -Diaz (N4) vs. Niles Riptide (N3)
END:VEVENT
BEGIN:VEVENT
DTSTART:20260502T110000
DTEND:20260502T120000
SUMMARY:Jr. Warriors vs. Niles Cowgirls (N1)
DESCRIPTION:3rd/4th Grade Crosstown Softball - Niles Park District
LOCATION:Ciampi Field
CATEGORIES:QuickScores; Softball Game
TRANSP:0
DALARM:20260502T090000;PT10M;2;Jr. Warriors vs. Niles Cowgirls (N1)
END:VEVENT
BEGIN:VEVENT
DTSTART:20260504T174500
DTEND:20260504T184500
SUMMARY:Niles Riptide (N3) vs. Knights
DESCRIPTION:3rd/4th Grade Crosstown Softball - Niles Park District
LOCATION:Grennan Heights #1 (SW Field)
CATEGORIES:QuickScores; Softball Game
TRANSP:0
DALARM:20260504T154500;PT10M;2;Niles Riptide (N3) vs. Knights
END:VEVENT
BEGIN:VEVENT
DTSTART:20260506T174500
DTEND:20260506T184500
SUMMARY:Niles - Harres (N2) vs. Niles Cowgirls (N1)
DESCRIPTION:3rd/4th Grade Crosstown Softball - Niles Park District
LOCATION:Jonquil South
CATEGORIES:QuickScores; Softball Game
TRANSP:0
DALARM:20260506T154500;PT10M;2;Niles - Harres (N2) vs. Niles Cowgirls (N1)
END:VEVENT
BEGIN:VEVENT
DTSTART:20260508T173000
DTEND:20260508T183000
SUMMARY:Niles - Harres (N2) vs. Knights
DESCRIPTION:3rd/4th Grade Crosstown Softball - Niles Park District
LOCATION:Jonquil South
CATEGORIES:QuickScores; Softball Game
TRANSP:0
DALARM:20260508T153000;PT10M;2;Niles - Harres (N2) vs. Knights
END:VEVENT
BEGIN:VEVENT
DTSTART:20260508T174500
DTEND:20260508T184500
SUMMARY:Niles -Diaz (N4) vs. Jr. Warriors
DESCRIPTION:3rd/4th Grade Crosstown Softball - Niles Park District
LOCATION:Grennan Heights #2 (NE Field)
CATEGORIES:QuickScores; Softball Game
TRANSP:0
DALARM:20260508T154500;PT10M;2;Niles -Diaz (N4) vs. Jr. Warriors
END:VEVENT
BEGIN:VEVENT
DTSTART:20260511T174500
DTEND:20260511T184500
SUMMARY:Niles Riptide (N3) vs. Niles - Harres (N2)
DESCRIPTION:3rd/4th Grade Crosstown Softball - Niles Park District
LOCATION:Pioneer Park #1 (SW Field)
CATEGORIES:QuickScores; Softball Game
TRANSP:0
DALARM:20260511T154500;PT10M;2;Niles Riptide (N3) vs. Niles - Harres (N2)
END:VEVENT
BEGIN:VEVENT
DTSTART:20260511T174500
DTEND:20260511T184500
SUMMARY:Jr. Warriors vs. Knights
DESCRIPTION:3rd/4th Grade Crosstown Softball - Niles Park District
LOCATION:Ciampi Field
CATEGORIES:QuickScores; Softball Game
TRANSP:0
DALARM:20260511T154500;PT10M;2;Jr. Warriors vs. Knights
END:VEVENT
BEGIN:VEVENT
DTSTART:20260513T174500
DTEND:20260513T184500
SUMMARY:Niles -Diaz (N4) vs. Niles Cowgirls (N1)
DESCRIPTION:3rd/4th Grade Crosstown Softball - Niles Park District
LOCATION:Pioneer Park #1 (SW Field)
CATEGORIES:QuickScores; Softball Game
TRANSP:0
DALARM:20260513T154500;PT10M;2;Niles -Diaz (N4) vs. Niles Cowgirls (N1)
END:VEVENT
BEGIN:VEVENT
DTSTART:20260515T174500
DTEND:20260515T184500
SUMMARY:Knights vs. Niles Riptide (N3)
DESCRIPTION:3rd/4th Grade Crosstown Softball - Niles Park District
LOCATION:Norwood Park #2
CATEGORIES:QuickScores; Softball Game
TRANSP:0
DALARM:20260515T154500;PT10M;2;Knights vs. Niles Riptide (N3)
END:VEVENT
BEGIN:VEVENT
DTSTART:20260515T174500
DTEND:20260515T184500
SUMMARY:Jr. Warriors vs. Niles - Harres (N2)
DESCRIPTION:3rd/4th Grade Crosstown Softball - Niles Park District
LOCATION:Ciampi Field
CATEGORIES:QuickScores; Softball Game
TRANSP:0
DALARM:20260515T154500;PT10M;2;Jr. Warriors vs. Niles - Harres (N2)
END:VEVENT
BEGIN:VEVENT
DTSTART:20260518T174500
DTEND:20260518T184500
SUMMARY:Jr. Warriors vs. Niles Riptide (N3)
DESCRIPTION:3rd/4th Grade Crosstown Softball - Niles Park District
LOCATION:Ciampi Field
CATEGORIES:QuickScores; Softball Game
TRANSP:0
DALARM:20260518T154500;PT10M;2;Jr. Warriors vs. Niles Riptide (N3)
END:VEVENT
BEGIN:VEVENT
DTSTART:20260518T174500
DTEND:20260518T184500
SUMMARY:Knights vs. Niles Cowgirls (N1)
DESCRIPTION:3rd/4th Grade Crosstown Softball - Niles Park District
LOCATION:Norwood Park #2
CATEGORIES:QuickScores; Softball Game
TRANSP:0
DALARM:20260518T154500;PT10M;2;Knights vs. Niles Cowgirls (N1)
END:VEVENT
BEGIN:VEVENT
DTSTART:20260520T174500
DTEND:20260520T184500
SUMMARY:Niles -Diaz (N4) vs. Knights
DESCRIPTION:3rd/4th Grade Crosstown Softball - Niles Park District
LOCATION:Pioneer Park #1 (SW Field)
CATEGORIES:QuickScores; Softball Game
TRANSP:0
DALARM:20260520T154500;PT10M;2;Niles -Diaz (N4) vs. Knights
END:VEVENT
BEGIN:VEVENT
DTSTART:20260520T174500
DTEND:20260520T184500
SUMMARY:Niles Cowgirls (N1) vs. Niles - Harres (N2)
DESCRIPTION:3rd/4th Grade Crosstown Softball - Niles Park District
LOCATION:Culver School
CATEGORIES:QuickScores; Softball Game
TRANSP:0
DALARM:20260520T154500;PT10M;2;Niles Cowgirls (N1) vs. Niles - Harres (N2)
END:VEVENT
BEGIN:VEVENT
DTSTART:20260521T180000
DTEND:20260521T190000
SUMMARY:Niles - Harres (N2) vs. Jr. Warriors
DESCRIPTION:3rd/4th Grade Crosstown Softball - Niles Park District
LOCATION:Jonquil South
CATEGORIES:QuickScores; Softball Game
TRANSP:0
DALARM:20260521T160000;PT10M;2;Niles - Harres (N2) vs. Jr. Warriors
END:VEVENT
BEGIN:VEVENT
DTSTART:20260522T174500
DTEND:20260522T184500
SUMMARY:Niles Cowgirls (N1) vs. Jr. Warriors
DESCRIPTION:3rd/4th Grade Crosstown Softball - Niles Park District
LOCATION:Grennan Heights #1 (SW Field)
CATEGORIES:QuickScores; Softball Game
TRANSP:0
DALARM:20260522T154500;PT10M;2;Niles Cowgirls (N1) vs. Jr. Warriors
END:VEVENT
BEGIN:VEVENT
DTSTART:20260526T174500
DTEND:20260526T184500
SUMMARY:Niles - Harres (N2) vs. Niles -Diaz (N4)
DESCRIPTION:3rd/4th Grade Crosstown Softball - Niles Park District
LOCATION:Grennan Heights #2 (NE Field)
CATEGORIES:QuickScores; Softball Game
TRANSP:0
DALARM:20260526T154500;PT10M;2;Niles - Harres (N2) vs. Niles -Diaz (N4)
END:VEVENT
BEGIN:VEVENT
DTSTART:20260527T174500
DTEND:20260527T184500
SUMMARY:Niles Riptide (N3) vs. Niles Cowgirls (N1)
DESCRIPTION:3rd/4th Grade Crosstown Softball - Niles Park District
LOCATION:Oakton Manor
CATEGORIES:QuickScores; Softball Game
TRANSP:0
DALARM:20260527T154500;PT10M;2;Niles Riptide (N3) vs. Niles Cowgirls (N1)
END:VEVENT
BEGIN:VEVENT
DTSTART:20260528T180000
DTEND:20260528T190000
SUMMARY:Knights vs. Jr. Warriors
DESCRIPTION:3rd/4th Grade Crosstown Softball - Niles Park District
LOCATION:Norwood Park #2
CATEGORIES:QuickScores; Softball Game
TRANSP:0
DALARM:20260528T160000;PT10M;2;Knights vs. Jr. Warriors
END:VEVENT
BEGIN:VEVENT
DTSTART:20260529T174500
DTEND:20260529T184500
SUMMARY:Niles Riptide (N3) vs. Niles -Diaz (N4)
DESCRIPTION:3rd/4th Grade Crosstown Softball - Niles Park District
LOCATION:Jonquil South
CATEGORIES:QuickScores; Softball Game
TRANSP:0
DALARM:20260529T154500;PT10M;2;Niles Riptide (N3) vs. Niles -Diaz (N4)
END:VEVENT
BEGIN:VEVENT
DTSTART:20260601T174500
DTEND:20260601T184500
SUMMARY:Niles Cowgirls (N1) vs. Niles Riptide (N3)
DESCRIPTION:3rd/4th Grade Crosstown Softball - Niles Park District
LOCATION:Pioneer Park #1 (SW Field)
CATEGORIES:QuickScores; Softball Game
TRANSP:0
DALARM:20260601T154500;PT10M;2;Niles Cowgirls (N1) vs. Niles Riptide (N3)
END:VEVENT
BEGIN:VEVENT
DTSTART:20260603T174500
DTEND:20260603T184500
SUMMARY:Jr. Warriors vs. Niles -Diaz (N4)
DESCRIPTION:3rd/4th Grade Crosstown Softball - Niles Park District
LOCATION:Ciampi Field
CATEGORIES:QuickScores; Softball Game
TRANSP:0
DALARM:20260603T154500;PT10M;2;Jr. Warriors vs. Niles -Diaz (N4)
END:VEVENT
BEGIN:VEVENT
DTSTART:20260603T174500
DTEND:20260603T184500
SUMMARY:Niles Cowgirls (N1) vs. Niles - Harres (N2)
DESCRIPTION:3rd/4th Grade Crosstown Softball - Niles Park District
LOCATION:Grennan Heights #1 (SW Field)
CATEGORIES:QuickScores; Softball Game
TRANSP:0
DALARM:20260603T154500;PT10M;2;Niles Cowgirls (N1) vs. Niles - Harres (N2)
END:VEVENT
BEGIN:VEVENT
DTSTART:20260604T174500
DTEND:20260604T184500
SUMMARY:Niles Riptide (N3) vs. Jr. Warriors
DESCRIPTION:3rd/4th Grade Crosstown Softball - Niles Park District
LOCATION:Jonquil South
CATEGORIES:QuickScores; Softball Game
TRANSP:0
DALARM:20260604T154500;PT10M;2;Niles Riptide (N3) vs. Jr. Warriors
END:VEVENT
BEGIN:VEVENT
DTSTART:20260605T174500
DTEND:20260605T184500
SUMMARY:Knights vs. Niles - Harres (N2)
DESCRIPTION:3rd/4th Grade Crosstown Softball - Niles Park District
LOCATION:Norwood Park #2
CATEGORIES:QuickScores; Softball Game
TRANSP:0
DALARM:20260605T154500;PT10M;2;Knights vs. Niles - Harres (N2)
END:VEVENT
BEGIN:VEVENT
DTSTART:20260605T174500
DTEND:20260605T184500
SUMMARY:Niles -Diaz (N4) vs. Niles - Harres (N2)
DESCRIPTION:3rd/4th Grade Crosstown Softball - Niles Park District
LOCATION:Jonquil South
CATEGORIES:QuickScores; Softball Game
TRANSP:0
DALARM:20260605T154500;PT10M;2;Niles -Diaz (N4) vs. Niles - Harres (N2)
END:VEVENT
BEGIN:VEVENT
DTSTART:20260607T130000
DTEND:20260607T140000
SUMMARY:Jr. Warriors vs. Niles Riptide (N3)
DESCRIPTION:3rd/4th Grade Crosstown Softball - Niles Park District
LOCATION:Rand #1
CATEGORIES:QuickScores; Softball Game
TRANSP:0
DALARM:20260607T110000;PT10M;2;Jr. Warriors vs. Niles Riptide (N3)
END:VEVENT
BEGIN:VEVENT
DTSTART:20260608T174500
DTEND:20260608T184500
SUMMARY:Niles Cowgirls (N1) vs. Knights
DESCRIPTION:3rd/4th Grade Crosstown Softball - Niles Park District
LOCATION:Jonquil South
CATEGORIES:QuickScores; Softball Game
TRANSP:0
DALARM:20260608T154500;PT10M;2;Niles Cowgirls (N1) vs. Knights
END:VEVENT
BEGIN:VEVENT
DTSTART:20260609T174500
DTEND:20260609T184500
SUMMARY:Niles - Harres (N2) vs. Niles Riptide (N3)
DESCRIPTION:3rd/4th Grade Crosstown Softball - Niles Park District
LOCATION:Jonquil South
CATEGORIES:QuickScores; Softball Game
TRANSP:0
DALARM:20260609T154500;PT10M;2;Niles - Harres (N2) vs. Niles Riptide (N3)
END:VEVENT
BEGIN:VEVENT
DTSTART:20260610T174500
DTEND:20260610T184500
SUMMARY:Niles Riptide (N3) vs. Niles -Diaz (N4)
DESCRIPTION:3rd/4th Grade Crosstown Softball - Niles Park District
LOCATION:Pioneer Park #1 (SW Field)
CATEGORIES:QuickScores; Softball Game
TRANSP:0
DALARM:20260610T154500;PT10M;2;Niles Riptide (N3) vs. Niles -Diaz (N4)
END:VEVENT
BEGIN:VEVENT
DTSTART:20260610T174500
DTEND:20260610T184500
SUMMARY:Niles - Harres (N2) vs. Knights
DESCRIPTION:3rd/4th Grade Crosstown Softball - Niles Park District
LOCATION:Jonquil South
CATEGORIES:QuickScores; Softball Game
TRANSP:0
DALARM:20260610T154500;PT10M;2;Niles - Harres (N2) vs. Knights
END:VEVENT
BEGIN:VEVENT
DTSTART:20260612T174500
DTEND:20260612T184500
SUMMARY:Knights vs. Niles Cowgirls (N1)
DESCRIPTION:3rd/4th Grade Crosstown Softball - Niles Park District
LOCATION:Norwood Park #2
CATEGORIES:QuickScores; Softball Game
TRANSP:0
DALARM:20260612T154500;PT10M;2;Knights vs. Niles Cowgirls (N1)
END:VEVENT
BEGIN:VEVENT
DTSTART:20260612T181500
DTEND:20260612T191500
SUMMARY:Niles -Diaz (N4) vs. Jr. Warriors
DESCRIPTION:3rd/4th Grade Crosstown Softball - Niles Park District
LOCATION:Jonquil South
CATEGORIES:QuickScores; Softball Game
TRANSP:0
DALARM:20260612T161500;PT10M;2;Niles -Diaz (N4) vs. Jr. Warriors
END:VEVENT
BEGIN:VEVENT
DTSTART:20260616T174500
DTEND:20260616T184500
SUMMARY:Knights vs. Niles -Diaz (N4)
DESCRIPTION:3rd/4th Grade Crosstown Softball - Niles Park District
LOCATION:Norwood Park #2
CATEGORIES:QuickScores; Softball Game
TRANSP:0
DALARM:20260616T154500;PT10M;2;Knights vs. Niles -Diaz (N4)
END:VEVENT
BEGIN:VEVENT
DTSTART:20260619T180000
DTEND:20260619T190000
SUMMARY:Niles Cowgirls (N1) vs. Niles -Diaz (N4)
DESCRIPTION:3rd/4th Grade Crosstown Softball - Niles Park District
LOCATION:Jonquil South
CATEGORIES:QuickScores; Softball Game
TRANSP:0
DALARM:20260619T160000;PT10M;2;Niles Cowgirls (N1) vs. Niles -Diaz (N4)
END:VEVENT
END:VCALENDAR
