BEGIN:VCALENDAR
VERSION:1.0
BEGIN:VEVENT
DTSTART:20260418T120000
DTEND:20260418T130000
SUMMARY:Team 1 - SMITH vs. Team 2 - MILLAT
DESCRIPTION:NC MIDDLE SCHOOL LEAGUE - GIRLS - YMCA of Central Stark County Sports
LOCATION:North Canton YMCA - West Gym
CATEGORIES:QuickScores; Basketball Game
TRANSP:0
DALARM:20260418T100000;PT10M;2;Team 1 - SMITH vs. Team 2 - MILLAT
END:VEVENT
BEGIN:VEVENT
DTSTART:20260418T130000
DTEND:20260418T140000
SUMMARY:Team 2 - MILLAT vs. Team 3 - HOUSE
DESCRIPTION:NC MIDDLE SCHOOL LEAGUE - GIRLS - YMCA of Central Stark County Sports
LOCATION:North Canton YMCA - West Gym
CATEGORIES:QuickScores; Basketball Game
TRANSP:0
DALARM:20260418T110000;PT10M;2;Team 2 - MILLAT vs. Team 3 - HOUSE
END:VEVENT
BEGIN:VEVENT
DTSTART:20260425T120000
DTEND:20260425T130000
SUMMARY:Team 3 - HOUSE vs. Team 1 - SMITH
DESCRIPTION:NC MIDDLE SCHOOL LEAGUE - GIRLS - YMCA of Central Stark County Sports
LOCATION:North Canton YMCA - West Gym
CATEGORIES:QuickScores; Basketball Game
TRANSP:0
DALARM:20260425T100000;PT10M;2;Team 3 - HOUSE vs. Team 1 - SMITH
END:VEVENT
BEGIN:VEVENT
DTSTART:20260425T130000
DTEND:20260425T140000
SUMMARY:Team 2 - MILLAT vs. Team 1 - SMITH
DESCRIPTION:NC MIDDLE SCHOOL LEAGUE - GIRLS - YMCA of Central Stark County Sports
LOCATION:North Canton YMCA - West Gym
CATEGORIES:QuickScores; Basketball Game
TRANSP:0
DALARM:20260425T110000;PT10M;2;Team 2 - MILLAT vs. Team 1 - SMITH
END:VEVENT
BEGIN:VEVENT
DTSTART:20260502T120000
DTEND:20260502T130000
SUMMARY:Team 3 - HOUSE vs. Team 2 - MILLAT
DESCRIPTION:NC MIDDLE SCHOOL LEAGUE - GIRLS - YMCA of Central Stark County Sports
LOCATION:North Canton YMCA - West Gym
CATEGORIES:QuickScores; Basketball Game
TRANSP:0
DALARM:20260502T100000;PT10M;2;Team 3 - HOUSE vs. Team 2 - MILLAT
END:VEVENT
BEGIN:VEVENT
DTSTART:20260502T130000
DTEND:20260502T140000
SUMMARY:Team 1 - SMITH vs. Team 3 - HOUSE
DESCRIPTION:NC MIDDLE SCHOOL LEAGUE - GIRLS - YMCA of Central Stark County Sports
LOCATION:North Canton YMCA - West Gym
CATEGORIES:QuickScores; Basketball Game
TRANSP:0
DALARM:20260502T110000;PT10M;2;Team 1 - SMITH vs. Team 3 - HOUSE
END:VEVENT
BEGIN:VEVENT
DTSTART:20260509T120000
DTEND:20260509T130000
SUMMARY:Team 1 - SMITH vs. Team 2 - MILLAT
DESCRIPTION:NC MIDDLE SCHOOL LEAGUE - GIRLS - YMCA of Central Stark County Sports
LOCATION:North Canton YMCA - West Gym
CATEGORIES:QuickScores; Basketball Game
TRANSP:0
DALARM:20260509T100000;PT10M;2;Team 1 - SMITH vs. Team 2 - MILLAT
END:VEVENT
BEGIN:VEVENT
DTSTART:20260509T130000
DTEND:20260509T140000
SUMMARY:Team 2 - MILLAT vs. Team 3 - HOUSE
DESCRIPTION:NC MIDDLE SCHOOL LEAGUE - GIRLS - YMCA of Central Stark County Sports
LOCATION:North Canton YMCA - West Gym
CATEGORIES:QuickScores; Basketball Game
TRANSP:0
DALARM:20260509T110000;PT10M;2;Team 2 - MILLAT vs. Team 3 - HOUSE
END:VEVENT
BEGIN:VEVENT
DTSTART:20260516T120000
DTEND:20260516T130000
SUMMARY:Team 3 - HOUSE vs. Team 1 - SMITH
DESCRIPTION:NC MIDDLE SCHOOL LEAGUE - GIRLS - YMCA of Central Stark County Sports
LOCATION:North Canton YMCA - West Gym
CATEGORIES:QuickScores; Basketball Game
TRANSP:0
DALARM:20260516T100000;PT10M;2;Team 3 - HOUSE vs. Team 1 - SMITH
END:VEVENT
BEGIN:VEVENT
DTSTART:20260516T130000
DTEND:20260516T140000
SUMMARY:Team 2 - MILLAT vs. Team 1 - SMITH
DESCRIPTION:NC MIDDLE SCHOOL LEAGUE - GIRLS - YMCA of Central Stark County Sports
LOCATION:North Canton YMCA - West Gym
CATEGORIES:QuickScores; Basketball Game
TRANSP:0
DALARM:20260516T110000;PT10M;2;Team 2 - MILLAT vs. Team 1 - SMITH
END:VEVENT
BEGIN:VEVENT
DTSTART:20260523T130000
DTEND:20260523T140000
SUMMARY:Team 1 - SMITH vs. Team 3 - HOUSE
DESCRIPTION:NC MIDDLE SCHOOL LEAGUE - GIRLS - YMCA of Central Stark County Sports
LOCATION:North Canton YMCA - West Gym
CATEGORIES:QuickScores; Basketball Game
TRANSP:0
DALARM:20260523T110000;PT10M;2;Team 1 - SMITH vs. Team 3 - HOUSE
END:VEVENT
END:VCALENDAR
