BEGIN:VCALENDAR
VERSION:1.0
BEGIN:VEVENT
DTSTART:20260419T120000
DTEND:20260419T130000
SUMMARY:NC2 - Coach NICOLE vs. NC5 - Coach GASKINS
DESCRIPTION:7th & 8th Grade League - YMCA of Central Stark County Sports
LOCATION:North Canton YMCA - West Gym
CATEGORIES:QuickScores; Volleyball Game
TRANSP:0
DALARM:20260419T100000;PT10M;2;NC2 - Coach NICOLE vs. NC5 - Coach GASKINS
END:VEVENT
BEGIN:VEVENT
DTSTART:20260419T130000
DTEND:20260419T140000
SUMMARY:NC1 - Coach KIALA vs. LK 1 Coach Coon and Miller
DESCRIPTION:7th & 8th Grade League - YMCA of Central Stark County Sports
LOCATION:North Canton YMCA - West Gym
CATEGORIES:QuickScores; Volleyball Game
TRANSP:0
DALARM:20260419T110000;PT10M;2;NC1 - Coach KIALA vs. LK 1 Coach Coon and Miller
END:VEVENT
BEGIN:VEVENT
DTSTART:20260419T130000
DTEND:20260419T140000
SUMMARY:LK 3 Coach Planey vs. LV 1 - Draime
DESCRIPTION:7th & 8th Grade League - YMCA of Central Stark County Sports
LOCATION:Lake Community YMCA- Court 1
CATEGORIES:QuickScores; Volleyball Game
TRANSP:0
DALARM:20260419T110000;PT10M;2;LK 3 Coach Planey vs. LV 1 - Draime
END:VEVENT
BEGIN:VEVENT
DTSTART:20260419T140000
DTEND:20260419T150000
SUMMARY:NC4 - Coach FERNANDEZ vs. LV 2
DESCRIPTION:7th & 8th Grade League - YMCA of Central Stark County Sports
LOCATION:Lake Community YMCA- Court 1
CATEGORIES:QuickScores; Volleyball Game
TRANSP:0
DALARM:20260419T120000;PT10M;2;NC4 - Coach FERNANDEZ vs. LV 2
END:VEVENT
BEGIN:VEVENT
DTSTART:20260419T160000
DTEND:20260419T170000
SUMMARY:NC3 - Coach CAPALINGO vs. LK 2 Coach Indorf and Ellinwood
DESCRIPTION:7th & 8th Grade League - YMCA of Central Stark County Sports
LOCATION:North Canton YMCA - West Gym
CATEGORIES:QuickScores; Volleyball Game
TRANSP:0
DALARM:20260419T140000;PT10M;2;NC3 - Coach CAPALINGO vs. LK 2 Coach Indorf and Ellinwood
END:VEVENT
BEGIN:VEVENT
DTSTART:20260426T130000
DTEND:20260426T140000
SUMMARY:LK 2 Coach Indorf and Ellinwood vs. LK 3 Coach Planey
DESCRIPTION:7th & 8th Grade League - YMCA of Central Stark County Sports
LOCATION:Lake Community YMCA- Court 1
CATEGORIES:QuickScores; Volleyball Game
TRANSP:0
DALARM:20260426T110000;PT10M;2;LK 2 Coach Indorf and Ellinwood vs. LK 3 Coach Planey
END:VEVENT
BEGIN:VEVENT
DTSTART:20260426T140000
DTEND:20260426T150000
SUMMARY:LK 3 Coach Planey vs. LK 1 Coach Coon and Miller
DESCRIPTION:7th & 8th Grade League - YMCA of Central Stark County Sports
LOCATION:Lake Community YMCA- Court 1
CATEGORIES:QuickScores; Volleyball Game
TRANSP:0
DALARM:20260426T120000;PT10M;2;LK 3 Coach Planey vs. LK 1 Coach Coon and Miller
END:VEVENT
BEGIN:VEVENT
DTSTART:20260426T140000
DTEND:20260426T150000
SUMMARY:NC3 - Coach CAPALINGO vs. NC5 - Coach GASKINS
DESCRIPTION:7th & 8th Grade League - YMCA of Central Stark County Sports
LOCATION:North Canton YMCA - West Gym
CATEGORIES:QuickScores; Volleyball Game
TRANSP:0
DALARM:20260426T120000;PT10M;2;NC3 - Coach CAPALINGO vs. NC5 - Coach GASKINS
END:VEVENT
BEGIN:VEVENT
DTSTART:20260426T150000
DTEND:20260426T160000
SUMMARY:LV 2 vs. NC4 - Coach FERNANDEZ
DESCRIPTION:7th & 8th Grade League - YMCA of Central Stark County Sports
LOCATION:North Canton YMCA - West Gym
CATEGORIES:QuickScores; Volleyball Game
TRANSP:0
DALARM:20260426T130000;PT10M;2;LV 2 vs. NC4 - Coach FERNANDEZ
END:VEVENT
BEGIN:VEVENT
DTSTART:20260426T150000
DTEND:20260426T160000
SUMMARY:LK 1 Coach Coon and Miller vs. LV 1 - Draime
DESCRIPTION:7th & 8th Grade League - YMCA of Central Stark County Sports
LOCATION:Lake Community YMCA- Court 1
CATEGORIES:QuickScores; Volleyball Game
TRANSP:0
DALARM:20260426T130000;PT10M;2;LK 1 Coach Coon and Miller vs. LV 1 - Draime
END:VEVENT
BEGIN:VEVENT
DTSTART:20260426T160000
DTEND:20260426T170000
SUMMARY:NC1 - Coach KIALA vs. NC2 - Coach NICOLE
DESCRIPTION:7th & 8th Grade League - YMCA of Central Stark County Sports
LOCATION:North Canton YMCA - West Gym
CATEGORIES:QuickScores; Volleyball Game
TRANSP:0
DALARM:20260426T140000;PT10M;2;NC1 - Coach KIALA vs. NC2 - Coach NICOLE
END:VEVENT
BEGIN:VEVENT
DTSTART:20260503T120000
DTEND:20260503T130000
SUMMARY:NC5 - Coach GASKINS vs. LK 1 Coach Coon and Miller
DESCRIPTION:7th & 8th Grade League - YMCA of Central Stark County Sports
LOCATION:North Canton YMCA - West Gym
CATEGORIES:QuickScores; Volleyball Game
TRANSP:0
DALARM:20260503T100000;PT10M;2;NC5 - Coach GASKINS vs. LK 1 Coach Coon and Miller
END:VEVENT
BEGIN:VEVENT
DTSTART:20260503T130000
DTEND:20260503T140000
SUMMARY:NC2 - Coach NICOLE vs. LK 3 Coach Planey
DESCRIPTION:7th & 8th Grade League - YMCA of Central Stark County Sports
LOCATION:North Canton YMCA - West Gym
CATEGORIES:QuickScores; Volleyball Game
TRANSP:0
DALARM:20260503T110000;PT10M;2;NC2 - Coach NICOLE vs. LK 3 Coach Planey
END:VEVENT
BEGIN:VEVENT
DTSTART:20260503T130000
DTEND:20260503T140000
SUMMARY:LV 1 - Draime vs. NC3 - Coach CAPALINGO
DESCRIPTION:7th & 8th Grade League - YMCA of Central Stark County Sports
LOCATION:Louisville YMCA  Court 1
CATEGORIES:QuickScores; Volleyball Game
TRANSP:0
DALARM:20260503T110000;PT10M;2;LV 1 - Draime vs. NC3 - Coach CAPALINGO
END:VEVENT
BEGIN:VEVENT
DTSTART:20260503T140000
DTEND:20260503T150000
SUMMARY:LK 2 Coach Indorf and Ellinwood vs. LV 2
DESCRIPTION:7th & 8th Grade League - YMCA of Central Stark County Sports
LOCATION:Louisville YMCA  Court 1
CATEGORIES:QuickScores; Volleyball Game
TRANSP:0
DALARM:20260503T120000;PT10M;2;LK 2 Coach Indorf and Ellinwood vs. LV 2
END:VEVENT
BEGIN:VEVENT
DTSTART:20260503T160000
DTEND:20260503T170000
SUMMARY:NC4 - Coach FERNANDEZ vs. NC1 - Coach KIALA
DESCRIPTION:7th & 8th Grade League - YMCA of Central Stark County Sports
LOCATION:North Canton YMCA - West Gym
CATEGORIES:QuickScores; Volleyball Game
TRANSP:0
DALARM:20260503T140000;PT10M;2;NC4 - Coach FERNANDEZ vs. NC1 - Coach KIALA
END:VEVENT
BEGIN:VEVENT
DTSTART:20260510T130000
DTEND:20260510T140000
SUMMARY:LV 2 vs. LK 3 Coach Planey
DESCRIPTION:7th & 8th Grade League - YMCA of Central Stark County Sports
LOCATION:Lake Community YMCA- Court 1
CATEGORIES:QuickScores; Volleyball Game
TRANSP:0
DALARM:20260510T110000;PT10M;2;LV 2 vs. LK 3 Coach Planey
END:VEVENT
BEGIN:VEVENT
DTSTART:20260510T140000
DTEND:20260510T150000
SUMMARY:NC3 - Coach CAPALINGO vs. NC4 - Coach FERNANDEZ
DESCRIPTION:7th & 8th Grade League - YMCA of Central Stark County Sports
LOCATION:North Canton YMCA - West Gym
CATEGORIES:QuickScores; Volleyball Game
TRANSP:0
DALARM:20260510T120000;PT10M;2;NC3 - Coach CAPALINGO vs. NC4 - Coach FERNANDEZ
END:VEVENT
BEGIN:VEVENT
DTSTART:20260510T140000
DTEND:20260510T150000
SUMMARY:LK 2 Coach Indorf and Ellinwood vs. NC5 - Coach GASKINS
DESCRIPTION:7th & 8th Grade League - YMCA of Central Stark County Sports
LOCATION:Lake Community YMCA- Court 1
CATEGORIES:QuickScores; Volleyball Game
TRANSP:0
DALARM:20260510T120000;PT10M;2;LK 2 Coach Indorf and Ellinwood vs. NC5 - Coach GASKINS
END:VEVENT
BEGIN:VEVENT
DTSTART:20260510T150000
DTEND:20260510T160000
SUMMARY:NC1 - Coach KIALA vs. LV 1 - Draime
DESCRIPTION:7th & 8th Grade League - YMCA of Central Stark County Sports
LOCATION:North Canton YMCA - West Gym
CATEGORIES:QuickScores; Volleyball Game
TRANSP:0
DALARM:20260510T130000;PT10M;2;NC1 - Coach KIALA vs. LV 1 - Draime
END:VEVENT
BEGIN:VEVENT
DTSTART:20260510T160000
DTEND:20260510T170000
SUMMARY:NC2 - Coach NICOLE vs. LK 1 Coach Coon and Miller
DESCRIPTION:7th & 8th Grade League - YMCA of Central Stark County Sports
LOCATION:North Canton YMCA - West Gym
CATEGORIES:QuickScores; Volleyball Game
TRANSP:0
DALARM:20260510T140000;PT10M;2;NC2 - Coach NICOLE vs. LK 1 Coach Coon and Miller
END:VEVENT
BEGIN:VEVENT
DTSTART:20260517T120000
DTEND:20260517T130000
SUMMARY:NC1 - Coach KIALA vs. NC3 - Coach CAPALINGO
DESCRIPTION:7th & 8th Grade League - YMCA of Central Stark County Sports
LOCATION:North Canton YMCA - West Gym
CATEGORIES:QuickScores; Volleyball Game
TRANSP:0
DALARM:20260517T100000;PT10M;2;NC1 - Coach KIALA vs. NC3 - Coach CAPALINGO
END:VEVENT
BEGIN:VEVENT
DTSTART:20260517T120000
DTEND:20260517T130000
SUMMARY:NC2 - Coach NICOLE vs. NC4 - Coach FERNANDEZ
DESCRIPTION:7th & 8th Grade League - YMCA of Central Stark County Sports
LOCATION:North Canton YMCA - East Gym
CATEGORIES:QuickScores; Volleyball Game
TRANSP:0
DALARM:20260517T100000;PT10M;2;NC2 - Coach NICOLE vs. NC4 - Coach FERNANDEZ
END:VEVENT
BEGIN:VEVENT
DTSTART:20260517T130000
DTEND:20260517T140000
SUMMARY:NC2 - Coach NICOLE vs. NC1 - Coach KIALA
DESCRIPTION:7th & 8th Grade League - YMCA of Central Stark County Sports
LOCATION:North Canton YMCA - West Gym
CATEGORIES:QuickScores; Volleyball Game
TRANSP:0
DALARM:20260517T110000;PT10M;2;NC2 - Coach NICOLE vs. NC1 - Coach KIALA
END:VEVENT
BEGIN:VEVENT
DTSTART:20260517T130000
DTEND:20260517T140000
SUMMARY:NC3 - Coach CAPALINGO vs. NC5 - Coach GASKINS
DESCRIPTION:7th & 8th Grade League - YMCA of Central Stark County Sports
LOCATION:North Canton YMCA - East Gym
CATEGORIES:QuickScores; Volleyball Game
TRANSP:0
DALARM:20260517T110000;PT10M;2;NC3 - Coach CAPALINGO vs. NC5 - Coach GASKINS
END:VEVENT
BEGIN:VEVENT
DTSTART:20260517T130000
DTEND:20260517T140000
SUMMARY:LK 1 Coach Coon and Miller vs. LV 2
DESCRIPTION:7th & 8th Grade League - YMCA of Central Stark County Sports
LOCATION:Louisville YMCA  Court 1
CATEGORIES:QuickScores; Volleyball Game
TRANSP:0
DALARM:20260517T110000;PT10M;2;LK 1 Coach Coon and Miller vs. LV 2
END:VEVENT
BEGIN:VEVENT
DTSTART:20260517T140000
DTEND:20260517T150000
SUMMARY:LK 2 Coach Indorf and Ellinwood vs. LV 2
DESCRIPTION:7th & 8th Grade League - YMCA of Central Stark County Sports
LOCATION:Louisville YMCA  Court 1
CATEGORIES:QuickScores; Volleyball Game
TRANSP:0
DALARM:20260517T120000;PT10M;2;LK 2 Coach Indorf and Ellinwood vs. LV 2
END:VEVENT
BEGIN:VEVENT
DTSTART:20260517T150000
DTEND:20260517T160000
SUMMARY:LK 3 Coach Planey vs. LV 1 - Draime
DESCRIPTION:7th & 8th Grade League - YMCA of Central Stark County Sports
LOCATION:Louisville YMCA  Court 1
CATEGORIES:QuickScores; Volleyball Game
TRANSP:0
DALARM:20260517T130000;PT10M;2;LK 3 Coach Planey vs. LV 1 - Draime
END:VEVENT
BEGIN:VEVENT
DTSTART:20260524T120000
DTEND:20260524T130000
SUMMARY:NC4 - Coach FERNANDEZ vs. LV 1 - Draime
DESCRIPTION:7th & 8th Grade League - YMCA of Central Stark County Sports
LOCATION:North Canton YMCA - West Gym
CATEGORIES:QuickScores; Volleyball Game
TRANSP:0
DALARM:20260524T100000;PT10M;2;NC4 - Coach FERNANDEZ vs. LV 1 - Draime
END:VEVENT
BEGIN:VEVENT
DTSTART:20260524T120000
DTEND:20260524T130000
SUMMARY:LK 1 Coach Coon and Miller vs. LK 3 Coach Planey
DESCRIPTION:7th & 8th Grade League - YMCA of Central Stark County Sports
LOCATION:Lake Community YMCA- Court 1
CATEGORIES:QuickScores; Volleyball Game
TRANSP:0
DALARM:20260524T100000;PT10M;2;LK 1 Coach Coon and Miller vs. LK 3 Coach Planey
END:VEVENT
BEGIN:VEVENT
DTSTART:20260524T130000
DTEND:20260524T140000
SUMMARY:NC3 - Coach CAPALINGO vs. NC2 - Coach NICOLE
DESCRIPTION:7th & 8th Grade League - YMCA of Central Stark County Sports
LOCATION:North Canton YMCA - West Gym
CATEGORIES:QuickScores; Volleyball Game
TRANSP:0
DALARM:20260524T110000;PT10M;2;NC3 - Coach CAPALINGO vs. NC2 - Coach NICOLE
END:VEVENT
BEGIN:VEVENT
DTSTART:20260524T130000
DTEND:20260524T140000
SUMMARY:LV 1 - Draime vs. LK 2 Coach Indorf and Ellinwood
DESCRIPTION:7th & 8th Grade League - YMCA of Central Stark County Sports
LOCATION:Lake Community YMCA- Court 1
CATEGORIES:QuickScores; Volleyball Game
TRANSP:0
DALARM:20260524T110000;PT10M;2;LV 1 - Draime vs. LK 2 Coach Indorf and Ellinwood
END:VEVENT
BEGIN:VEVENT
DTSTART:20260524T140000
DTEND:20260524T150000
SUMMARY:LV 2 vs. LK 2 Coach Indorf and Ellinwood
DESCRIPTION:7th & 8th Grade League - YMCA of Central Stark County Sports
LOCATION:Lake Community YMCA- Court 1
CATEGORIES:QuickScores; Volleyball Game
TRANSP:0
DALARM:20260524T120000;PT10M;2;LV 2 vs. LK 2 Coach Indorf and Ellinwood
END:VEVENT
BEGIN:VEVENT
DTSTART:20260524T140000
DTEND:20260524T150000
SUMMARY:NC5 - Coach GASKINS vs. NC1 - Coach KIALA
DESCRIPTION:7th & 8th Grade League - YMCA of Central Stark County Sports
LOCATION:North Canton YMCA - West Gym
CATEGORIES:QuickScores; Volleyball Game
TRANSP:0
DALARM:20260524T120000;PT10M;2;NC5 - Coach GASKINS vs. NC1 - Coach KIALA
END:VEVENT
BEGIN:VEVENT
DTSTART:20260524T150000
DTEND:20260524T160000
SUMMARY:NC4 - Coach FERNANDEZ vs. NC5 - Coach GASKINS
DESCRIPTION:7th & 8th Grade League - YMCA of Central Stark County Sports
LOCATION:North Canton YMCA - West Gym
CATEGORIES:QuickScores; Volleyball Game
TRANSP:0
DALARM:20260524T130000;PT10M;2;NC4 - Coach FERNANDEZ vs. NC5 - Coach GASKINS
END:VEVENT
END:VCALENDAR
