BEGIN:VCALENDAR
VERSION:1.0
BEGIN:VEVENT
DTSTART:20260425T090000
DTEND:20260425T100000
SUMMARY:Kenston - Knittel vs. Kenston - Timmins
DESCRIPTION:Girls 1-2 - Kenston Community Education
LOCATION:Kenston - River Road Park 1 (RR1)
CATEGORIES:QuickScores; Soccer - Youth Game
TRANSP:0
DALARM:20260425T070000;PT10M;2;Kenston - Knittel vs. Kenston - Timmins
END:VEVENT
BEGIN:VEVENT
DTSTART:20260425T090000
DTEND:20260425T100000
SUMMARY:Aurora - Miller vs. Kenston - Warnock
DESCRIPTION:Girls 1-2 - Kenston Community Education
LOCATION:Soccer Field #5 - Aurora
CATEGORIES:QuickScores; Soccer - Youth Game
TRANSP:0
DALARM:20260425T070000;PT10M;2;Aurora - Miller vs. Kenston - Warnock
END:VEVENT
BEGIN:VEVENT
DTSTART:20260425T100000
DTEND:20260425T110000
SUMMARY:Aurora - Nist vs. Kenston - Lange
DESCRIPTION:Girls 1-2 - Kenston Community Education
LOCATION:Soccer Field #5 - Aurora
CATEGORIES:QuickScores; Soccer - Youth Game
TRANSP:0
DALARM:20260425T080000;PT10M;2;Aurora - Nist vs. Kenston - Lange
END:VEVENT
BEGIN:VEVENT
DTSTART:20260502T090000
DTEND:20260502T100000
SUMMARY:Aurora - Miller vs. Kenston - Lange
DESCRIPTION:Girls 1-2 - Kenston Community Education
LOCATION:Soccer Field #6 - Aurora
CATEGORIES:QuickScores; Soccer - Youth Game
TRANSP:0
DALARM:20260502T070000;PT10M;2;Aurora - Miller vs. Kenston - Lange
END:VEVENT
BEGIN:VEVENT
DTSTART:20260502T090000
DTEND:20260502T100000
SUMMARY:Kenston - Warnock vs. Kenston - Timmins
DESCRIPTION:Girls 1-2 - Kenston Community Education
LOCATION:Kenston - River Road Park 1 (RR1)
CATEGORIES:QuickScores; Soccer - Youth Game
TRANSP:0
DALARM:20260502T070000;PT10M;2;Kenston - Warnock vs. Kenston - Timmins
END:VEVENT
BEGIN:VEVENT
DTSTART:20260502T100000
DTEND:20260502T110000
SUMMARY:Kenston - Knittel vs. Aurora - Mismas-Lefebvre
DESCRIPTION:Girls 1-2 - Kenston Community Education
LOCATION:Soccer Field #6 - Aurora
CATEGORIES:QuickScores; Soccer - Youth Game
TRANSP:0
DALARM:20260502T080000;PT10M;2;Kenston - Knittel vs. Aurora - Mismas-Lefebvre
END:VEVENT
BEGIN:VEVENT
DTSTART:20260509T090000
DTEND:20260509T100000
SUMMARY:Kenston - Lange vs. Kenston - Knittel
DESCRIPTION:Girls 1-2 - Kenston Community Education
LOCATION:Kenston - River Road Park 1 (RR1)
CATEGORIES:QuickScores; Soccer - Youth Game
TRANSP:0
DALARM:20260509T070000;PT10M;2;Kenston - Lange vs. Kenston - Knittel
END:VEVENT
BEGIN:VEVENT
DTSTART:20260509T090000
DTEND:20260509T100000
SUMMARY:Aurora - Mismas-Lefebvre vs. Kenston - Timmins
DESCRIPTION:Girls 1-2 - Kenston Community Education
LOCATION:Soccer Field #5 - Aurora
CATEGORIES:QuickScores; Soccer - Youth Game
TRANSP:0
DALARM:20260509T070000;PT10M;2;Aurora - Mismas-Lefebvre vs. Kenston - Timmins
END:VEVENT
BEGIN:VEVENT
DTSTART:20260509T100000
DTEND:20260509T110000
SUMMARY:Kenston - Warnock vs. Aurora - Nist
DESCRIPTION:Girls 1-2 - Kenston Community Education
LOCATION:Soccer Field #5 - Aurora
CATEGORIES:QuickScores; Soccer - Youth Game
TRANSP:0
DALARM:20260509T080000;PT10M;2;Kenston - Warnock vs. Aurora - Nist
END:VEVENT
BEGIN:VEVENT
DTSTART:20260509T100000
DTEND:20260509T110000
SUMMARY:Kenston - Knittel vs. Aurora - Miller
DESCRIPTION:Girls 1-2 - Kenston Community Education
LOCATION:Kenston - River Road Park 1 (RR1)
CATEGORIES:QuickScores; Soccer - Youth Game
TRANSP:0
DALARM:20260509T080000;PT10M;2;Kenston - Knittel vs. Aurora - Miller
END:VEVENT
BEGIN:VEVENT
DTSTART:20260516T090000
DTEND:20260516T100000
SUMMARY:Kenston - Timmins vs. Kenston - Lange
DESCRIPTION:Girls 1-2 - Kenston Community Education
LOCATION:Kenston - River Road Park 1 (RR1)
CATEGORIES:QuickScores; Soccer - Youth Game
TRANSP:0
DALARM:20260516T070000;PT10M;2;Kenston - Timmins vs. Kenston - Lange
END:VEVENT
BEGIN:VEVENT
DTSTART:20260516T090000
DTEND:20260516T100000
SUMMARY:Aurora - Miller vs. Aurora - Nist
DESCRIPTION:Girls 1-2 - Kenston Community Education
LOCATION:Soccer Field #5 - Aurora
CATEGORIES:QuickScores; Soccer - Youth Game
TRANSP:0
DALARM:20260516T070000;PT10M;2;Aurora - Miller vs. Aurora - Nist
END:VEVENT
BEGIN:VEVENT
DTSTART:20260516T100000
DTEND:20260516T110000
SUMMARY:Kenston - Warnock vs. Aurora - Mismas-Lefebvre
DESCRIPTION:Girls 1-2 - Kenston Community Education
LOCATION:Soccer Field #5 - Aurora
CATEGORIES:QuickScores; Soccer - Youth Game
TRANSP:0
DALARM:20260516T080000;PT10M;2;Kenston - Warnock vs. Aurora - Mismas-Lefebvre
END:VEVENT
BEGIN:VEVENT
DTSTART:20260530T090000
DTEND:20260530T100000
SUMMARY:Aurora - Nist vs. Kenston - Knittel
DESCRIPTION:Girls 1-2 - Kenston Community Education
LOCATION:Soccer Field #5 - Aurora
CATEGORIES:QuickScores; Soccer - Youth Game
TRANSP:0
DALARM:20260530T070000;PT10M;2;Aurora - Nist vs. Kenston - Knittel
END:VEVENT
BEGIN:VEVENT
DTSTART:20260530T090000
DTEND:20260530T100000
SUMMARY:Kenston - Lange vs. Kenston - Warnock
DESCRIPTION:Girls 1-2 - Kenston Community Education
LOCATION:Kenston - River Road Park 1 (RR1)
CATEGORIES:QuickScores; Soccer - Youth Game
TRANSP:0
DALARM:20260530T070000;PT10M;2;Kenston - Lange vs. Kenston - Warnock
END:VEVENT
BEGIN:VEVENT
DTSTART:20260530T100000
DTEND:20260530T110000
SUMMARY:Aurora - Mismas-Lefebvre vs. Aurora - Miller
DESCRIPTION:Girls 1-2 - Kenston Community Education
LOCATION:Soccer Field #5 - Aurora
CATEGORIES:QuickScores; Soccer - Youth Game
TRANSP:0
DALARM:20260530T080000;PT10M;2;Aurora - Mismas-Lefebvre vs. Aurora - Miller
END:VEVENT
BEGIN:VEVENT
DTSTART:20260530T100000
DTEND:20260530T110000
SUMMARY:Kenston - Timmins vs. Kenston - Warnock
DESCRIPTION:Girls 1-2 - Kenston Community Education
LOCATION:Kenston - River Road Park 1 (RR1)
CATEGORIES:QuickScores; Soccer - Youth Game
TRANSP:0
DALARM:20260530T080000;PT10M;2;Kenston - Timmins vs. Kenston - Warnock
END:VEVENT
BEGIN:VEVENT
DTSTART:20260606T090000
DTEND:20260606T100000
SUMMARY:Aurora - Mismas-Lefebvre vs. Aurora - Nist
DESCRIPTION:Girls 1-2 - Kenston Community Education
LOCATION:Soccer Field #6 - Aurora
CATEGORIES:QuickScores; Soccer - Youth Game
TRANSP:0
DALARM:20260606T070000;PT10M;2;Aurora - Mismas-Lefebvre vs. Aurora - Nist
END:VEVENT
BEGIN:VEVENT
DTSTART:20260613T090000
DTEND:20260613T100000
SUMMARY:#2 Seed vs. #3 Seed
DESCRIPTION:Girls 1-2 - Kenston Community Education
LOCATION:Soccer Field #5 - Aurora
CATEGORIES:QuickScores; Soccer - Youth Game
TRANSP:0
DALARM:20260613T070000;PT10M;2;#2 Seed vs. #3 Seed
END:VEVENT
BEGIN:VEVENT
DTSTART:20260613T100000
DTEND:20260613T110000
SUMMARY:#1 Seed vs. Winner of Game 1
DESCRIPTION:Girls 1-2 - Kenston Community Education
LOCATION:Soccer Field #5 - Aurora
CATEGORIES:QuickScores; Soccer - Youth Game
TRANSP:0
DALARM:20260613T080000;PT10M;2;#1 Seed vs. Winner of Game 1
END:VEVENT
END:VCALENDAR
