BEGIN:VCALENDAR
VERSION:1.0
BEGIN:VEVENT
DTSTART:20260425T100000
DTEND:20260425T110000
SUMMARY:Kenston - McClellan vs. Kenston - Collins
DESCRIPTION:Boys 1-2 - Kenston Community Education
LOCATION:Kenston - River Road Park 1 (RR1)
CATEGORIES:QuickScores; Soccer - Youth Game
TRANSP:0
DALARM:20260425T080000;PT10M;2;Kenston - McClellan vs. Kenston - Collins
END:VEVENT
BEGIN:VEVENT
DTSTART:20260425T110000
DTEND:20260425T120000
SUMMARY:Aurora - Shoffstall vs. Kenston - Gerhardt
DESCRIPTION:Boys 1-2 - Kenston Community Education
LOCATION:Soccer Field #5 - Aurora
CATEGORIES:QuickScores; Soccer - Youth Game
TRANSP:0
DALARM:20260425T090000;PT10M;2;Aurora - Shoffstall vs. Kenston - Gerhardt
END:VEVENT
BEGIN:VEVENT
DTSTART:20260425T120000
DTEND:20260425T130000
SUMMARY:Kenston - McKinney vs. Aurora - Stefano
DESCRIPTION:Boys 1-2 - Kenston Community Education
LOCATION:Soccer Field #5 - Aurora
CATEGORIES:QuickScores; Soccer - Youth Game
TRANSP:0
DALARM:20260425T100000;PT10M;2;Kenston - McKinney vs. Aurora - Stefano
END:VEVENT
BEGIN:VEVENT
DTSTART:20260502T100000
DTEND:20260502T110000
SUMMARY:Kenston - McKinney vs. Kenston - Gerhardt
DESCRIPTION:Boys 1-2 - Kenston Community Education
LOCATION:Kenston - River Road Park 1 (RR1)
CATEGORIES:QuickScores; Soccer - Youth Game
TRANSP:0
DALARM:20260502T080000;PT10M;2;Kenston - McKinney vs. Kenston - Gerhardt
END:VEVENT
BEGIN:VEVENT
DTSTART:20260502T110000
DTEND:20260502T120000
SUMMARY:Kenston - Collins vs. Aurora - Shoffstall
DESCRIPTION:Boys 1-2 - Kenston Community Education
LOCATION:Soccer Field #6 - Aurora
CATEGORIES:QuickScores; Soccer - Youth Game
TRANSP:0
DALARM:20260502T090000;PT10M;2;Kenston - Collins vs. Aurora - Shoffstall
END:VEVENT
BEGIN:VEVENT
DTSTART:20260502T120000
DTEND:20260502T130000
SUMMARY:Kenston - McClellan vs. Aurora - Markewitz
DESCRIPTION:Boys 1-2 - Kenston Community Education
LOCATION:Soccer Field #6 - Aurora
CATEGORIES:QuickScores; Soccer - Youth Game
TRANSP:0
DALARM:20260502T100000;PT10M;2;Kenston - McClellan vs. Aurora - Markewitz
END:VEVENT
BEGIN:VEVENT
DTSTART:20260509T110000
DTEND:20260509T120000
SUMMARY:Aurora - Shoffstall vs. Aurora - Stefano
DESCRIPTION:Boys 1-2 - Kenston Community Education
LOCATION:Soccer Field #5 - Aurora
CATEGORIES:QuickScores; Soccer - Youth Game
TRANSP:0
DALARM:20260509T090000;PT10M;2;Aurora - Shoffstall vs. Aurora - Stefano
END:VEVENT
BEGIN:VEVENT
DTSTART:20260509T110000
DTEND:20260509T120000
SUMMARY:Aurora - Markewitz vs. Kenston - Collins
DESCRIPTION:Boys 1-2 - Kenston Community Education
LOCATION:Kenston - River Road Park 1 (RR1)
CATEGORIES:QuickScores; Soccer - Youth Game
TRANSP:0
DALARM:20260509T090000;PT10M;2;Aurora - Markewitz vs. Kenston - Collins
END:VEVENT
BEGIN:VEVENT
DTSTART:20260509T120000
DTEND:20260509T130000
SUMMARY:Kenston - Gerhardt vs. Kenston - McClellan
DESCRIPTION:Boys 1-2 - Kenston Community Education
LOCATION:Kenston - River Road Park 1 (RR1)
CATEGORIES:QuickScores; Soccer - Youth Game
TRANSP:0
DALARM:20260509T100000;PT10M;2;Kenston - Gerhardt vs. Kenston - McClellan
END:VEVENT
BEGIN:VEVENT
DTSTART:20260516T100000
DTEND:20260516T110000
SUMMARY:Kenston - Collins vs. Kenston - Gerhardt
DESCRIPTION:Boys 1-2 - Kenston Community Education
LOCATION:Kenston - River Road Park 1 (RR1)
CATEGORIES:QuickScores; Soccer - Youth Game
TRANSP:0
DALARM:20260516T080000;PT10M;2;Kenston - Collins vs. Kenston - Gerhardt
END:VEVENT
BEGIN:VEVENT
DTSTART:20260516T110000
DTEND:20260516T120000
SUMMARY:Aurora - Shoffstall vs. Kenston - McKinney
DESCRIPTION:Boys 1-2 - Kenston Community Education
LOCATION:Kenston - River Road Park 1 (RR1)
CATEGORIES:QuickScores; Soccer - Youth Game
TRANSP:0
DALARM:20260516T090000;PT10M;2;Aurora - Shoffstall vs. Kenston - McKinney
END:VEVENT
BEGIN:VEVENT
DTSTART:20260516T110000
DTEND:20260516T120000
SUMMARY:Aurora - Stefano vs. Kenston - McClellan
DESCRIPTION:Boys 1-2 - Kenston Community Education
LOCATION:Soccer Field #5 - Aurora
CATEGORIES:QuickScores; Soccer - Youth Game
TRANSP:0
DALARM:20260516T090000;PT10M;2;Aurora - Stefano vs. Kenston - McClellan
END:VEVENT
BEGIN:VEVENT
DTSTART:20260516T120000
DTEND:20260516T130000
SUMMARY:Kenston - Gerhardt vs. Aurora - Markewitz
DESCRIPTION:Boys 1-2 - Kenston Community Education
LOCATION:Soccer Field #5 - Aurora
CATEGORIES:QuickScores; Soccer - Youth Game
TRANSP:0
DALARM:20260516T100000;PT10M;2;Kenston - Gerhardt vs. Aurora - Markewitz
END:VEVENT
BEGIN:VEVENT
DTSTART:20260530T110000
DTEND:20260530T120000
SUMMARY:Kenston - Collins vs. Kenston - McKinney
DESCRIPTION:Boys 1-2 - Kenston Community Education
LOCATION:Kenston - River Road Park 1 (RR1)
CATEGORIES:QuickScores; Soccer - Youth Game
TRANSP:0
DALARM:20260530T090000;PT10M;2;Kenston - Collins vs. Kenston - McKinney
END:VEVENT
BEGIN:VEVENT
DTSTART:20260530T110000
DTEND:20260530T120000
SUMMARY:Aurora - Markewitz vs. Aurora - Shoffstall
DESCRIPTION:Boys 1-2 - Kenston Community Education
LOCATION:Soccer Field #5 - Aurora
CATEGORIES:QuickScores; Soccer - Youth Game
TRANSP:0
DALARM:20260530T090000;PT10M;2;Aurora - Markewitz vs. Aurora - Shoffstall
END:VEVENT
BEGIN:VEVENT
DTSTART:20260530T120000
DTEND:20260530T130000
SUMMARY:Kenston - McClellan vs. Kenston - McKinney
DESCRIPTION:Boys 1-2 - Kenston Community Education
LOCATION:Kenston - River Road Park 1 (RR1)
CATEGORIES:QuickScores; Soccer - Youth Game
TRANSP:0
DALARM:20260530T100000;PT10M;2;Kenston - McClellan vs. Kenston - McKinney
END:VEVENT
BEGIN:VEVENT
DTSTART:20260530T120000
DTEND:20260530T130000
SUMMARY:Aurora - Stefano vs. Kenston - Gerhardt
DESCRIPTION:Boys 1-2 - Kenston Community Education
LOCATION:Soccer Field #5 - Aurora
CATEGORIES:QuickScores; Soccer - Youth Game
TRANSP:0
DALARM:20260530T100000;PT10M;2;Aurora - Stefano vs. Kenston - Gerhardt
END:VEVENT
BEGIN:VEVENT
DTSTART:20260606T100000
DTEND:20260606T110000
SUMMARY:Aurora - Stefano vs. Aurora - Markewitz
DESCRIPTION:Boys 1-2 - Kenston Community Education
LOCATION:Soccer Field #6 - Aurora
CATEGORIES:QuickScores; Soccer - Youth Game
TRANSP:0
DALARM:20260606T080000;PT10M;2;Aurora - Stefano vs. Aurora - Markewitz
END:VEVENT
BEGIN:VEVENT
DTSTART:20260613T090000
DTEND:20260613T100000
SUMMARY:#2 Seed vs. #3 Seed
DESCRIPTION:Boys 1-2 - Kenston Community Education
LOCATION:Soccer Field #6 - Aurora
CATEGORIES:QuickScores; Soccer - Youth Game
TRANSP:0
DALARM:20260613T070000;PT10M;2;#2 Seed vs. #3 Seed
END:VEVENT
BEGIN:VEVENT
DTSTART:20260613T100000
DTEND:20260613T110000
SUMMARY:#1 Seed vs. Winner of Game 1
DESCRIPTION:Boys 1-2 - Kenston Community Education
LOCATION:Soccer Field #6 - Aurora
CATEGORIES:QuickScores; Soccer - Youth Game
TRANSP:0
DALARM:20260613T080000;PT10M;2;#1 Seed vs. Winner of Game 1
END:VEVENT
END:VCALENDAR
