BEGIN:VCALENDAR
VERSION:1.0
BEGIN:VEVENT
DTSTART:20260505T180000
DTEND:20260505T190000
SUMMARY:West Linn Eller vs. Canby DeCoste
DESCRIPTION:#12 Junior National - Clackamas County Junior Baseball
LOCATION:TBD
CATEGORIES:QuickScores; Baseball Game
TRANSP:0
DALARM:20260505T160000;PT10M;2;West Linn Eller vs. Canby DeCoste
END:VEVENT
BEGIN:VEVENT
DTSTART:20260505T180000
DTEND:20260505T190000
SUMMARY:Mt Angel Stover vs. Molalla Shultz
DESCRIPTION:#12 Junior National - Clackamas County Junior Baseball
LOCATION:TBD
CATEGORIES:QuickScores; Baseball Game
TRANSP:0
DALARM:20260505T160000;PT10M;2;Mt Angel Stover vs. Molalla Shultz
END:VEVENT
BEGIN:VEVENT
DTSTART:20260505T180000
DTEND:20260505T190000
SUMMARY:McNary Lohrman vs. Country Christian Cristofolo
DESCRIPTION:#12 Junior National - Clackamas County Junior Baseball
LOCATION:TBD
CATEGORIES:QuickScores; Baseball Game
TRANSP:0
DALARM:20260505T160000;PT10M;2;McNary Lohrman vs. Country Christian Cristofolo
END:VEVENT
BEGIN:VEVENT
DTSTART:20260505T180000
DTEND:20260505T190000
SUMMARY:St Paul Kirsch vs. Woodburn Williams
DESCRIPTION:#12 Junior National - Clackamas County Junior Baseball
LOCATION:TBD
CATEGORIES:QuickScores; Baseball Game
TRANSP:0
DALARM:20260505T160000;PT10M;2;St Paul Kirsch vs. Woodburn Williams
END:VEVENT
BEGIN:VEVENT
DTSTART:20260507T180000
DTEND:20260507T190000
SUMMARY:Country Christian Cristofolo vs. St Paul Kirsch
DESCRIPTION:#12 Junior National - Clackamas County Junior Baseball
LOCATION:TBD
CATEGORIES:QuickScores; Baseball Game
TRANSP:0
DALARM:20260507T160000;PT10M;2;Country Christian Cristofolo vs. St Paul Kirsch
END:VEVENT
BEGIN:VEVENT
DTSTART:20260507T180000
DTEND:20260507T190000
SUMMARY:McNary Lohrman vs. Mt Angel Stover
DESCRIPTION:#12 Junior National - Clackamas County Junior Baseball
LOCATION:TBD
CATEGORIES:QuickScores; Baseball Game
TRANSP:0
DALARM:20260507T160000;PT10M;2;McNary Lohrman vs. Mt Angel Stover
END:VEVENT
BEGIN:VEVENT
DTSTART:20260507T180000
DTEND:20260507T190000
SUMMARY:Woodburn Williams vs. West Linn Eller
DESCRIPTION:#12 Junior National - Clackamas County Junior Baseball
LOCATION:TBD
CATEGORIES:QuickScores; Baseball Game
TRANSP:0
DALARM:20260507T160000;PT10M;2;Woodburn Williams vs. West Linn Eller
END:VEVENT
BEGIN:VEVENT
DTSTART:20260507T180000
DTEND:20260507T190000
SUMMARY:Canby DeCoste vs. Molalla Shultz
DESCRIPTION:#12 Junior National - Clackamas County Junior Baseball
LOCATION:TBD
CATEGORIES:QuickScores; Baseball Game
TRANSP:0
DALARM:20260507T160000;PT10M;2;Canby DeCoste vs. Molalla Shultz
END:VEVENT
BEGIN:VEVENT
DTSTART:20260512T180000
DTEND:20260512T190000
SUMMARY:Molalla Shultz vs. St Paul Kirsch
DESCRIPTION:#12 Junior National - Clackamas County Junior Baseball
LOCATION:TBD
CATEGORIES:QuickScores; Baseball Game
TRANSP:0
DALARM:20260512T160000;PT10M;2;Molalla Shultz vs. St Paul Kirsch
END:VEVENT
BEGIN:VEVENT
DTSTART:20260512T180000
DTEND:20260512T190000
SUMMARY:Woodburn Williams vs. Country Christian Cristofolo
DESCRIPTION:#12 Junior National - Clackamas County Junior Baseball
LOCATION:TBD
CATEGORIES:QuickScores; Baseball Game
TRANSP:0
DALARM:20260512T160000;PT10M;2;Woodburn Williams vs. Country Christian Cristofolo
END:VEVENT
BEGIN:VEVENT
DTSTART:20260512T180000
DTEND:20260512T190000
SUMMARY:West Linn Eller vs. McNary Lohrman
DESCRIPTION:#12 Junior National - Clackamas County Junior Baseball
LOCATION:TBD
CATEGORIES:QuickScores; Baseball Game
TRANSP:0
DALARM:20260512T160000;PT10M;2;West Linn Eller vs. McNary Lohrman
END:VEVENT
BEGIN:VEVENT
DTSTART:20260512T180000
DTEND:20260512T190000
SUMMARY:Mt Angel Stover vs. Canby DeCoste
DESCRIPTION:#12 Junior National - Clackamas County Junior Baseball
LOCATION:TBD
CATEGORIES:QuickScores; Baseball Game
TRANSP:0
DALARM:20260512T160000;PT10M;2;Mt Angel Stover vs. Canby DeCoste
END:VEVENT
BEGIN:VEVENT
DTSTART:20260514T180000
DTEND:20260514T190000
SUMMARY:Canby DeCoste vs. McNary Lohrman
DESCRIPTION:#12 Junior National - Clackamas County Junior Baseball
LOCATION:TBD
CATEGORIES:QuickScores; Baseball Game
TRANSP:0
DALARM:20260514T160000;PT10M;2;Canby DeCoste vs. McNary Lohrman
END:VEVENT
BEGIN:VEVENT
DTSTART:20260514T180000
DTEND:20260514T190000
SUMMARY:St Paul Kirsch vs. West Linn Eller
DESCRIPTION:#12 Junior National - Clackamas County Junior Baseball
LOCATION:TBD
CATEGORIES:QuickScores; Baseball Game
TRANSP:0
DALARM:20260514T160000;PT10M;2;St Paul Kirsch vs. West Linn Eller
END:VEVENT
BEGIN:VEVENT
DTSTART:20260514T180000
DTEND:20260514T190000
SUMMARY:Woodburn Williams vs. Mt Angel Stover
DESCRIPTION:#12 Junior National - Clackamas County Junior Baseball
LOCATION:TBD
CATEGORIES:QuickScores; Baseball Game
TRANSP:0
DALARM:20260514T160000;PT10M;2;Woodburn Williams vs. Mt Angel Stover
END:VEVENT
BEGIN:VEVENT
DTSTART:20260514T180000
DTEND:20260514T190000
SUMMARY:Country Christian Cristofolo vs. Molalla Shultz
DESCRIPTION:#12 Junior National - Clackamas County Junior Baseball
LOCATION:TBD
CATEGORIES:QuickScores; Baseball Game
TRANSP:0
DALARM:20260514T160000;PT10M;2;Country Christian Cristofolo vs. Molalla Shultz
END:VEVENT
BEGIN:VEVENT
DTSTART:20260519T180000
DTEND:20260519T190000
SUMMARY:Woodburn Williams vs. Molalla Shultz
DESCRIPTION:#12 Junior National - Clackamas County Junior Baseball
LOCATION:TBD
CATEGORIES:QuickScores; Baseball Game
TRANSP:0
DALARM:20260519T160000;PT10M;2;Woodburn Williams vs. Molalla Shultz
END:VEVENT
BEGIN:VEVENT
DTSTART:20260519T180000
DTEND:20260519T190000
SUMMARY:McNary Lohrman vs. St Paul Kirsch
DESCRIPTION:#12 Junior National - Clackamas County Junior Baseball
LOCATION:TBD
CATEGORIES:QuickScores; Baseball Game
TRANSP:0
DALARM:20260519T160000;PT10M;2;McNary Lohrman vs. St Paul Kirsch
END:VEVENT
BEGIN:VEVENT
DTSTART:20260519T180000
DTEND:20260519T190000
SUMMARY:Mt Angel Stover vs. West Linn Eller
DESCRIPTION:#12 Junior National - Clackamas County Junior Baseball
LOCATION:TBD
CATEGORIES:QuickScores; Baseball Game
TRANSP:0
DALARM:20260519T160000;PT10M;2;Mt Angel Stover vs. West Linn Eller
END:VEVENT
BEGIN:VEVENT
DTSTART:20260519T180000
DTEND:20260519T190000
SUMMARY:Country Christian Cristofolo vs. Canby DeCoste
DESCRIPTION:#12 Junior National - Clackamas County Junior Baseball
LOCATION:TBD
CATEGORIES:QuickScores; Baseball Game
TRANSP:0
DALARM:20260519T160000;PT10M;2;Country Christian Cristofolo vs. Canby DeCoste
END:VEVENT
BEGIN:VEVENT
DTSTART:20260521T180000
DTEND:20260521T190000
SUMMARY:Canby DeCoste vs. Woodburn Williams
DESCRIPTION:#12 Junior National - Clackamas County Junior Baseball
LOCATION:TBD
CATEGORIES:QuickScores; Baseball Game
TRANSP:0
DALARM:20260521T160000;PT10M;2;Canby DeCoste vs. Woodburn Williams
END:VEVENT
BEGIN:VEVENT
DTSTART:20260521T180000
DTEND:20260521T190000
SUMMARY:Country Christian Cristofolo vs. West Linn Eller
DESCRIPTION:#12 Junior National - Clackamas County Junior Baseball
LOCATION:TBD
CATEGORIES:QuickScores; Baseball Game
TRANSP:0
DALARM:20260521T160000;PT10M;2;Country Christian Cristofolo vs. West Linn Eller
END:VEVENT
BEGIN:VEVENT
DTSTART:20260521T180000
DTEND:20260521T190000
SUMMARY:St Paul Kirsch vs. Mt Angel Stover
DESCRIPTION:#12 Junior National - Clackamas County Junior Baseball
LOCATION:TBD
CATEGORIES:QuickScores; Baseball Game
TRANSP:0
DALARM:20260521T160000;PT10M;2;St Paul Kirsch vs. Mt Angel Stover
END:VEVENT
BEGIN:VEVENT
DTSTART:20260521T180000
DTEND:20260521T190000
SUMMARY:Molalla Shultz vs. McNary Lohrman
DESCRIPTION:#12 Junior National - Clackamas County Junior Baseball
LOCATION:TBD
CATEGORIES:QuickScores; Baseball Game
TRANSP:0
DALARM:20260521T160000;PT10M;2;Molalla Shultz vs. McNary Lohrman
END:VEVENT
BEGIN:VEVENT
DTSTART:20260526T180000
DTEND:20260526T190000
SUMMARY:McNary Lohrman vs. Woodburn Williams
DESCRIPTION:#12 Junior National - Clackamas County Junior Baseball
LOCATION:TBD
CATEGORIES:QuickScores; Baseball Game
TRANSP:0
DALARM:20260526T160000;PT10M;2;McNary Lohrman vs. Woodburn Williams
END:VEVENT
BEGIN:VEVENT
DTSTART:20260526T180000
DTEND:20260526T190000
SUMMARY:Mt Angel Stover vs. Country Christian Cristofolo
DESCRIPTION:#12 Junior National - Clackamas County Junior Baseball
LOCATION:TBD
CATEGORIES:QuickScores; Baseball Game
TRANSP:0
DALARM:20260526T160000;PT10M;2;Mt Angel Stover vs. Country Christian Cristofolo
END:VEVENT
BEGIN:VEVENT
DTSTART:20260526T180000
DTEND:20260526T190000
SUMMARY:West Linn Eller vs. Molalla Shultz
DESCRIPTION:#12 Junior National - Clackamas County Junior Baseball
LOCATION:TBD
CATEGORIES:QuickScores; Baseball Game
TRANSP:0
DALARM:20260526T160000;PT10M;2;West Linn Eller vs. Molalla Shultz
END:VEVENT
BEGIN:VEVENT
DTSTART:20260526T180000
DTEND:20260526T190000
SUMMARY:St Paul Kirsch vs. Canby DeCoste
DESCRIPTION:#12 Junior National - Clackamas County Junior Baseball
LOCATION:TBD
CATEGORIES:QuickScores; Baseball Game
TRANSP:0
DALARM:20260526T160000;PT10M;2;St Paul Kirsch vs. Canby DeCoste
END:VEVENT
BEGIN:VEVENT
DTSTART:20260528T180000
DTEND:20260528T190000
SUMMARY:Canby DeCoste vs. West Linn Eller
DESCRIPTION:#12 Junior National - Clackamas County Junior Baseball
LOCATION:TBD
CATEGORIES:QuickScores; Baseball Game
TRANSP:0
DALARM:20260528T160000;PT10M;2;Canby DeCoste vs. West Linn Eller
END:VEVENT
BEGIN:VEVENT
DTSTART:20260528T180000
DTEND:20260528T190000
SUMMARY:Molalla Shultz vs. Mt Angel Stover
DESCRIPTION:#12 Junior National - Clackamas County Junior Baseball
LOCATION:TBD
CATEGORIES:QuickScores; Baseball Game
TRANSP:0
DALARM:20260528T160000;PT10M;2;Molalla Shultz vs. Mt Angel Stover
END:VEVENT
BEGIN:VEVENT
DTSTART:20260528T180000
DTEND:20260528T190000
SUMMARY:Country Christian Cristofolo vs. McNary Lohrman
DESCRIPTION:#12 Junior National - Clackamas County Junior Baseball
LOCATION:TBD
CATEGORIES:QuickScores; Baseball Game
TRANSP:0
DALARM:20260528T160000;PT10M;2;Country Christian Cristofolo vs. McNary Lohrman
END:VEVENT
BEGIN:VEVENT
DTSTART:20260528T180000
DTEND:20260528T190000
SUMMARY:Woodburn Williams vs. St Paul Kirsch
DESCRIPTION:#12 Junior National - Clackamas County Junior Baseball
LOCATION:TBD
CATEGORIES:QuickScores; Baseball Game
TRANSP:0
DALARM:20260528T160000;PT10M;2;Woodburn Williams vs. St Paul Kirsch
END:VEVENT
BEGIN:VEVENT
DTSTART:20260602T180000
DTEND:20260602T190000
SUMMARY:McNary Lohrman vs. Molalla Shultz
DESCRIPTION:#12 Junior National - Clackamas County Junior Baseball
LOCATION:TBD
CATEGORIES:QuickScores; Baseball Game
TRANSP:0
DALARM:20260602T160000;PT10M;2;McNary Lohrman vs. Molalla Shultz
END:VEVENT
BEGIN:VEVENT
DTSTART:20260602T180000
DTEND:20260602T190000
SUMMARY:Mt Angel Stover vs. St Paul Kirsch
DESCRIPTION:#12 Junior National - Clackamas County Junior Baseball
LOCATION:TBD
CATEGORIES:QuickScores; Baseball Game
TRANSP:0
DALARM:20260602T160000;PT10M;2;Mt Angel Stover vs. St Paul Kirsch
END:VEVENT
BEGIN:VEVENT
DTSTART:20260602T180000
DTEND:20260602T190000
SUMMARY:West Linn Eller vs. Country Christian Cristofolo
DESCRIPTION:#12 Junior National - Clackamas County Junior Baseball
LOCATION:TBD
CATEGORIES:QuickScores; Baseball Game
TRANSP:0
DALARM:20260602T160000;PT10M;2;West Linn Eller vs. Country Christian Cristofolo
END:VEVENT
BEGIN:VEVENT
DTSTART:20260602T180000
DTEND:20260602T190000
SUMMARY:Woodburn Williams vs. Canby DeCoste
DESCRIPTION:#12 Junior National - Clackamas County Junior Baseball
LOCATION:TBD
CATEGORIES:QuickScores; Baseball Game
TRANSP:0
DALARM:20260602T160000;PT10M;2;Woodburn Williams vs. Canby DeCoste
END:VEVENT
BEGIN:VEVENT
DTSTART:20260604T180000
DTEND:20260604T190000
SUMMARY:Canby DeCoste vs. Mt Angel Stover
DESCRIPTION:#12 Junior National - Clackamas County Junior Baseball
LOCATION:TBD
CATEGORIES:QuickScores; Baseball Game
TRANSP:0
DALARM:20260604T160000;PT10M;2;Canby DeCoste vs. Mt Angel Stover
END:VEVENT
BEGIN:VEVENT
DTSTART:20260604T180000
DTEND:20260604T190000
SUMMARY:McNary Lohrman vs. West Linn Eller
DESCRIPTION:#12 Junior National - Clackamas County Junior Baseball
LOCATION:TBD
CATEGORIES:QuickScores; Baseball Game
TRANSP:0
DALARM:20260604T160000;PT10M;2;McNary Lohrman vs. West Linn Eller
END:VEVENT
BEGIN:VEVENT
DTSTART:20260604T180000
DTEND:20260604T190000
SUMMARY:Country Christian Cristofolo vs. Woodburn Williams
DESCRIPTION:#12 Junior National - Clackamas County Junior Baseball
LOCATION:TBD
CATEGORIES:QuickScores; Baseball Game
TRANSP:0
DALARM:20260604T160000;PT10M;2;Country Christian Cristofolo vs. Woodburn Williams
END:VEVENT
BEGIN:VEVENT
DTSTART:20260604T180000
DTEND:20260604T190000
SUMMARY:St Paul Kirsch vs. Molalla Shultz
DESCRIPTION:#12 Junior National - Clackamas County Junior Baseball
LOCATION:TBD
CATEGORIES:QuickScores; Baseball Game
TRANSP:0
DALARM:20260604T160000;PT10M;2;St Paul Kirsch vs. Molalla Shultz
END:VEVENT
BEGIN:VEVENT
DTSTART:20260609T180000
DTEND:20260609T190000
SUMMARY:Mt Angel Stover vs. Woodburn Williams
DESCRIPTION:#12 Junior National - Clackamas County Junior Baseball
LOCATION:TBD
CATEGORIES:QuickScores; Baseball Game
TRANSP:0
DALARM:20260609T160000;PT10M;2;Mt Angel Stover vs. Woodburn Williams
END:VEVENT
BEGIN:VEVENT
DTSTART:20260609T180000
DTEND:20260609T190000
SUMMARY:Molalla Shultz vs. Country Christian Cristofolo
DESCRIPTION:#12 Junior National - Clackamas County Junior Baseball
LOCATION:TBD
CATEGORIES:QuickScores; Baseball Game
TRANSP:0
DALARM:20260609T160000;PT10M;2;Molalla Shultz vs. Country Christian Cristofolo
END:VEVENT
BEGIN:VEVENT
DTSTART:20260609T180000
DTEND:20260609T190000
SUMMARY:West Linn Eller vs. St Paul Kirsch
DESCRIPTION:#12 Junior National - Clackamas County Junior Baseball
LOCATION:TBD
CATEGORIES:QuickScores; Baseball Game
TRANSP:0
DALARM:20260609T160000;PT10M;2;West Linn Eller vs. St Paul Kirsch
END:VEVENT
BEGIN:VEVENT
DTSTART:20260609T180000
DTEND:20260609T190000
SUMMARY:McNary Lohrman vs. Canby DeCoste
DESCRIPTION:#12 Junior National - Clackamas County Junior Baseball
LOCATION:TBD
CATEGORIES:QuickScores; Baseball Game
TRANSP:0
DALARM:20260609T160000;PT10M;2;McNary Lohrman vs. Canby DeCoste
END:VEVENT
BEGIN:VEVENT
DTSTART:20260611T180000
DTEND:20260611T190000
SUMMARY:Canby DeCoste vs. Country Christian Cristofolo
DESCRIPTION:#12 Junior National - Clackamas County Junior Baseball
LOCATION:TBD
CATEGORIES:QuickScores; Baseball Game
TRANSP:0
DALARM:20260611T160000;PT10M;2;Canby DeCoste vs. Country Christian Cristofolo
END:VEVENT
BEGIN:VEVENT
DTSTART:20260611T180000
DTEND:20260611T190000
SUMMARY:Molalla Shultz vs. Woodburn Williams
DESCRIPTION:#12 Junior National - Clackamas County Junior Baseball
LOCATION:TBD
CATEGORIES:QuickScores; Baseball Game
TRANSP:0
DALARM:20260611T160000;PT10M;2;Molalla Shultz vs. Woodburn Williams
END:VEVENT
BEGIN:VEVENT
DTSTART:20260611T180000
DTEND:20260611T190000
SUMMARY:St Paul Kirsch vs. McNary Lohrman
DESCRIPTION:#12 Junior National - Clackamas County Junior Baseball
LOCATION:TBD
CATEGORIES:QuickScores; Baseball Game
TRANSP:0
DALARM:20260611T160000;PT10M;2;St Paul Kirsch vs. McNary Lohrman
END:VEVENT
BEGIN:VEVENT
DTSTART:20260611T180000
DTEND:20260611T190000
SUMMARY:West Linn Eller vs. Mt Angel Stover
DESCRIPTION:#12 Junior National - Clackamas County Junior Baseball
LOCATION:TBD
CATEGORIES:QuickScores; Baseball Game
TRANSP:0
DALARM:20260611T160000;PT10M;2;West Linn Eller vs. Mt Angel Stover
END:VEVENT
BEGIN:VEVENT
DTSTART:20260616T180000
DTEND:20260616T190000
SUMMARY:Mt Angel Stover vs. McNary Lohrman
DESCRIPTION:#12 Junior National - Clackamas County Junior Baseball
LOCATION:TBD
CATEGORIES:QuickScores; Baseball Game
TRANSP:0
DALARM:20260616T160000;PT10M;2;Mt Angel Stover vs. McNary Lohrman
END:VEVENT
BEGIN:VEVENT
DTSTART:20260616T180000
DTEND:20260616T190000
SUMMARY:St Paul Kirsch vs. Country Christian Cristofolo
DESCRIPTION:#12 Junior National - Clackamas County Junior Baseball
LOCATION:TBD
CATEGORIES:QuickScores; Baseball Game
TRANSP:0
DALARM:20260616T160000;PT10M;2;St Paul Kirsch vs. Country Christian Cristofolo
END:VEVENT
BEGIN:VEVENT
DTSTART:20260616T180000
DTEND:20260616T190000
SUMMARY:West Linn Eller vs. Woodburn Williams
DESCRIPTION:#12 Junior National - Clackamas County Junior Baseball
LOCATION:TBD
CATEGORIES:QuickScores; Baseball Game
TRANSP:0
DALARM:20260616T160000;PT10M;2;West Linn Eller vs. Woodburn Williams
END:VEVENT
BEGIN:VEVENT
DTSTART:20260616T180000
DTEND:20260616T190000
SUMMARY:Molalla Shultz vs. Canby DeCoste
DESCRIPTION:#12 Junior National - Clackamas County Junior Baseball
LOCATION:TBD
CATEGORIES:QuickScores; Baseball Game
TRANSP:0
DALARM:20260616T160000;PT10M;2;Molalla Shultz vs. Canby DeCoste
END:VEVENT
BEGIN:VEVENT
DTSTART:20260618T180000
DTEND:20260618T190000
SUMMARY:Country Christian Cristofolo vs. Mt Angel Stover
DESCRIPTION:#12 Junior National - Clackamas County Junior Baseball
LOCATION:TBD
CATEGORIES:QuickScores; Baseball Game
TRANSP:0
DALARM:20260618T160000;PT10M;2;Country Christian Cristofolo vs. Mt Angel Stover
END:VEVENT
BEGIN:VEVENT
DTSTART:20260618T180000
DTEND:20260618T190000
SUMMARY:Canby DeCoste vs. St Paul Kirsch
DESCRIPTION:#12 Junior National - Clackamas County Junior Baseball
LOCATION:TBD
CATEGORIES:QuickScores; Baseball Game
TRANSP:0
DALARM:20260618T160000;PT10M;2;Canby DeCoste vs. St Paul Kirsch
END:VEVENT
BEGIN:VEVENT
DTSTART:20260618T180000
DTEND:20260618T190000
SUMMARY:Molalla Shultz vs. West Linn Eller
DESCRIPTION:#12 Junior National - Clackamas County Junior Baseball
LOCATION:TBD
CATEGORIES:QuickScores; Baseball Game
TRANSP:0
DALARM:20260618T160000;PT10M;2;Molalla Shultz vs. West Linn Eller
END:VEVENT
BEGIN:VEVENT
DTSTART:20260618T180000
DTEND:20260618T190000
SUMMARY:Woodburn Williams vs. McNary Lohrman
DESCRIPTION:#12 Junior National - Clackamas County Junior Baseball
LOCATION:TBD
CATEGORIES:QuickScores; Baseball Game
TRANSP:0
DALARM:20260618T160000;PT10M;2;Woodburn Williams vs. McNary Lohrman
END:VEVENT
BEGIN:VEVENT
DTSTART:20260623T180000
DTEND:20260623T190000
SUMMARY:Mt Angel Stover vs. Woodburn Williams
DESCRIPTION:#12 Junior National - Clackamas County Junior Baseball
LOCATION:TBD
CATEGORIES:QuickScores; Baseball Game
TRANSP:0
DALARM:20260623T160000;PT10M;2;Mt Angel Stover vs. Woodburn Williams
END:VEVENT
BEGIN:VEVENT
DTSTART:20260623T180000
DTEND:20260623T190000
SUMMARY:West Linn Eller vs. St Paul Kirsch
DESCRIPTION:#12 Junior National - Clackamas County Junior Baseball
LOCATION:TBD
CATEGORIES:QuickScores; Baseball Game
TRANSP:0
DALARM:20260623T160000;PT10M;2;West Linn Eller vs. St Paul Kirsch
END:VEVENT
BEGIN:VEVENT
DTSTART:20260623T180000
DTEND:20260623T190000
SUMMARY:McNary Lohrman vs. Canby DeCoste
DESCRIPTION:#12 Junior National - Clackamas County Junior Baseball
LOCATION:TBD
CATEGORIES:QuickScores; Baseball Game
TRANSP:0
DALARM:20260623T160000;PT10M;2;McNary Lohrman vs. Canby DeCoste
END:VEVENT
BEGIN:VEVENT
DTSTART:20260623T180000
DTEND:20260623T190000
SUMMARY:Country Christian Cristofolo vs. Molalla Shultz
DESCRIPTION:#12 Junior National - Clackamas County Junior Baseball
LOCATION:TBD
CATEGORIES:QuickScores; Baseball Game
TRANSP:0
DALARM:20260623T160000;PT10M;2;Country Christian Cristofolo vs. Molalla Shultz
END:VEVENT
BEGIN:VEVENT
DTSTART:20260625T180000
DTEND:20260625T190000
SUMMARY:Molalla Shultz vs. Mt Angel Stover
DESCRIPTION:#12 Junior National - Clackamas County Junior Baseball
LOCATION:TBD
CATEGORIES:QuickScores; Baseball Game
TRANSP:0
DALARM:20260625T160000;PT10M;2;Molalla Shultz vs. Mt Angel Stover
END:VEVENT
BEGIN:VEVENT
DTSTART:20260625T180000
DTEND:20260625T190000
SUMMARY:Canby DeCoste vs. Country Christian Cristofolo
DESCRIPTION:#12 Junior National - Clackamas County Junior Baseball
LOCATION:TBD
CATEGORIES:QuickScores; Baseball Game
TRANSP:0
DALARM:20260625T160000;PT10M;2;Canby DeCoste vs. Country Christian Cristofolo
END:VEVENT
BEGIN:VEVENT
DTSTART:20260625T180000
DTEND:20260625T190000
SUMMARY:St Paul Kirsch vs. McNary Lohrman
DESCRIPTION:#12 Junior National - Clackamas County Junior Baseball
LOCATION:TBD
CATEGORIES:QuickScores; Baseball Game
TRANSP:0
DALARM:20260625T160000;PT10M;2;St Paul Kirsch vs. McNary Lohrman
END:VEVENT
BEGIN:VEVENT
DTSTART:20260625T180000
DTEND:20260625T190000
SUMMARY:Woodburn Williams vs. West Linn Eller
DESCRIPTION:#12 Junior National - Clackamas County Junior Baseball
LOCATION:TBD
CATEGORIES:QuickScores; Baseball Game
TRANSP:0
DALARM:20260625T160000;PT10M;2;Woodburn Williams vs. West Linn Eller
END:VEVENT
END:VCALENDAR
