BEGIN:VCALENDAR
VERSION:1.0
BEGIN:VEVENT
DTSTART:20260429T180000
DTEND:20260429T190000
SUMMARY:Oregon City Tharp vs. Barlow Delair
DESCRIPTION:#11 Junior National - Clackamas County Junior Baseball
LOCATION:TBD
CATEGORIES:QuickScores; Baseball Game
TRANSP:0
DALARM:20260429T160000;PT10M;2;Oregon City Tharp vs. Barlow Delair
END:VEVENT
BEGIN:VEVENT
DTSTART:20260504T180000
DTEND:20260504T190000
SUMMARY:Cleveland Shaw vs. Oregon City Tharp
DESCRIPTION:#11 Junior National - Clackamas County Junior Baseball
LOCATION:TBD
CATEGORIES:QuickScores; Baseball Game
TRANSP:0
DALARM:20260504T160000;PT10M;2;Cleveland Shaw vs. Oregon City Tharp
END:VEVENT
BEGIN:VEVENT
DTSTART:20260504T180000
DTEND:20260504T190000
SUMMARY:Oregon City Brenner vs. West Linn Dowell
DESCRIPTION:#11 Junior National - Clackamas County Junior Baseball
LOCATION:TBD
CATEGORIES:QuickScores; Baseball Game
TRANSP:0
DALARM:20260504T160000;PT10M;2;Oregon City Brenner vs. West Linn Dowell
END:VEVENT
BEGIN:VEVENT
DTSTART:20260504T180000
DTEND:20260504T190000
SUMMARY:Portland Christian Smith vs. Barlow Delair
DESCRIPTION:#11 Junior National - Clackamas County Junior Baseball
LOCATION:TBD
CATEGORIES:QuickScores; Baseball Game
TRANSP:0
DALARM:20260504T160000;PT10M;2;Portland Christian Smith vs. Barlow Delair
END:VEVENT
BEGIN:VEVENT
DTSTART:20260504T180000
DTEND:20260504T190000
SUMMARY:Lake Oswego Mott vs. Corbett McIntyre
DESCRIPTION:#11 Junior National - Clackamas County Junior Baseball
LOCATION:TBD
CATEGORIES:QuickScores; Baseball Game
TRANSP:0
DALARM:20260504T160000;PT10M;2;Lake Oswego Mott vs. Corbett McIntyre
END:VEVENT
BEGIN:VEVENT
DTSTART:20260506T180000
DTEND:20260506T190000
SUMMARY:Barlow Delair vs. Lake Oswego Mott
DESCRIPTION:#11 Junior National - Clackamas County Junior Baseball
LOCATION:TBD
CATEGORIES:QuickScores; Baseball Game
TRANSP:0
DALARM:20260506T160000;PT10M;2;Barlow Delair vs. Lake Oswego Mott
END:VEVENT
BEGIN:VEVENT
DTSTART:20260506T180000
DTEND:20260506T190000
SUMMARY:Portland Christian Smith vs. Oregon City Brenner
DESCRIPTION:#11 Junior National - Clackamas County Junior Baseball
LOCATION:TBD
CATEGORIES:QuickScores; Baseball Game
TRANSP:0
DALARM:20260506T160000;PT10M;2;Portland Christian Smith vs. Oregon City Brenner
END:VEVENT
BEGIN:VEVENT
DTSTART:20260506T180000
DTEND:20260506T190000
SUMMARY:Cleveland Shaw vs. Corbett McIntyre
DESCRIPTION:#11 Junior National - Clackamas County Junior Baseball
LOCATION:TBD
CATEGORIES:QuickScores; Baseball Game
TRANSP:0
DALARM:20260506T160000;PT10M;2;Cleveland Shaw vs. Corbett McIntyre
END:VEVENT
BEGIN:VEVENT
DTSTART:20260506T180000
DTEND:20260506T190000
SUMMARY:Oregon City Tharp vs. West Linn Dowell
DESCRIPTION:#11 Junior National - Clackamas County Junior Baseball
LOCATION:TBD
CATEGORIES:QuickScores; Baseball Game
TRANSP:0
DALARM:20260506T160000;PT10M;2;Oregon City Tharp vs. West Linn Dowell
END:VEVENT
BEGIN:VEVENT
DTSTART:20260511T180000
DTEND:20260511T190000
SUMMARY:Barlow Delair vs. Corbett McIntyre
DESCRIPTION:#11 Junior National - Clackamas County Junior Baseball
LOCATION:TBD
CATEGORIES:QuickScores; Baseball Game
TRANSP:0
DALARM:20260511T160000;PT10M;2;Barlow Delair vs. Corbett McIntyre
END:VEVENT
BEGIN:VEVENT
DTSTART:20260511T180000
DTEND:20260511T190000
SUMMARY:West Linn Dowell vs. Lake Oswego Mott
DESCRIPTION:#11 Junior National - Clackamas County Junior Baseball
LOCATION:TBD
CATEGORIES:QuickScores; Baseball Game
TRANSP:0
DALARM:20260511T160000;PT10M;2;West Linn Dowell vs. Lake Oswego Mott
END:VEVENT
BEGIN:VEVENT
DTSTART:20260511T180000
DTEND:20260511T190000
SUMMARY:Cleveland Shaw vs. Portland Christian Smith
DESCRIPTION:#11 Junior National - Clackamas County Junior Baseball
LOCATION:TBD
CATEGORIES:QuickScores; Baseball Game
TRANSP:0
DALARM:20260511T160000;PT10M;2;Cleveland Shaw vs. Portland Christian Smith
END:VEVENT
BEGIN:VEVENT
DTSTART:20260511T180000
DTEND:20260511T190000
SUMMARY:Oregon City Brenner vs. Oregon City Tharp
DESCRIPTION:#11 Junior National - Clackamas County Junior Baseball
LOCATION:TBD
CATEGORIES:QuickScores; Baseball Game
TRANSP:0
DALARM:20260511T160000;PT10M;2;Oregon City Brenner vs. Oregon City Tharp
END:VEVENT
BEGIN:VEVENT
DTSTART:20260513T180000
DTEND:20260513T190000
SUMMARY:Oregon City Tharp vs. Portland Christian Smith
DESCRIPTION:#11 Junior National - Clackamas County Junior Baseball
LOCATION:TBD
CATEGORIES:QuickScores; Baseball Game
TRANSP:0
DALARM:20260513T160000;PT10M;2;Oregon City Tharp vs. Portland Christian Smith
END:VEVENT
BEGIN:VEVENT
DTSTART:20260513T180000
DTEND:20260513T190000
SUMMARY:Lake Oswego Mott vs. Cleveland Shaw
DESCRIPTION:#11 Junior National - Clackamas County Junior Baseball
LOCATION:TBD
CATEGORIES:QuickScores; Baseball Game
TRANSP:0
DALARM:20260513T160000;PT10M;2;Lake Oswego Mott vs. Cleveland Shaw
END:VEVENT
BEGIN:VEVENT
DTSTART:20260513T180000
DTEND:20260513T190000
SUMMARY:Corbett McIntyre vs. Oregon City Brenner
DESCRIPTION:#11 Junior National - Clackamas County Junior Baseball
LOCATION:TBD
CATEGORIES:QuickScores; Baseball Game
TRANSP:0
DALARM:20260513T160000;PT10M;2;Corbett McIntyre vs. Oregon City Brenner
END:VEVENT
BEGIN:VEVENT
DTSTART:20260513T180000
DTEND:20260513T190000
SUMMARY:Barlow Delair vs. West Linn Dowell
DESCRIPTION:#11 Junior National - Clackamas County Junior Baseball
LOCATION:TBD
CATEGORIES:QuickScores; Baseball Game
TRANSP:0
DALARM:20260513T160000;PT10M;2;Barlow Delair vs. West Linn Dowell
END:VEVENT
BEGIN:VEVENT
DTSTART:20260516T170000
DTEND:20260516T180000
SUMMARY:Corbett McIntyre vs. Lake Oswego Mott
DESCRIPTION:#11 Junior National - Clackamas County Junior Baseball
LOCATION:TBD
CATEGORIES:QuickScores; Baseball Game
TRANSP:0
DALARM:20260516T150000;PT10M;2;Corbett McIntyre vs. Lake Oswego Mott
END:VEVENT
BEGIN:VEVENT
DTSTART:20260518T180000
DTEND:20260518T190000
SUMMARY:Corbett McIntyre vs. West Linn Dowell
DESCRIPTION:#11 Junior National - Clackamas County Junior Baseball
LOCATION:TBD
CATEGORIES:QuickScores; Baseball Game
TRANSP:0
DALARM:20260518T160000;PT10M;2;Corbett McIntyre vs. West Linn Dowell
END:VEVENT
BEGIN:VEVENT
DTSTART:20260518T180000
DTEND:20260518T190000
SUMMARY:Portland Christian Smith vs. Lake Oswego Mott
DESCRIPTION:#11 Junior National - Clackamas County Junior Baseball
LOCATION:TBD
CATEGORIES:QuickScores; Baseball Game
TRANSP:0
DALARM:20260518T160000;PT10M;2;Portland Christian Smith vs. Lake Oswego Mott
END:VEVENT
BEGIN:VEVENT
DTSTART:20260518T180000
DTEND:20260518T190000
SUMMARY:Barlow Delair vs. Oregon City Tharp
DESCRIPTION:#11 Junior National - Clackamas County Junior Baseball
LOCATION:TBD
CATEGORIES:QuickScores; Baseball Game
TRANSP:0
DALARM:20260518T160000;PT10M;2;Barlow Delair vs. Oregon City Tharp
END:VEVENT
BEGIN:VEVENT
DTSTART:20260518T180000
DTEND:20260518T190000
SUMMARY:Oregon City Brenner vs. Cleveland Shaw
DESCRIPTION:#11 Junior National - Clackamas County Junior Baseball
LOCATION:TBD
CATEGORIES:QuickScores; Baseball Game
TRANSP:0
DALARM:20260518T160000;PT10M;2;Oregon City Brenner vs. Cleveland Shaw
END:VEVENT
BEGIN:VEVENT
DTSTART:20260520T180000
DTEND:20260520T190000
SUMMARY:Oregon City Tharp vs. Corbett McIntyre
DESCRIPTION:#11 Junior National - Clackamas County Junior Baseball
LOCATION:TBD
CATEGORIES:QuickScores; Baseball Game
TRANSP:0
DALARM:20260520T160000;PT10M;2;Oregon City Tharp vs. Corbett McIntyre
END:VEVENT
BEGIN:VEVENT
DTSTART:20260520T180000
DTEND:20260520T190000
SUMMARY:Barlow Delair vs. Cleveland Shaw
DESCRIPTION:#11 Junior National - Clackamas County Junior Baseball
LOCATION:TBD
CATEGORIES:QuickScores; Baseball Game
TRANSP:0
DALARM:20260520T160000;PT10M;2;Barlow Delair vs. Cleveland Shaw
END:VEVENT
BEGIN:VEVENT
DTSTART:20260520T180000
DTEND:20260520T190000
SUMMARY:Lake Oswego Mott vs. Oregon City Brenner
DESCRIPTION:#11 Junior National - Clackamas County Junior Baseball
LOCATION:TBD
CATEGORIES:QuickScores; Baseball Game
TRANSP:0
DALARM:20260520T160000;PT10M;2;Lake Oswego Mott vs. Oregon City Brenner
END:VEVENT
BEGIN:VEVENT
DTSTART:20260520T180000
DTEND:20260520T190000
SUMMARY:West Linn Dowell vs. Portland Christian Smith
DESCRIPTION:#11 Junior National - Clackamas County Junior Baseball
LOCATION:TBD
CATEGORIES:QuickScores; Baseball Game
TRANSP:0
DALARM:20260520T160000;PT10M;2;West Linn Dowell vs. Portland Christian Smith
END:VEVENT
BEGIN:VEVENT
DTSTART:20260527T180000
DTEND:20260527T190000
SUMMARY:Oregon City Brenner vs. Barlow Delair
DESCRIPTION:#11 Junior National - Clackamas County Junior Baseball
LOCATION:TBD
CATEGORIES:QuickScores; Baseball Game
TRANSP:0
DALARM:20260527T160000;PT10M;2;Oregon City Brenner vs. Barlow Delair
END:VEVENT
BEGIN:VEVENT
DTSTART:20260527T180000
DTEND:20260527T190000
SUMMARY:Cleveland Shaw vs. West Linn Dowell
DESCRIPTION:#11 Junior National - Clackamas County Junior Baseball
LOCATION:TBD
CATEGORIES:QuickScores; Baseball Game
TRANSP:0
DALARM:20260527T160000;PT10M;2;Cleveland Shaw vs. West Linn Dowell
END:VEVENT
BEGIN:VEVENT
DTSTART:20260527T180000
DTEND:20260527T190000
SUMMARY:Lake Oswego Mott vs. Oregon City Tharp
DESCRIPTION:#11 Junior National - Clackamas County Junior Baseball
LOCATION:TBD
CATEGORIES:QuickScores; Baseball Game
TRANSP:0
DALARM:20260527T160000;PT10M;2;Lake Oswego Mott vs. Oregon City Tharp
END:VEVENT
BEGIN:VEVENT
DTSTART:20260529T180000
DTEND:20260529T190000
SUMMARY:Portland Christian Smith vs. Corbett McIntyre
DESCRIPTION:#11 Junior National - Clackamas County Junior Baseball
LOCATION:TBD
CATEGORIES:QuickScores; Baseball Game
TRANSP:0
DALARM:20260529T160000;PT10M;2;Portland Christian Smith vs. Corbett McIntyre
END:VEVENT
BEGIN:VEVENT
DTSTART:20260601T180000
DTEND:20260601T190000
SUMMARY:Oregon City Tharp vs. Cleveland Shaw
DESCRIPTION:#11 Junior National - Clackamas County Junior Baseball
LOCATION:TBD
CATEGORIES:QuickScores; Baseball Game
TRANSP:0
DALARM:20260601T160000;PT10M;2;Oregon City Tharp vs. Cleveland Shaw
END:VEVENT
BEGIN:VEVENT
DTSTART:20260601T180000
DTEND:20260601T190000
SUMMARY:West Linn Dowell vs. Oregon City Brenner
DESCRIPTION:#11 Junior National - Clackamas County Junior Baseball
LOCATION:TBD
CATEGORIES:QuickScores; Baseball Game
TRANSP:0
DALARM:20260601T160000;PT10M;2;West Linn Dowell vs. Oregon City Brenner
END:VEVENT
BEGIN:VEVENT
DTSTART:20260601T180000
DTEND:20260601T190000
SUMMARY:Barlow Delair vs. Portland Christian Smith
DESCRIPTION:#11 Junior National - Clackamas County Junior Baseball
LOCATION:TBD
CATEGORIES:QuickScores; Baseball Game
TRANSP:0
DALARM:20260601T160000;PT10M;2;Barlow Delair vs. Portland Christian Smith
END:VEVENT
BEGIN:VEVENT
DTSTART:20260603T180000
DTEND:20260603T190000
SUMMARY:Portland Christian Smith vs. West Linn Dowell
DESCRIPTION:#11 Junior National - Clackamas County Junior Baseball
LOCATION:TBD
CATEGORIES:QuickScores; Baseball Game
TRANSP:0
DALARM:20260603T160000;PT10M;2;Portland Christian Smith vs. West Linn Dowell
END:VEVENT
BEGIN:VEVENT
DTSTART:20260603T180000
DTEND:20260603T190000
SUMMARY:Oregon City Brenner vs. Lake Oswego Mott
DESCRIPTION:#11 Junior National - Clackamas County Junior Baseball
LOCATION:TBD
CATEGORIES:QuickScores; Baseball Game
TRANSP:0
DALARM:20260603T160000;PT10M;2;Oregon City Brenner vs. Lake Oswego Mott
END:VEVENT
BEGIN:VEVENT
DTSTART:20260603T180000
DTEND:20260603T190000
SUMMARY:Cleveland Shaw vs. Barlow Delair
DESCRIPTION:#11 Junior National - Clackamas County Junior Baseball
LOCATION:TBD
CATEGORIES:QuickScores; Baseball Game
TRANSP:0
DALARM:20260603T160000;PT10M;2;Cleveland Shaw vs. Barlow Delair
END:VEVENT
BEGIN:VEVENT
DTSTART:20260603T180000
DTEND:20260603T190000
SUMMARY:Corbett McIntyre vs. Oregon City Tharp
DESCRIPTION:#11 Junior National - Clackamas County Junior Baseball
LOCATION:TBD
CATEGORIES:QuickScores; Baseball Game
TRANSP:0
DALARM:20260603T160000;PT10M;2;Corbett McIntyre vs. Oregon City Tharp
END:VEVENT
BEGIN:VEVENT
DTSTART:20260608T180000
DTEND:20260608T190000
SUMMARY:Oregon City Tharp vs. Oregon City Brenner
DESCRIPTION:#11 Junior National - Clackamas County Junior Baseball
LOCATION:TBD
CATEGORIES:QuickScores; Baseball Game
TRANSP:0
DALARM:20260608T160000;PT10M;2;Oregon City Tharp vs. Oregon City Brenner
END:VEVENT
BEGIN:VEVENT
DTSTART:20260608T180000
DTEND:20260608T190000
SUMMARY:Portland Christian Smith vs. Cleveland Shaw
DESCRIPTION:#11 Junior National - Clackamas County Junior Baseball
LOCATION:TBD
CATEGORIES:QuickScores; Baseball Game
TRANSP:0
DALARM:20260608T160000;PT10M;2;Portland Christian Smith vs. Cleveland Shaw
END:VEVENT
BEGIN:VEVENT
DTSTART:20260608T180000
DTEND:20260608T190000
SUMMARY:Lake Oswego Mott vs. West Linn Dowell
DESCRIPTION:#11 Junior National - Clackamas County Junior Baseball
LOCATION:TBD
CATEGORIES:QuickScores; Baseball Game
TRANSP:0
DALARM:20260608T160000;PT10M;2;Lake Oswego Mott vs. West Linn Dowell
END:VEVENT
BEGIN:VEVENT
DTSTART:20260608T180000
DTEND:20260608T190000
SUMMARY:Corbett McIntyre vs. Barlow Delair
DESCRIPTION:#11 Junior National - Clackamas County Junior Baseball
LOCATION:TBD
CATEGORIES:QuickScores; Baseball Game
TRANSP:0
DALARM:20260608T160000;PT10M;2;Corbett McIntyre vs. Barlow Delair
END:VEVENT
BEGIN:VEVENT
DTSTART:20260610T180000
DTEND:20260610T190000
SUMMARY:Portland Christian Smith vs. Oregon City Tharp
DESCRIPTION:#11 Junior National - Clackamas County Junior Baseball
LOCATION:TBD
CATEGORIES:QuickScores; Baseball Game
TRANSP:0
DALARM:20260610T160000;PT10M;2;Portland Christian Smith vs. Oregon City Tharp
END:VEVENT
BEGIN:VEVENT
DTSTART:20260610T180000
DTEND:20260610T190000
SUMMARY:Oregon City Brenner vs. Corbett McIntyre
DESCRIPTION:#11 Junior National - Clackamas County Junior Baseball
LOCATION:TBD
CATEGORIES:QuickScores; Baseball Game
TRANSP:0
DALARM:20260610T160000;PT10M;2;Oregon City Brenner vs. Corbett McIntyre
END:VEVENT
BEGIN:VEVENT
DTSTART:20260610T180000
DTEND:20260610T190000
SUMMARY:Cleveland Shaw vs. Lake Oswego Mott
DESCRIPTION:#11 Junior National - Clackamas County Junior Baseball
LOCATION:TBD
CATEGORIES:QuickScores; Baseball Game
TRANSP:0
DALARM:20260610T160000;PT10M;2;Cleveland Shaw vs. Lake Oswego Mott
END:VEVENT
BEGIN:VEVENT
DTSTART:20260610T180000
DTEND:20260610T190000
SUMMARY:West Linn Dowell vs. Barlow Delair
DESCRIPTION:#11 Junior National - Clackamas County Junior Baseball
LOCATION:TBD
CATEGORIES:QuickScores; Baseball Game
TRANSP:0
DALARM:20260610T160000;PT10M;2;West Linn Dowell vs. Barlow Delair
END:VEVENT
BEGIN:VEVENT
DTSTART:20260615T180000
DTEND:20260615T190000
SUMMARY:West Linn Dowell vs. Corbett McIntyre
DESCRIPTION:#11 Junior National - Clackamas County Junior Baseball
LOCATION:TBD
CATEGORIES:QuickScores; Baseball Game
TRANSP:0
DALARM:20260615T160000;PT10M;2;West Linn Dowell vs. Corbett McIntyre
END:VEVENT
BEGIN:VEVENT
DTSTART:20260615T180000
DTEND:20260615T190000
SUMMARY:Cleveland Shaw vs. Oregon City Brenner
DESCRIPTION:#11 Junior National - Clackamas County Junior Baseball
LOCATION:TBD
CATEGORIES:QuickScores; Baseball Game
TRANSP:0
DALARM:20260615T160000;PT10M;2;Cleveland Shaw vs. Oregon City Brenner
END:VEVENT
BEGIN:VEVENT
DTSTART:20260615T180000
DTEND:20260615T190000
SUMMARY:Oregon City Tharp vs. Barlow Delair
DESCRIPTION:#11 Junior National - Clackamas County Junior Baseball
LOCATION:TBD
CATEGORIES:QuickScores; Baseball Game
TRANSP:0
DALARM:20260615T160000;PT10M;2;Oregon City Tharp vs. Barlow Delair
END:VEVENT
BEGIN:VEVENT
DTSTART:20260615T180000
DTEND:20260615T190000
SUMMARY:Lake Oswego Mott vs. Portland Christian Smith
DESCRIPTION:#11 Junior National - Clackamas County Junior Baseball
LOCATION:TBD
CATEGORIES:QuickScores; Baseball Game
TRANSP:0
DALARM:20260615T160000;PT10M;2;Lake Oswego Mott vs. Portland Christian Smith
END:VEVENT
BEGIN:VEVENT
DTSTART:20260617T180000
DTEND:20260617T190000
SUMMARY:Lake Oswego Mott vs. Barlow Delair
DESCRIPTION:#11 Junior National - Clackamas County Junior Baseball
LOCATION:TBD
CATEGORIES:QuickScores; Baseball Game
TRANSP:0
DALARM:20260617T160000;PT10M;2;Lake Oswego Mott vs. Barlow Delair
END:VEVENT
BEGIN:VEVENT
DTSTART:20260617T180000
DTEND:20260617T190000
SUMMARY:Corbett McIntyre vs. Cleveland Shaw
DESCRIPTION:#11 Junior National - Clackamas County Junior Baseball
LOCATION:TBD
CATEGORIES:QuickScores; Baseball Game
TRANSP:0
DALARM:20260617T160000;PT10M;2;Corbett McIntyre vs. Cleveland Shaw
END:VEVENT
BEGIN:VEVENT
DTSTART:20260617T180000
DTEND:20260617T190000
SUMMARY:Oregon City Brenner vs. Portland Christian Smith
DESCRIPTION:#11 Junior National - Clackamas County Junior Baseball
LOCATION:TBD
CATEGORIES:QuickScores; Baseball Game
TRANSP:0
DALARM:20260617T160000;PT10M;2;Oregon City Brenner vs. Portland Christian Smith
END:VEVENT
BEGIN:VEVENT
DTSTART:20260617T180000
DTEND:20260617T190000
SUMMARY:West Linn Dowell vs. Oregon City Tharp
DESCRIPTION:#11 Junior National - Clackamas County Junior Baseball
LOCATION:TBD
CATEGORIES:QuickScores; Baseball Game
TRANSP:0
DALARM:20260617T160000;PT10M;2;West Linn Dowell vs. Oregon City Tharp
END:VEVENT
BEGIN:VEVENT
DTSTART:20260622T180000
DTEND:20260622T190000
SUMMARY:Corbett McIntyre vs. Portland Christian Smith
DESCRIPTION:#11 Junior National - Clackamas County Junior Baseball
LOCATION:TBD
CATEGORIES:QuickScores; Baseball Game
TRANSP:0
DALARM:20260622T160000;PT10M;2;Corbett McIntyre vs. Portland Christian Smith
END:VEVENT
BEGIN:VEVENT
DTSTART:20260622T180000
DTEND:20260622T190000
SUMMARY:West Linn Dowell vs. Cleveland Shaw
DESCRIPTION:#11 Junior National - Clackamas County Junior Baseball
LOCATION:TBD
CATEGORIES:QuickScores; Baseball Game
TRANSP:0
DALARM:20260622T160000;PT10M;2;West Linn Dowell vs. Cleveland Shaw
END:VEVENT
BEGIN:VEVENT
DTSTART:20260622T180000
DTEND:20260622T190000
SUMMARY:Barlow Delair vs. Oregon City Brenner
DESCRIPTION:#11 Junior National - Clackamas County Junior Baseball
LOCATION:TBD
CATEGORIES:QuickScores; Baseball Game
TRANSP:0
DALARM:20260622T160000;PT10M;2;Barlow Delair vs. Oregon City Brenner
END:VEVENT
BEGIN:VEVENT
DTSTART:20260622T180000
DTEND:20260622T190000
SUMMARY:Oregon City Tharp vs. Lake Oswego Mott
DESCRIPTION:#11 Junior National - Clackamas County Junior Baseball
LOCATION:TBD
CATEGORIES:QuickScores; Baseball Game
TRANSP:0
DALARM:20260622T160000;PT10M;2;Oregon City Tharp vs. Lake Oswego Mott
END:VEVENT
BEGIN:VEVENT
DTSTART:20260624T180000
DTEND:20260624T190000
SUMMARY:Cleveland Shaw vs. Lake Oswego Mott
DESCRIPTION:#11 Junior National - Clackamas County Junior Baseball
LOCATION:TBD
CATEGORIES:QuickScores; Baseball Game
TRANSP:0
DALARM:20260624T160000;PT10M;2;Cleveland Shaw vs. Lake Oswego Mott
END:VEVENT
BEGIN:VEVENT
DTSTART:20260624T180000
DTEND:20260624T190000
SUMMARY:Barlow Delair vs. West Linn Dowell
DESCRIPTION:#11 Junior National - Clackamas County Junior Baseball
LOCATION:TBD
CATEGORIES:QuickScores; Baseball Game
TRANSP:0
DALARM:20260624T160000;PT10M;2;Barlow Delair vs. West Linn Dowell
END:VEVENT
BEGIN:VEVENT
DTSTART:20260624T180000
DTEND:20260624T190000
SUMMARY:Oregon City Brenner vs. Corbett McIntyre
DESCRIPTION:#11 Junior National - Clackamas County Junior Baseball
LOCATION:TBD
CATEGORIES:QuickScores; Baseball Game
TRANSP:0
DALARM:20260624T160000;PT10M;2;Oregon City Brenner vs. Corbett McIntyre
END:VEVENT
BEGIN:VEVENT
DTSTART:20260624T180000
DTEND:20260624T190000
SUMMARY:Portland Christian Smith vs. Oregon City Tharp
DESCRIPTION:#11 Junior National - Clackamas County Junior Baseball
LOCATION:TBD
CATEGORIES:QuickScores; Baseball Game
TRANSP:0
DALARM:20260624T160000;PT10M;2;Portland Christian Smith vs. Oregon City Tharp
END:VEVENT
BEGIN:VEVENT
DTSTART:20260626T180000
DTEND:20260626T190000
SUMMARY:Corbett McIntyre vs. Cleveland Shaw
DESCRIPTION:TBD Game Scheduled for 6/26 --- #11 Junior National - Clackamas County Junior Baseball
LOCATION:TBD
CATEGORIES:QuickScores; Baseball Game
TRANSP:0
DALARM:20260626T160000;PT10M;2;Corbett McIntyre vs. Cleveland Shaw
END:VEVENT
BEGIN:VEVENT
DTSTART:20260705T180000
DTEND:20260705T190000
SUMMARY:Lake Oswego Mott vs. Portland Christian Smith
DESCRIPTION:TBD Game - Needs to be scheduled --- #11 Junior National - Clackamas County Junior Baseball
LOCATION:TBD
CATEGORIES:QuickScores; Baseball Game
TRANSP:0
DALARM:20260705T160000;PT10M;2;Lake Oswego Mott vs. Portland Christian Smith
END:VEVENT
BEGIN:VEVENT
DTSTART:20260705T180000
DTEND:20260705T190000
SUMMARY:West Linn Dowell vs. Oregon City Brenner
DESCRIPTION:TBD Game - Needs to be scheduled --- #11 Junior National - Clackamas County Junior Baseball
LOCATION:TBD
CATEGORIES:QuickScores; Baseball Game
TRANSP:0
DALARM:20260705T160000;PT10M;2;West Linn Dowell vs. Oregon City Brenner
END:VEVENT
END:VCALENDAR
