BEGIN:VCALENDAR
VERSION:1.0
BEGIN:VEVENT
DTSTART:20260424T180000
DTEND:20260424T190000
SUMMARY:Molalla Nixon vs. Canby Jackson
DESCRIPTION:#3 Minor National - Clackamas County Junior Baseball
LOCATION:TBD
CATEGORIES:QuickScores; Baseball Game
TRANSP:0
DALARM:20260424T160000;PT10M;2;Molalla Nixon vs. Canby Jackson
END:VEVENT
BEGIN:VEVENT
DTSTART:20260504T180000
DTEND:20260504T190000
SUMMARY:Canby Jackson vs. Gladstone Conner
DESCRIPTION:#3 Minor National - Clackamas County Junior Baseball
LOCATION:TBD
CATEGORIES:QuickScores; Baseball Game
TRANSP:0
DALARM:20260504T160000;PT10M;2;Canby Jackson vs. Gladstone Conner
END:VEVENT
BEGIN:VEVENT
DTSTART:20260504T180000
DTEND:20260504T190000
SUMMARY:West Linn Migliaccio vs. Country Christian Wegner
DESCRIPTION:#3 Minor National - Clackamas County Junior Baseball
LOCATION:TBD
CATEGORIES:QuickScores; Baseball Game
TRANSP:0
DALARM:20260504T160000;PT10M;2;West Linn Migliaccio vs. Country Christian Wegner
END:VEVENT
BEGIN:VEVENT
DTSTART:20260504T180000
DTEND:20260504T190000
SUMMARY:North Marion Gostevskyh vs. Clackamas Garcia
DESCRIPTION:#3 Minor National - Clackamas County Junior Baseball
LOCATION:TBD
CATEGORIES:QuickScores; Baseball Game
TRANSP:0
DALARM:20260504T160000;PT10M;2;North Marion Gostevskyh vs. Clackamas Garcia
END:VEVENT
BEGIN:VEVENT
DTSTART:20260506T180000
DTEND:20260506T190000
SUMMARY:Gladstone Conner vs. Clackamas Garcia
DESCRIPTION:#3 Minor National - Clackamas County Junior Baseball
LOCATION:TBD
CATEGORIES:QuickScores; Baseball Game
TRANSP:0
DALARM:20260506T160000;PT10M;2;Gladstone Conner vs. Clackamas Garcia
END:VEVENT
BEGIN:VEVENT
DTSTART:20260506T180000
DTEND:20260506T190000
SUMMARY:West Linn Migliaccio vs. North Marion Gostevskyh
DESCRIPTION:#3 Minor National - Clackamas County Junior Baseball
LOCATION:TBD
CATEGORIES:QuickScores; Baseball Game
TRANSP:0
DALARM:20260506T160000;PT10M;2;West Linn Migliaccio vs. North Marion Gostevskyh
END:VEVENT
BEGIN:VEVENT
DTSTART:20260506T180000
DTEND:20260506T190000
SUMMARY:Molalla Nixon vs. Canby Jackson
DESCRIPTION:#3 Minor National - Clackamas County Junior Baseball
LOCATION:TBD
CATEGORIES:QuickScores; Baseball Game
TRANSP:0
DALARM:20260506T160000;PT10M;2;Molalla Nixon vs. Canby Jackson
END:VEVENT
BEGIN:VEVENT
DTSTART:20260511T180000
DTEND:20260511T190000
SUMMARY:Molalla Nixon vs. Country Christian Wegner
DESCRIPTION:#3 Minor National - Clackamas County Junior Baseball
LOCATION:TBD
CATEGORIES:QuickScores; Baseball Game
TRANSP:0
DALARM:20260511T160000;PT10M;2;Molalla Nixon vs. Country Christian Wegner
END:VEVENT
BEGIN:VEVENT
DTSTART:20260511T180000
DTEND:20260511T190000
SUMMARY:Canby Jackson vs. West Linn Migliaccio
DESCRIPTION:#3 Minor National - Clackamas County Junior Baseball
LOCATION:TBD
CATEGORIES:QuickScores; Baseball Game
TRANSP:0
DALARM:20260511T160000;PT10M;2;Canby Jackson vs. West Linn Migliaccio
END:VEVENT
BEGIN:VEVENT
DTSTART:20260511T180000
DTEND:20260511T190000
SUMMARY:North Marion Gostevskyh vs. Gladstone Conner
DESCRIPTION:#3 Minor National - Clackamas County Junior Baseball
LOCATION:TBD
CATEGORIES:QuickScores; Baseball Game
TRANSP:0
DALARM:20260511T160000;PT10M;2;North Marion Gostevskyh vs. Gladstone Conner
END:VEVENT
BEGIN:VEVENT
DTSTART:20260513T180000
DTEND:20260513T190000
SUMMARY:Gladstone Conner vs. West Linn Migliaccio
DESCRIPTION:#3 Minor National - Clackamas County Junior Baseball
LOCATION:TBD
CATEGORIES:QuickScores; Baseball Game
TRANSP:0
DALARM:20260513T160000;PT10M;2;Gladstone Conner vs. West Linn Migliaccio
END:VEVENT
BEGIN:VEVENT
DTSTART:20260513T180000
DTEND:20260513T190000
SUMMARY:Molalla Nixon vs. North Marion Gostevskyh
DESCRIPTION:#3 Minor National - Clackamas County Junior Baseball
LOCATION:TBD
CATEGORIES:QuickScores; Baseball Game
TRANSP:0
DALARM:20260513T160000;PT10M;2;Molalla Nixon vs. North Marion Gostevskyh
END:VEVENT
BEGIN:VEVENT
DTSTART:20260513T180000
DTEND:20260513T190000
SUMMARY:Country Christian Wegner vs. Clackamas Garcia
DESCRIPTION:#3 Minor National - Clackamas County Junior Baseball
LOCATION:TBD
CATEGORIES:QuickScores; Baseball Game
TRANSP:0
DALARM:20260513T160000;PT10M;2;Country Christian Wegner vs. Clackamas Garcia
END:VEVENT
BEGIN:VEVENT
DTSTART:20260518T180000
DTEND:20260518T190000
SUMMARY:Molalla Nixon vs. Clackamas Garcia
DESCRIPTION:#3 Minor National - Clackamas County Junior Baseball
LOCATION:TBD
CATEGORIES:QuickScores; Baseball Game
TRANSP:0
DALARM:20260518T160000;PT10M;2;Molalla Nixon vs. Clackamas Garcia
END:VEVENT
BEGIN:VEVENT
DTSTART:20260518T180000
DTEND:20260518T190000
SUMMARY:Country Christian Wegner vs. Gladstone Conner
DESCRIPTION:#3 Minor National - Clackamas County Junior Baseball
LOCATION:TBD
CATEGORIES:QuickScores; Baseball Game
TRANSP:0
DALARM:20260518T160000;PT10M;2;Country Christian Wegner vs. Gladstone Conner
END:VEVENT
BEGIN:VEVENT
DTSTART:20260518T180000
DTEND:20260518T190000
SUMMARY:North Marion Gostevskyh vs. Canby Jackson
DESCRIPTION:#3 Minor National - Clackamas County Junior Baseball
LOCATION:TBD
CATEGORIES:QuickScores; Baseball Game
TRANSP:0
DALARM:20260518T160000;PT10M;2;North Marion Gostevskyh vs. Canby Jackson
END:VEVENT
BEGIN:VEVENT
DTSTART:20260520T180000
DTEND:20260520T190000
SUMMARY:Gladstone Conner vs. Molalla Nixon
DESCRIPTION:#3 Minor National - Clackamas County Junior Baseball
LOCATION:TBD
CATEGORIES:QuickScores; Baseball Game
TRANSP:0
DALARM:20260520T160000;PT10M;2;Gladstone Conner vs. Molalla Nixon
END:VEVENT
BEGIN:VEVENT
DTSTART:20260520T180000
DTEND:20260520T190000
SUMMARY:Country Christian Wegner vs. Canby Jackson
DESCRIPTION:#3 Minor National - Clackamas County Junior Baseball
LOCATION:TBD
CATEGORIES:QuickScores; Baseball Game
TRANSP:0
DALARM:20260520T160000;PT10M;2;Country Christian Wegner vs. Canby Jackson
END:VEVENT
BEGIN:VEVENT
DTSTART:20260520T180000
DTEND:20260520T190000
SUMMARY:Clackamas Garcia vs. West Linn Migliaccio
DESCRIPTION:#3 Minor National - Clackamas County Junior Baseball
LOCATION:TBD
CATEGORIES:QuickScores; Baseball Game
TRANSP:0
DALARM:20260520T160000;PT10M;2;Clackamas Garcia vs. West Linn Migliaccio
END:VEVENT
BEGIN:VEVENT
DTSTART:20260527T180000
DTEND:20260527T190000
SUMMARY:West Linn Migliaccio vs. Molalla Nixon
DESCRIPTION:#3 Minor National - Clackamas County Junior Baseball
LOCATION:TBD
CATEGORIES:QuickScores; Baseball Game
TRANSP:0
DALARM:20260527T160000;PT10M;2;West Linn Migliaccio vs. Molalla Nixon
END:VEVENT
BEGIN:VEVENT
DTSTART:20260527T180000
DTEND:20260527T190000
SUMMARY:North Marion Gostevskyh vs. Country Christian Wegner
DESCRIPTION:#3 Minor National - Clackamas County Junior Baseball
LOCATION:TBD
CATEGORIES:QuickScores; Baseball Game
TRANSP:0
DALARM:20260527T160000;PT10M;2;North Marion Gostevskyh vs. Country Christian Wegner
END:VEVENT
BEGIN:VEVENT
DTSTART:20260527T180000
DTEND:20260527T190000
SUMMARY:Canby Jackson vs. Clackamas Garcia
DESCRIPTION:#3 Minor National - Clackamas County Junior Baseball
LOCATION:TBD
CATEGORIES:QuickScores; Baseball Game
TRANSP:0
DALARM:20260527T160000;PT10M;2;Canby Jackson vs. Clackamas Garcia
END:VEVENT
BEGIN:VEVENT
DTSTART:20260601T180000
DTEND:20260601T190000
SUMMARY:Gladstone Conner vs. Canby Jackson
DESCRIPTION:#3 Minor National - Clackamas County Junior Baseball
LOCATION:TBD
CATEGORIES:QuickScores; Baseball Game
TRANSP:0
DALARM:20260601T160000;PT10M;2;Gladstone Conner vs. Canby Jackson
END:VEVENT
BEGIN:VEVENT
DTSTART:20260601T180000
DTEND:20260601T190000
SUMMARY:Clackamas Garcia vs. North Marion Gostevskyh
DESCRIPTION:#3 Minor National - Clackamas County Junior Baseball
LOCATION:TBD
CATEGORIES:QuickScores; Baseball Game
TRANSP:0
DALARM:20260601T160000;PT10M;2;Clackamas Garcia vs. North Marion Gostevskyh
END:VEVENT
BEGIN:VEVENT
DTSTART:20260601T180000
DTEND:20260601T190000
SUMMARY:Country Christian Wegner vs. West Linn Migliaccio
DESCRIPTION:#3 Minor National - Clackamas County Junior Baseball
LOCATION:TBD
CATEGORIES:QuickScores; Baseball Game
TRANSP:0
DALARM:20260601T160000;PT10M;2;Country Christian Wegner vs. West Linn Migliaccio
END:VEVENT
BEGIN:VEVENT
DTSTART:20260603T180000
DTEND:20260603T190000
SUMMARY:West Linn Migliaccio vs. Clackamas Garcia
DESCRIPTION:#3 Minor National - Clackamas County Junior Baseball
LOCATION:TBD
CATEGORIES:QuickScores; Baseball Game
TRANSP:0
DALARM:20260603T160000;PT10M;2;West Linn Migliaccio vs. Clackamas Garcia
END:VEVENT
BEGIN:VEVENT
DTSTART:20260603T180000
DTEND:20260603T190000
SUMMARY:Canby Jackson vs. Country Christian Wegner
DESCRIPTION:#3 Minor National - Clackamas County Junior Baseball
LOCATION:TBD
CATEGORIES:QuickScores; Baseball Game
TRANSP:0
DALARM:20260603T160000;PT10M;2;Canby Jackson vs. Country Christian Wegner
END:VEVENT
BEGIN:VEVENT
DTSTART:20260603T180000
DTEND:20260603T190000
SUMMARY:Molalla Nixon vs. Gladstone Conner
DESCRIPTION:#3 Minor National - Clackamas County Junior Baseball
LOCATION:TBD
CATEGORIES:QuickScores; Baseball Game
TRANSP:0
DALARM:20260603T160000;PT10M;2;Molalla Nixon vs. Gladstone Conner
END:VEVENT
BEGIN:VEVENT
DTSTART:20260608T180000
DTEND:20260608T190000
SUMMARY:Gladstone Conner vs. North Marion Gostevskyh
DESCRIPTION:#3 Minor National - Clackamas County Junior Baseball
LOCATION:TBD
CATEGORIES:QuickScores; Baseball Game
TRANSP:0
DALARM:20260608T160000;PT10M;2;Gladstone Conner vs. North Marion Gostevskyh
END:VEVENT
BEGIN:VEVENT
DTSTART:20260608T180000
DTEND:20260608T190000
SUMMARY:West Linn Migliaccio vs. Canby Jackson
DESCRIPTION:#3 Minor National - Clackamas County Junior Baseball
LOCATION:TBD
CATEGORIES:QuickScores; Baseball Game
TRANSP:0
DALARM:20260608T160000;PT10M;2;West Linn Migliaccio vs. Canby Jackson
END:VEVENT
BEGIN:VEVENT
DTSTART:20260608T180000
DTEND:20260608T190000
SUMMARY:Country Christian Wegner vs. Molalla Nixon
DESCRIPTION:#3 Minor National - Clackamas County Junior Baseball
LOCATION:TBD
CATEGORIES:QuickScores; Baseball Game
TRANSP:0
DALARM:20260608T160000;PT10M;2;Country Christian Wegner vs. Molalla Nixon
END:VEVENT
BEGIN:VEVENT
DTSTART:20260610T180000
DTEND:20260610T190000
SUMMARY:West Linn Migliaccio vs. Gladstone Conner
DESCRIPTION:#3 Minor National - Clackamas County Junior Baseball
LOCATION:TBD
CATEGORIES:QuickScores; Baseball Game
TRANSP:0
DALARM:20260610T160000;PT10M;2;West Linn Migliaccio vs. Gladstone Conner
END:VEVENT
BEGIN:VEVENT
DTSTART:20260610T180000
DTEND:20260610T190000
SUMMARY:North Marion Gostevskyh vs. Molalla Nixon
DESCRIPTION:#3 Minor National - Clackamas County Junior Baseball
LOCATION:TBD
CATEGORIES:QuickScores; Baseball Game
TRANSP:0
DALARM:20260610T160000;PT10M;2;North Marion Gostevskyh vs. Molalla Nixon
END:VEVENT
BEGIN:VEVENT
DTSTART:20260610T180000
DTEND:20260610T190000
SUMMARY:Clackamas Garcia vs. Country Christian Wegner
DESCRIPTION:#3 Minor National - Clackamas County Junior Baseball
LOCATION:TBD
CATEGORIES:QuickScores; Baseball Game
TRANSP:0
DALARM:20260610T160000;PT10M;2;Clackamas Garcia vs. Country Christian Wegner
END:VEVENT
BEGIN:VEVENT
DTSTART:20260612T180000
DTEND:20260612T190000
SUMMARY:Gladstone Conner vs. Country Christian Wegner
DESCRIPTION:#3 Minor National - Clackamas County Junior Baseball
LOCATION:TBD
CATEGORIES:QuickScores; Baseball Game
TRANSP:0
DALARM:20260612T160000;PT10M;2;Gladstone Conner vs. Country Christian Wegner
END:VEVENT
BEGIN:VEVENT
DTSTART:20260615T180000
DTEND:20260615T190000
SUMMARY:Canby Jackson vs. North Marion Gostevskyh
DESCRIPTION:#3 Minor National - Clackamas County Junior Baseball
LOCATION:TBD
CATEGORIES:QuickScores; Baseball Game
TRANSP:0
DALARM:20260615T160000;PT10M;2;Canby Jackson vs. North Marion Gostevskyh
END:VEVENT
BEGIN:VEVENT
DTSTART:20260615T180000
DTEND:20260615T190000
SUMMARY:Clackamas Garcia vs. Molalla Nixon
DESCRIPTION:#3 Minor National - Clackamas County Junior Baseball
LOCATION:TBD
CATEGORIES:QuickScores; Baseball Game
TRANSP:0
DALARM:20260615T160000;PT10M;2;Clackamas Garcia vs. Molalla Nixon
END:VEVENT
BEGIN:VEVENT
DTSTART:20260617T180000
DTEND:20260617T190000
SUMMARY:Canby Jackson vs. Molalla Nixon
DESCRIPTION:#3 Minor National - Clackamas County Junior Baseball
LOCATION:TBD
CATEGORIES:QuickScores; Baseball Game
TRANSP:0
DALARM:20260617T160000;PT10M;2;Canby Jackson vs. Molalla Nixon
END:VEVENT
BEGIN:VEVENT
DTSTART:20260617T180000
DTEND:20260617T190000
SUMMARY:Clackamas Garcia vs. Gladstone Conner
DESCRIPTION:#3 Minor National - Clackamas County Junior Baseball
LOCATION:TBD
CATEGORIES:QuickScores; Baseball Game
TRANSP:0
DALARM:20260617T160000;PT10M;2;Clackamas Garcia vs. Gladstone Conner
END:VEVENT
BEGIN:VEVENT
DTSTART:20260617T180000
DTEND:20260617T190000
SUMMARY:North Marion Gostevskyh vs. West Linn Migliaccio
DESCRIPTION:#3 Minor National - Clackamas County Junior Baseball
LOCATION:TBD
CATEGORIES:QuickScores; Baseball Game
TRANSP:0
DALARM:20260617T160000;PT10M;2;North Marion Gostevskyh vs. West Linn Migliaccio
END:VEVENT
BEGIN:VEVENT
DTSTART:20260622T180000
DTEND:20260622T190000
SUMMARY:Molalla Nixon vs. West Linn Migliaccio
DESCRIPTION:#3 Minor National - Clackamas County Junior Baseball
LOCATION:TBD
CATEGORIES:QuickScores; Baseball Game
TRANSP:0
DALARM:20260622T160000;PT10M;2;Molalla Nixon vs. West Linn Migliaccio
END:VEVENT
BEGIN:VEVENT
DTSTART:20260622T180000
DTEND:20260622T190000
SUMMARY:Clackamas Garcia vs. Canby Jackson
DESCRIPTION:#3 Minor National - Clackamas County Junior Baseball
LOCATION:TBD
CATEGORIES:QuickScores; Baseball Game
TRANSP:0
DALARM:20260622T160000;PT10M;2;Clackamas Garcia vs. Canby Jackson
END:VEVENT
BEGIN:VEVENT
DTSTART:20260622T180000
DTEND:20260622T190000
SUMMARY:Country Christian Wegner vs. North Marion Gostevskyh
DESCRIPTION:#3 Minor National - Clackamas County Junior Baseball
LOCATION:TBD
CATEGORIES:QuickScores; Baseball Game
TRANSP:0
DALARM:20260622T160000;PT10M;2;Country Christian Wegner vs. North Marion Gostevskyh
END:VEVENT
BEGIN:VEVENT
DTSTART:20260624T180000
DTEND:20260624T190000
SUMMARY:North Marion Gostevskyh vs. Molalla Nixon
DESCRIPTION:#3 Minor National - Clackamas County Junior Baseball
LOCATION:TBD
CATEGORIES:QuickScores; Baseball Game
TRANSP:0
DALARM:20260624T160000;PT10M;2;North Marion Gostevskyh vs. Molalla Nixon
END:VEVENT
BEGIN:VEVENT
DTSTART:20260624T180000
DTEND:20260624T190000
SUMMARY:Country Christian Wegner vs. Clackamas Garcia
DESCRIPTION:#3 Minor National - Clackamas County Junior Baseball
LOCATION:TBD
CATEGORIES:QuickScores; Baseball Game
TRANSP:0
DALARM:20260624T160000;PT10M;2;Country Christian Wegner vs. Clackamas Garcia
END:VEVENT
BEGIN:VEVENT
DTSTART:20260624T180000
DTEND:20260624T190000
SUMMARY:West Linn Migliaccio vs. Gladstone Conner
DESCRIPTION:#3 Minor National - Clackamas County Junior Baseball
LOCATION:TBD
CATEGORIES:QuickScores; Baseball Game
TRANSP:0
DALARM:20260624T160000;PT10M;2;West Linn Migliaccio vs. Gladstone Conner
END:VEVENT
BEGIN:VEVENT
DTSTART:20260626T180000
DTEND:20260626T190000
SUMMARY:Gladstone Conner vs. Country Christian Wegner
DESCRIPTION:TBD Game - Needs to be scheduled --- #3 Minor National - Clackamas County Junior Baseball
LOCATION:TBD
CATEGORIES:QuickScores; Baseball Game
TRANSP:0
DALARM:20260626T160000;PT10M;2;Gladstone Conner vs. Country Christian Wegner
END:VEVENT
BEGIN:VEVENT
DTSTART:20260712T180000
DTEND:20260712T190000
SUMMARY:Clackamas Garcia vs. North Marion Gostevskyh
DESCRIPTION:TBD Game - Needs to be scheduled --- #3 Minor National - Clackamas County Junior Baseball
LOCATION:TBD
CATEGORIES:QuickScores; Baseball Game
TRANSP:0
DALARM:20260712T160000;PT10M;2;Clackamas Garcia vs. North Marion Gostevskyh
END:VEVENT
END:VCALENDAR
