BEGIN:VCALENDAR
VERSION:1.0
BEGIN:VEVENT
DTSTART:20260421T180000
DTEND:20260421T190000
SUMMARY:Clackamas Joy vs. North Marion Steinke
DESCRIPTION:Rained out. To be rescheduled. --- #25 Senior American - Clackamas County Junior Baseball
LOCATION:TBD
CATEGORIES:QuickScores; Baseball Game
TRANSP:0
DALARM:20260421T160000;PT10M;2;Clackamas Joy vs. North Marion Steinke
END:VEVENT
BEGIN:VEVENT
DTSTART:20260421T180000
DTEND:20260421T190000
SUMMARY:Milwaukie Schaeffer vs. Putnam Towle
DESCRIPTION:Milwaukie#34 York - 35#62 Yeager - 62 // Putnam#3 Tommy W - 54#41 Brody H - 41#21 William W - 21 --- #25 Senior American - Clackamas County Junior Baseball
LOCATION:TBD
CATEGORIES:QuickScores; Baseball Game
TRANSP:0
DALARM:20260421T160000;PT10M;2;Milwaukie Schaeffer vs. Putnam Towle
END:VEVENT
BEGIN:VEVENT
DTSTART:20260423T180000
DTEND:20260423T190000
SUMMARY:Nelson Hamlin vs. Clackamas Joy
DESCRIPTION:Clackamas Joy (Away): #13 Sletmoe 40, #5 Pettinger 42, #24 Zimmerman 28, #29 Pfaff 12, #10 York 7 // Nelson Hamlin (Home):#4 Newman 31, #24 Nollman 19, #1 Simpson 17, #2 Joseph 28, #11 Thorne 19, #21 Lee-Brun 11, #12 Strayhan 39 --- #25 Senior American - Clackamas County Junior Baseball
LOCATION:TBD
CATEGORIES:QuickScores; Baseball Game
TRANSP:0
DALARM:20260423T160000;PT10M;2;Nelson Hamlin vs. Clackamas Joy
END:VEVENT
BEGIN:VEVENT
DTSTART:20260423T180000
DTEND:20260423T190000
SUMMARY:North Marion Steinke vs. McNary Martin*
DESCRIPTION:#25 Senior American - Clackamas County Junior Baseball
LOCATION:TBD
CATEGORIES:QuickScores; Baseball Game
TRANSP:0
DALARM:20260423T160000;PT10M;2;North Marion Steinke vs. McNary Martin*
END:VEVENT
BEGIN:VEVENT
DTSTART:20260424T180000
DTEND:20260424T190000
SUMMARY:Mt Angel Banducci vs. Milwaukie Schaeffer
DESCRIPTION:Mt Angel- Banducci (Away)- Koda Mason #2- 43, J. Farnsworth #13- 9 

Milwaukie- Schaffer (Home)- E. Romero #3- 44, L. Matney #16- 32, W. York #34- 25, D. Schaffer #99- 29 --- #25 Senior American - Clackamas County Junior Baseball
LOCATION:TBD
CATEGORIES:QuickScores; Baseball Game
TRANSP:0
DALARM:20260424T160000;PT10M;2;Mt Angel Banducci vs. Milwaukie Schaeffer
END:VEVENT
BEGIN:VEVENT
DTSTART:20260428T180000
DTEND:20260428T190000
SUMMARY:Clackamas Joy vs. Mt Angel Banducci
DESCRIPTION:#25 Senior American - Clackamas County Junior Baseball
LOCATION:TBD
CATEGORIES:QuickScores; Baseball Game
TRANSP:0
DALARM:20260428T160000;PT10M;2;Clackamas Joy vs. Mt Angel Banducci
END:VEVENT
BEGIN:VEVENT
DTSTART:20260428T180000
DTEND:20260428T190000
SUMMARY:McNary Martin* vs. Milwaukie Schaeffer
DESCRIPTION:#25 Senior American - Clackamas County Junior Baseball
LOCATION:TBD
CATEGORIES:QuickScores; Baseball Game
TRANSP:0
DALARM:20260428T160000;PT10M;2;McNary Martin* vs. Milwaukie Schaeffer
END:VEVENT
BEGIN:VEVENT
DTSTART:20260428T180000
DTEND:20260428T190000
SUMMARY:Putnam Towle vs. Nelson Hamlin
DESCRIPTION:#25 Senior American - Clackamas County Junior Baseball
LOCATION:TBD
CATEGORIES:QuickScores; Baseball Game
TRANSP:0
DALARM:20260428T160000;PT10M;2;Putnam Towle vs. Nelson Hamlin
END:VEVENT
BEGIN:VEVENT
DTSTART:20260430T180000
DTEND:20260430T190000
SUMMARY:Milwaukie Schaeffer vs. North Marion Steinke
DESCRIPTION:#25 Senior American - Clackamas County Junior Baseball
LOCATION:TBD
CATEGORIES:QuickScores; Baseball Game
TRANSP:0
DALARM:20260430T160000;PT10M;2;Milwaukie Schaeffer vs. North Marion Steinke
END:VEVENT
BEGIN:VEVENT
DTSTART:20260430T180000
DTEND:20260430T190000
SUMMARY:Mt Angel Banducci vs. Putnam Towle
DESCRIPTION:#25 Senior American - Clackamas County Junior Baseball
LOCATION:TBD
CATEGORIES:QuickScores; Baseball Game
TRANSP:0
DALARM:20260430T160000;PT10M;2;Mt Angel Banducci vs. Putnam Towle
END:VEVENT
BEGIN:VEVENT
DTSTART:20260430T180000
DTEND:20260430T190000
SUMMARY:Nelson Hamlin vs. McNary Martin*
DESCRIPTION:#25 Senior American - Clackamas County Junior Baseball
LOCATION:TBD
CATEGORIES:QuickScores; Baseball Game
TRANSP:0
DALARM:20260430T160000;PT10M;2;Nelson Hamlin vs. McNary Martin*
END:VEVENT
BEGIN:VEVENT
DTSTART:20260505T180000
DTEND:20260505T190000
SUMMARY:McNary Martin* vs. Mt Angel Banducci
DESCRIPTION:#25 Senior American - Clackamas County Junior Baseball
LOCATION:TBD
CATEGORIES:QuickScores; Baseball Game
TRANSP:0
DALARM:20260505T160000;PT10M;2;McNary Martin* vs. Mt Angel Banducci
END:VEVENT
BEGIN:VEVENT
DTSTART:20260505T180000
DTEND:20260505T190000
SUMMARY:Clackamas Joy vs. Milwaukie Schaeffer
DESCRIPTION:#25 Senior American - Clackamas County Junior Baseball
LOCATION:TBD
CATEGORIES:QuickScores; Baseball Game
TRANSP:0
DALARM:20260505T160000;PT10M;2;Clackamas Joy vs. Milwaukie Schaeffer
END:VEVENT
BEGIN:VEVENT
DTSTART:20260505T180000
DTEND:20260505T190000
SUMMARY:North Marion Steinke vs. Nelson Hamlin
DESCRIPTION:#25 Senior American - Clackamas County Junior Baseball
LOCATION:TBD
CATEGORIES:QuickScores; Baseball Game
TRANSP:0
DALARM:20260505T160000;PT10M;2;North Marion Steinke vs. Nelson Hamlin
END:VEVENT
BEGIN:VEVENT
DTSTART:20260507T180000
DTEND:20260507T190000
SUMMARY:Mt Angel Banducci vs. McNary Martin*
DESCRIPTION:#25 Senior American - Clackamas County Junior Baseball
LOCATION:TBD
CATEGORIES:QuickScores; Baseball Game
TRANSP:0
DALARM:20260507T160000;PT10M;2;Mt Angel Banducci vs. McNary Martin*
END:VEVENT
BEGIN:VEVENT
DTSTART:20260507T180000
DTEND:20260507T190000
SUMMARY:North Marion Steinke vs. Clackamas Joy
DESCRIPTION:#25 Senior American - Clackamas County Junior Baseball
LOCATION:TBD
CATEGORIES:QuickScores; Baseball Game
TRANSP:0
DALARM:20260507T160000;PT10M;2;North Marion Steinke vs. Clackamas Joy
END:VEVENT
BEGIN:VEVENT
DTSTART:20260508T180000
DTEND:20260508T190000
SUMMARY:Putnam Towle vs. Milwaukie Schaeffer
DESCRIPTION:#25 Senior American - Clackamas County Junior Baseball
LOCATION:TBD
CATEGORIES:QuickScores; Baseball Game
TRANSP:0
DALARM:20260508T160000;PT10M;2;Putnam Towle vs. Milwaukie Schaeffer
END:VEVENT
BEGIN:VEVENT
DTSTART:20260512T180000
DTEND:20260512T190000
SUMMARY:Clackamas Joy vs. Putnam Towle
DESCRIPTION:#25 Senior American - Clackamas County Junior Baseball
LOCATION:TBD
CATEGORIES:QuickScores; Baseball Game
TRANSP:0
DALARM:20260512T160000;PT10M;2;Clackamas Joy vs. Putnam Towle
END:VEVENT
BEGIN:VEVENT
DTSTART:20260512T180000
DTEND:20260512T190000
SUMMARY:North Marion Steinke vs. Mt Angel Banducci
DESCRIPTION:#25 Senior American - Clackamas County Junior Baseball
LOCATION:TBD
CATEGORIES:QuickScores; Baseball Game
TRANSP:0
DALARM:20260512T160000;PT10M;2;North Marion Steinke vs. Mt Angel Banducci
END:VEVENT
BEGIN:VEVENT
DTSTART:20260513T183000
DTEND:20260513T193000
SUMMARY:Milwaukie Schaeffer vs. Nelson Hamlin
DESCRIPTION:#25 Senior American - Clackamas County Junior Baseball
LOCATION:TBD
CATEGORIES:QuickScores; Baseball Game
TRANSP:0
DALARM:20260513T163000;PT10M;2;Milwaukie Schaeffer vs. Nelson Hamlin
END:VEVENT
BEGIN:VEVENT
DTSTART:20260514T180000
DTEND:20260514T190000
SUMMARY:Clackamas Joy vs. McNary Martin*
DESCRIPTION:#25 Senior American - Clackamas County Junior Baseball
LOCATION:TBD
CATEGORIES:QuickScores; Baseball Game
TRANSP:0
DALARM:20260514T160000;PT10M;2;Clackamas Joy vs. McNary Martin*
END:VEVENT
BEGIN:VEVENT
DTSTART:20260514T180000
DTEND:20260514T190000
SUMMARY:North Marion Steinke vs. Putnam Towle
DESCRIPTION:#25 Senior American - Clackamas County Junior Baseball
LOCATION:TBD
CATEGORIES:QuickScores; Baseball Game
TRANSP:0
DALARM:20260514T160000;PT10M;2;North Marion Steinke vs. Putnam Towle
END:VEVENT
BEGIN:VEVENT
DTSTART:20260515T180000
DTEND:20260515T190000
SUMMARY:Mt Angel Banducci vs. Nelson Hamlin
DESCRIPTION:#25 Senior American - Clackamas County Junior Baseball
LOCATION:TBD
CATEGORIES:QuickScores; Baseball Game
TRANSP:0
DALARM:20260515T160000;PT10M;2;Mt Angel Banducci vs. Nelson Hamlin
END:VEVENT
BEGIN:VEVENT
DTSTART:20260519T180000
DTEND:20260519T190000
SUMMARY:Mt Angel Banducci vs. Milwaukie Schaeffer
DESCRIPTION:#25 Senior American - Clackamas County Junior Baseball
LOCATION:TBD
CATEGORIES:QuickScores; Baseball Game
TRANSP:0
DALARM:20260519T160000;PT10M;2;Mt Angel Banducci vs. Milwaukie Schaeffer
END:VEVENT
BEGIN:VEVENT
DTSTART:20260519T180000
DTEND:20260519T190000
SUMMARY:Clackamas Joy vs. Nelson Hamlin
DESCRIPTION:#25 Senior American - Clackamas County Junior Baseball
LOCATION:TBD
CATEGORIES:QuickScores; Baseball Game
TRANSP:0
DALARM:20260519T160000;PT10M;2;Clackamas Joy vs. Nelson Hamlin
END:VEVENT
BEGIN:VEVENT
DTSTART:20260519T180000
DTEND:20260519T190000
SUMMARY:McNary Martin* vs. North Marion Steinke
DESCRIPTION:#25 Senior American - Clackamas County Junior Baseball
LOCATION:TBD
CATEGORIES:QuickScores; Baseball Game
TRANSP:0
DALARM:20260519T160000;PT10M;2;McNary Martin* vs. North Marion Steinke
END:VEVENT
BEGIN:VEVENT
DTSTART:20260521T180000
DTEND:20260521T190000
SUMMARY:Milwaukie Schaeffer vs. McNary Martin*
DESCRIPTION:#25 Senior American - Clackamas County Junior Baseball
LOCATION:TBD
CATEGORIES:QuickScores; Baseball Game
TRANSP:0
DALARM:20260521T160000;PT10M;2;Milwaukie Schaeffer vs. McNary Martin*
END:VEVENT
BEGIN:VEVENT
DTSTART:20260521T180000
DTEND:20260521T190000
SUMMARY:Nelson Hamlin vs. Putnam Towle
DESCRIPTION:#25 Senior American - Clackamas County Junior Baseball
LOCATION:TBD
CATEGORIES:QuickScores; Baseball Game
TRANSP:0
DALARM:20260521T160000;PT10M;2;Nelson Hamlin vs. Putnam Towle
END:VEVENT
BEGIN:VEVENT
DTSTART:20260521T180000
DTEND:20260521T190000
SUMMARY:Mt Angel Banducci vs. Clackamas Joy
DESCRIPTION:#25 Senior American - Clackamas County Junior Baseball
LOCATION:TBD
CATEGORIES:QuickScores; Baseball Game
TRANSP:0
DALARM:20260521T160000;PT10M;2;Mt Angel Banducci vs. Clackamas Joy
END:VEVENT
BEGIN:VEVENT
DTSTART:20260526T180000
DTEND:20260526T190000
SUMMARY:North Marion Steinke vs. Milwaukie Schaeffer
DESCRIPTION:#25 Senior American - Clackamas County Junior Baseball
LOCATION:TBD
CATEGORIES:QuickScores; Baseball Game
TRANSP:0
DALARM:20260526T160000;PT10M;2;North Marion Steinke vs. Milwaukie Schaeffer
END:VEVENT
BEGIN:VEVENT
DTSTART:20260526T180000
DTEND:20260526T190000
SUMMARY:McNary Martin* vs. Nelson Hamlin
DESCRIPTION:#25 Senior American - Clackamas County Junior Baseball
LOCATION:TBD
CATEGORIES:QuickScores; Baseball Game
TRANSP:0
DALARM:20260526T160000;PT10M;2;McNary Martin* vs. Nelson Hamlin
END:VEVENT
BEGIN:VEVENT
DTSTART:20260526T180000
DTEND:20260526T190000
SUMMARY:Putnam Towle vs. Mt Angel Banducci
DESCRIPTION:#25 Senior American - Clackamas County Junior Baseball
LOCATION:TBD
CATEGORIES:QuickScores; Baseball Game
TRANSP:0
DALARM:20260526T160000;PT10M;2;Putnam Towle vs. Mt Angel Banducci
END:VEVENT
BEGIN:VEVENT
DTSTART:20260528T180000
DTEND:20260528T190000
SUMMARY:North Marion Steinke vs. McNary Martin*
DESCRIPTION:#25 Senior American - Clackamas County Junior Baseball
LOCATION:TBD
CATEGORIES:QuickScores; Baseball Game
TRANSP:0
DALARM:20260528T160000;PT10M;2;North Marion Steinke vs. McNary Martin*
END:VEVENT
BEGIN:VEVENT
DTSTART:20260528T180000
DTEND:20260528T190000
SUMMARY:Nelson Hamlin vs. Clackamas Joy
DESCRIPTION:#25 Senior American - Clackamas County Junior Baseball
LOCATION:TBD
CATEGORIES:QuickScores; Baseball Game
TRANSP:0
DALARM:20260528T160000;PT10M;2;Nelson Hamlin vs. Clackamas Joy
END:VEVENT
BEGIN:VEVENT
DTSTART:20260528T180000
DTEND:20260528T190000
SUMMARY:Milwaukie Schaeffer vs. Mt Angel Banducci
DESCRIPTION:#25 Senior American - Clackamas County Junior Baseball
LOCATION:TBD
CATEGORIES:QuickScores; Baseball Game
TRANSP:0
DALARM:20260528T160000;PT10M;2;Milwaukie Schaeffer vs. Mt Angel Banducci
END:VEVENT
BEGIN:VEVENT
DTSTART:20260529T180000
DTEND:20260529T190000
SUMMARY:McNary Martin* vs. Putnam Towle
DESCRIPTION:#25 Senior American - Clackamas County Junior Baseball
LOCATION:TBD
CATEGORIES:QuickScores; Baseball Game
TRANSP:0
DALARM:20260529T160000;PT10M;2;McNary Martin* vs. Putnam Towle
END:VEVENT
BEGIN:VEVENT
DTSTART:20260602T180000
DTEND:20260602T190000
SUMMARY:McNary Martin* vs. Mt Angel Banducci
DESCRIPTION:#25 Senior American - Clackamas County Junior Baseball
LOCATION:TBD
CATEGORIES:QuickScores; Baseball Game
TRANSP:0
DALARM:20260602T160000;PT10M;2;McNary Martin* vs. Mt Angel Banducci
END:VEVENT
BEGIN:VEVENT
DTSTART:20260602T180000
DTEND:20260602T190000
SUMMARY:Milwaukie Schaeffer vs. Putnam Towle
DESCRIPTION:#25 Senior American - Clackamas County Junior Baseball
LOCATION:TBD
CATEGORIES:QuickScores; Baseball Game
TRANSP:0
DALARM:20260602T160000;PT10M;2;Milwaukie Schaeffer vs. Putnam Towle
END:VEVENT
BEGIN:VEVENT
DTSTART:20260602T180000
DTEND:20260602T190000
SUMMARY:Clackamas Joy vs. North Marion Steinke
DESCRIPTION:#25 Senior American - Clackamas County Junior Baseball
LOCATION:TBD
CATEGORIES:QuickScores; Baseball Game
TRANSP:0
DALARM:20260602T160000;PT10M;2;Clackamas Joy vs. North Marion Steinke
END:VEVENT
BEGIN:VEVENT
DTSTART:20260604T180000
DTEND:20260604T190000
SUMMARY:Putnam Towle vs. Clackamas Joy
DESCRIPTION:#25 Senior American - Clackamas County Junior Baseball
LOCATION:TBD
CATEGORIES:QuickScores; Baseball Game
TRANSP:0
DALARM:20260604T160000;PT10M;2;Putnam Towle vs. Clackamas Joy
END:VEVENT
BEGIN:VEVENT
DTSTART:20260604T180000
DTEND:20260604T190000
SUMMARY:Nelson Hamlin vs. Milwaukie Schaeffer
DESCRIPTION:#25 Senior American - Clackamas County Junior Baseball
LOCATION:TBD
CATEGORIES:QuickScores; Baseball Game
TRANSP:0
DALARM:20260604T160000;PT10M;2;Nelson Hamlin vs. Milwaukie Schaeffer
END:VEVENT
BEGIN:VEVENT
DTSTART:20260604T180000
DTEND:20260604T190000
SUMMARY:Mt Angel Banducci vs. North Marion Steinke
DESCRIPTION:#25 Senior American - Clackamas County Junior Baseball
LOCATION:TBD
CATEGORIES:QuickScores; Baseball Game
TRANSP:0
DALARM:20260604T160000;PT10M;2;Mt Angel Banducci vs. North Marion Steinke
END:VEVENT
BEGIN:VEVENT
DTSTART:20260609T180000
DTEND:20260609T190000
SUMMARY:McNary Martin* vs. Clackamas Joy
DESCRIPTION:#25 Senior American - Clackamas County Junior Baseball
LOCATION:TBD
CATEGORIES:QuickScores; Baseball Game
TRANSP:0
DALARM:20260609T160000;PT10M;2;McNary Martin* vs. Clackamas Joy
END:VEVENT
BEGIN:VEVENT
DTSTART:20260609T180000
DTEND:20260609T190000
SUMMARY:Nelson Hamlin vs. Mt Angel Banducci
DESCRIPTION:#25 Senior American - Clackamas County Junior Baseball
LOCATION:TBD
CATEGORIES:QuickScores; Baseball Game
TRANSP:0
DALARM:20260609T160000;PT10M;2;Nelson Hamlin vs. Mt Angel Banducci
END:VEVENT
BEGIN:VEVENT
DTSTART:20260609T180000
DTEND:20260609T190000
SUMMARY:Putnam Towle vs. North Marion Steinke
DESCRIPTION:#25 Senior American - Clackamas County Junior Baseball
LOCATION:TBD
CATEGORIES:QuickScores; Baseball Game
TRANSP:0
DALARM:20260609T160000;PT10M;2;Putnam Towle vs. North Marion Steinke
END:VEVENT
BEGIN:VEVENT
DTSTART:20260611T180000
DTEND:20260611T190000
SUMMARY:Milwaukie Schaeffer vs. Clackamas Joy
DESCRIPTION:#25 Senior American - Clackamas County Junior Baseball
LOCATION:TBD
CATEGORIES:QuickScores; Baseball Game
TRANSP:0
DALARM:20260611T160000;PT10M;2;Milwaukie Schaeffer vs. Clackamas Joy
END:VEVENT
BEGIN:VEVENT
DTSTART:20260611T180000
DTEND:20260611T190000
SUMMARY:Putnam Towle vs. McNary Martin*
DESCRIPTION:#25 Senior American - Clackamas County Junior Baseball
LOCATION:TBD
CATEGORIES:QuickScores; Baseball Game
TRANSP:0
DALARM:20260611T160000;PT10M;2;Putnam Towle vs. McNary Martin*
END:VEVENT
BEGIN:VEVENT
DTSTART:20260611T180000
DTEND:20260611T190000
SUMMARY:Nelson Hamlin vs. North Marion Steinke
DESCRIPTION:#25 Senior American - Clackamas County Junior Baseball
LOCATION:TBD
CATEGORIES:QuickScores; Baseball Game
TRANSP:0
DALARM:20260611T160000;PT10M;2;Nelson Hamlin vs. North Marion Steinke
END:VEVENT
BEGIN:VEVENT
DTSTART:20260616T180000
DTEND:20260616T190000
SUMMARY:Clackamas Joy vs. Mt Angel Banducci
DESCRIPTION:#25 Senior American - Clackamas County Junior Baseball
LOCATION:TBD
CATEGORIES:QuickScores; Baseball Game
TRANSP:0
DALARM:20260616T160000;PT10M;2;Clackamas Joy vs. Mt Angel Banducci
END:VEVENT
BEGIN:VEVENT
DTSTART:20260616T180000
DTEND:20260616T190000
SUMMARY:McNary Martin* vs. Milwaukie Schaeffer
DESCRIPTION:#25 Senior American - Clackamas County Junior Baseball
LOCATION:TBD
CATEGORIES:QuickScores; Baseball Game
TRANSP:0
DALARM:20260616T160000;PT10M;2;McNary Martin* vs. Milwaukie Schaeffer
END:VEVENT
BEGIN:VEVENT
DTSTART:20260616T180000
DTEND:20260616T190000
SUMMARY:Putnam Towle vs. Nelson Hamlin
DESCRIPTION:#25 Senior American - Clackamas County Junior Baseball
LOCATION:TBD
CATEGORIES:QuickScores; Baseball Game
TRANSP:0
DALARM:20260616T160000;PT10M;2;Putnam Towle vs. Nelson Hamlin
END:VEVENT
BEGIN:VEVENT
DTSTART:20260618T180000
DTEND:20260618T190000
SUMMARY:Milwaukie Schaeffer vs. Clackamas Joy
DESCRIPTION:#25 Senior American - Clackamas County Junior Baseball
LOCATION:TBD
CATEGORIES:QuickScores; Baseball Game
TRANSP:0
DALARM:20260618T160000;PT10M;2;Milwaukie Schaeffer vs. Clackamas Joy
END:VEVENT
BEGIN:VEVENT
DTSTART:20260618T180000
DTEND:20260618T190000
SUMMARY:Nelson Hamlin vs. McNary Martin*
DESCRIPTION:#25 Senior American - Clackamas County Junior Baseball
LOCATION:TBD
CATEGORIES:QuickScores; Baseball Game
TRANSP:0
DALARM:20260618T160000;PT10M;2;Nelson Hamlin vs. McNary Martin*
END:VEVENT
BEGIN:VEVENT
DTSTART:20260618T180000
DTEND:20260618T190000
SUMMARY:Putnam Towle vs. North Marion Steinke
DESCRIPTION:#25 Senior American - Clackamas County Junior Baseball
LOCATION:TBD
CATEGORIES:QuickScores; Baseball Game
TRANSP:0
DALARM:20260618T160000;PT10M;2;Putnam Towle vs. North Marion Steinke
END:VEVENT
BEGIN:VEVENT
DTSTART:20260623T180000
DTEND:20260623T190000
SUMMARY:Putnam Towle vs. Mt Angel Banducci
DESCRIPTION:#25 Senior American - Clackamas County Junior Baseball
LOCATION:TBD
CATEGORIES:QuickScores; Baseball Game
TRANSP:0
DALARM:20260623T160000;PT10M;2;Putnam Towle vs. Mt Angel Banducci
END:VEVENT
BEGIN:VEVENT
DTSTART:20260623T180000
DTEND:20260623T190000
SUMMARY:Nelson Hamlin vs. North Marion Steinke
DESCRIPTION:#25 Senior American - Clackamas County Junior Baseball
LOCATION:TBD
CATEGORIES:QuickScores; Baseball Game
TRANSP:0
DALARM:20260623T160000;PT10M;2;Nelson Hamlin vs. North Marion Steinke
END:VEVENT
BEGIN:VEVENT
DTSTART:20260623T180000
DTEND:20260623T190000
SUMMARY:McNary Martin* vs. Clackamas Joy
DESCRIPTION:#25 Senior American - Clackamas County Junior Baseball
LOCATION:TBD
CATEGORIES:QuickScores; Baseball Game
TRANSP:0
DALARM:20260623T160000;PT10M;2;McNary Martin* vs. Clackamas Joy
END:VEVENT
BEGIN:VEVENT
DTSTART:20260625T180000
DTEND:20260625T190000
SUMMARY:Mt Angel Banducci vs. North Marion Steinke
DESCRIPTION:#25 Senior American - Clackamas County Junior Baseball
LOCATION:TBD
CATEGORIES:QuickScores; Baseball Game
TRANSP:0
DALARM:20260625T160000;PT10M;2;Mt Angel Banducci vs. North Marion Steinke
END:VEVENT
BEGIN:VEVENT
DTSTART:20260625T180000
DTEND:20260625T190000
SUMMARY:Clackamas Joy vs. Putnam Towle
DESCRIPTION:#25 Senior American - Clackamas County Junior Baseball
LOCATION:TBD
CATEGORIES:QuickScores; Baseball Game
TRANSP:0
DALARM:20260625T160000;PT10M;2;Clackamas Joy vs. Putnam Towle
END:VEVENT
BEGIN:VEVENT
DTSTART:20260627T120000
DTEND:20260627T130000
SUMMARY:Milwaukie Schaeffer vs. Nelson Hamlin
DESCRIPTION:#25 Senior American - Clackamas County Junior Baseball
LOCATION:TBD
CATEGORIES:QuickScores; Baseball Game
TRANSP:0
DALARM:20260627T100000;PT10M;2;Milwaukie Schaeffer vs. Nelson Hamlin
END:VEVENT
BEGIN:VEVENT
DTSTART:20260630T180000
DTEND:20260630T190000
SUMMARY:Mt Angel Banducci vs. Nelson Hamlin
DESCRIPTION:#25 Senior American - Clackamas County Junior Baseball
LOCATION:TBD
CATEGORIES:QuickScores; Baseball Game
TRANSP:0
DALARM:20260630T160000;PT10M;2;Mt Angel Banducci vs. Nelson Hamlin
END:VEVENT
BEGIN:VEVENT
DTSTART:20260630T180000
DTEND:20260630T190000
SUMMARY:North Marion Steinke vs. Milwaukie Schaeffer
DESCRIPTION:#25 Senior American - Clackamas County Junior Baseball
LOCATION:TBD
CATEGORIES:QuickScores; Baseball Game
TRANSP:0
DALARM:20260630T160000;PT10M;2;North Marion Steinke vs. Milwaukie Schaeffer
END:VEVENT
BEGIN:VEVENT
DTSTART:20260630T180000
DTEND:20260630T190000
SUMMARY:Putnam Towle vs. McNary Martin*
DESCRIPTION:#25 Senior American - Clackamas County Junior Baseball
LOCATION:TBD
CATEGORIES:QuickScores; Baseball Game
TRANSP:0
DALARM:20260630T160000;PT10M;2;Putnam Towle vs. McNary Martin*
END:VEVENT
END:VCALENDAR
