BEGIN:VCALENDAR
VERSION:1.0
BEGIN:VEVENT
DTSTART:20260420T180000
DTEND:20260420T190000
SUMMARY:Nelson Fennell vs. Oregon City Bartelli
DESCRIPTION:Pitch Counts:OC Bartelli:#24 Stringer - 63#8 Bartelli - 45Nelson Fennell:#34 Gormley - 58#11 Fennell - 23#10 Gonzales - 95#24 Tabb - 1 --- #23 Senior American - Clackamas County Junior Baseball
LOCATION:TBD
CATEGORIES:QuickScores; Baseball Game
TRANSP:0
DALARM:20260420T160000;PT10M;2;Nelson Fennell vs. Oregon City Bartelli
END:VEVENT
BEGIN:VEVENT
DTSTART:20260420T180000
DTEND:20260420T190000
SUMMARY:Molalla Dryden vs. Cleveland Cahill*
DESCRIPTION:Cleveland Cahill (Away): #17 Everett 67, #9 Greensmith 30, #66 Schug 42, #24 Pope 15, #7 Bertsch 11 // Molalla Dryden (Home): #15 Lochridge 59, #25 Billings 50, #23 Ashley 27. --- #23 Senior American - Clackamas County Junior Baseball
LOCATION:TBD
CATEGORIES:QuickScores; Baseball Game
TRANSP:0
DALARM:20260420T160000;PT10M;2;Molalla Dryden vs. Cleveland Cahill*
END:VEVENT
BEGIN:VEVENT
DTSTART:20260420T180000
DTEND:20260420T190000
SUMMARY:Canby Jarmer vs. Gladstone Alba
DESCRIPTION:Gladstone (alba) away:  #24 Taylor Gaffney 55, #16 Evan Deshores 44
Canby (jarmer) home: #9 Will Moses 49, #8 Owen carter 29, #18 Lochlan Cutsforth 40, #2 Luke Ottosen 9, #4 Henry Mayer 35, #1 Talon Fryman 26 --- #23 Senior American - Clackamas County Junior Baseball
LOCATION:TBD
CATEGORIES:QuickScores; Baseball Game
TRANSP:0
DALARM:20260420T160000;PT10M;2;Canby Jarmer vs. Gladstone Alba
END:VEVENT
BEGIN:VEVENT
DTSTART:20260422T180000
DTEND:20260422T190000
SUMMARY:Molalla Dryden vs. Tualatin Leitch
DESCRIPTION:#23 Senior American - Clackamas County Junior Baseball
LOCATION:TBD
CATEGORIES:QuickScores; Baseball Game
TRANSP:0
DALARM:20260422T160000;PT10M;2;Molalla Dryden vs. Tualatin Leitch
END:VEVENT
BEGIN:VEVENT
DTSTART:20260422T180000
DTEND:20260422T190000
SUMMARY:Cleveland Cahill* vs. Canby Jarmer
DESCRIPTION:#23 Senior American - Clackamas County Junior Baseball
LOCATION:TBD
CATEGORIES:QuickScores; Baseball Game
TRANSP:0
DALARM:20260422T160000;PT10M;2;Cleveland Cahill* vs. Canby Jarmer
END:VEVENT
BEGIN:VEVENT
DTSTART:20260423T180000
DTEND:20260423T190000
SUMMARY:Gladstone Alba vs. Nelson Fennell
DESCRIPTION:#23 Senior American - Clackamas County Junior Baseball
LOCATION:TBD
CATEGORIES:QuickScores; Baseball Game
TRANSP:0
DALARM:20260423T160000;PT10M;2;Gladstone Alba vs. Nelson Fennell
END:VEVENT
BEGIN:VEVENT
DTSTART:20260427T180000
DTEND:20260427T190000
SUMMARY:Gladstone Alba vs. Molalla Dryden
DESCRIPTION:#23 Senior American - Clackamas County Junior Baseball
LOCATION:TBD
CATEGORIES:QuickScores; Baseball Game
TRANSP:0
DALARM:20260427T160000;PT10M;2;Gladstone Alba vs. Molalla Dryden
END:VEVENT
BEGIN:VEVENT
DTSTART:20260427T180000
DTEND:20260427T190000
SUMMARY:Canby Jarmer vs. Oregon City Bartelli
DESCRIPTION:#23 Senior American - Clackamas County Junior Baseball
LOCATION:TBD
CATEGORIES:QuickScores; Baseball Game
TRANSP:0
DALARM:20260427T160000;PT10M;2;Canby Jarmer vs. Oregon City Bartelli
END:VEVENT
BEGIN:VEVENT
DTSTART:20260427T180000
DTEND:20260427T190000
SUMMARY:Tualatin Leitch vs. Cleveland Cahill*
DESCRIPTION:#23 Senior American - Clackamas County Junior Baseball
LOCATION:TBD
CATEGORIES:QuickScores; Baseball Game
TRANSP:0
DALARM:20260427T160000;PT10M;2;Tualatin Leitch vs. Cleveland Cahill*
END:VEVENT
BEGIN:VEVENT
DTSTART:20260429T180000
DTEND:20260429T190000
SUMMARY:Cleveland Cahill* vs. Nelson Fennell
DESCRIPTION:#23 Senior American - Clackamas County Junior Baseball
LOCATION:TBD
CATEGORIES:QuickScores; Baseball Game
TRANSP:0
DALARM:20260429T160000;PT10M;2;Cleveland Cahill* vs. Nelson Fennell
END:VEVENT
BEGIN:VEVENT
DTSTART:20260429T180000
DTEND:20260429T190000
SUMMARY:Oregon City Bartelli vs. Tualatin Leitch
DESCRIPTION:#23 Senior American - Clackamas County Junior Baseball
LOCATION:TBD
CATEGORIES:QuickScores; Baseball Game
TRANSP:0
DALARM:20260429T160000;PT10M;2;Oregon City Bartelli vs. Tualatin Leitch
END:VEVENT
BEGIN:VEVENT
DTSTART:20260429T180000
DTEND:20260429T190000
SUMMARY:Molalla Dryden vs. Canby Jarmer
DESCRIPTION:#23 Senior American - Clackamas County Junior Baseball
LOCATION:TBD
CATEGORIES:QuickScores; Baseball Game
TRANSP:0
DALARM:20260429T160000;PT10M;2;Molalla Dryden vs. Canby Jarmer
END:VEVENT
BEGIN:VEVENT
DTSTART:20260504T180000
DTEND:20260504T190000
SUMMARY:Nelson Fennell vs. Tualatin Leitch
DESCRIPTION:#23 Senior American - Clackamas County Junior Baseball
LOCATION:TBD
CATEGORIES:QuickScores; Baseball Game
TRANSP:0
DALARM:20260504T160000;PT10M;2;Nelson Fennell vs. Tualatin Leitch
END:VEVENT
BEGIN:VEVENT
DTSTART:20260504T180000
DTEND:20260504T190000
SUMMARY:Gladstone Alba vs. Cleveland Cahill*
DESCRIPTION:#23 Senior American - Clackamas County Junior Baseball
LOCATION:TBD
CATEGORIES:QuickScores; Baseball Game
TRANSP:0
DALARM:20260504T160000;PT10M;2;Gladstone Alba vs. Cleveland Cahill*
END:VEVENT
BEGIN:VEVENT
DTSTART:20260504T180000
DTEND:20260504T190000
SUMMARY:Molalla Dryden vs. Oregon City Bartelli
DESCRIPTION:#23 Senior American - Clackamas County Junior Baseball
LOCATION:TBD
CATEGORIES:QuickScores; Baseball Game
TRANSP:0
DALARM:20260504T160000;PT10M;2;Molalla Dryden vs. Oregon City Bartelli
END:VEVENT
BEGIN:VEVENT
DTSTART:20260506T180000
DTEND:20260506T190000
SUMMARY:Gladstone Alba vs. Canby Jarmer
DESCRIPTION:#23 Senior American - Clackamas County Junior Baseball
LOCATION:TBD
CATEGORIES:QuickScores; Baseball Game
TRANSP:0
DALARM:20260506T160000;PT10M;2;Gladstone Alba vs. Canby Jarmer
END:VEVENT
BEGIN:VEVENT
DTSTART:20260506T180000
DTEND:20260506T190000
SUMMARY:Cleveland Cahill* vs. Molalla Dryden
DESCRIPTION:#23 Senior American - Clackamas County Junior Baseball
LOCATION:TBD
CATEGORIES:QuickScores; Baseball Game
TRANSP:0
DALARM:20260506T160000;PT10M;2;Cleveland Cahill* vs. Molalla Dryden
END:VEVENT
BEGIN:VEVENT
DTSTART:20260506T180000
DTEND:20260506T190000
SUMMARY:Oregon City Bartelli vs. Nelson Fennell
DESCRIPTION:#23 Senior American - Clackamas County Junior Baseball
LOCATION:TBD
CATEGORIES:QuickScores; Baseball Game
TRANSP:0
DALARM:20260506T160000;PT10M;2;Oregon City Bartelli vs. Nelson Fennell
END:VEVENT
BEGIN:VEVENT
DTSTART:20260511T180000
DTEND:20260511T190000
SUMMARY:Nelson Fennell vs. Molalla Dryden
DESCRIPTION:#23 Senior American - Clackamas County Junior Baseball
LOCATION:TBD
CATEGORIES:QuickScores; Baseball Game
TRANSP:0
DALARM:20260511T160000;PT10M;2;Nelson Fennell vs. Molalla Dryden
END:VEVENT
BEGIN:VEVENT
DTSTART:20260511T180000
DTEND:20260511T190000
SUMMARY:Gladstone Alba vs. Oregon City Bartelli
DESCRIPTION:#23 Senior American - Clackamas County Junior Baseball
LOCATION:TBD
CATEGORIES:QuickScores; Baseball Game
TRANSP:0
DALARM:20260511T160000;PT10M;2;Gladstone Alba vs. Oregon City Bartelli
END:VEVENT
BEGIN:VEVENT
DTSTART:20260511T180000
DTEND:20260511T190000
SUMMARY:Canby Jarmer vs. Tualatin Leitch
DESCRIPTION:#23 Senior American - Clackamas County Junior Baseball
LOCATION:TBD
CATEGORIES:QuickScores; Baseball Game
TRANSP:0
DALARM:20260511T160000;PT10M;2;Canby Jarmer vs. Tualatin Leitch
END:VEVENT
BEGIN:VEVENT
DTSTART:20260513T180000
DTEND:20260513T190000
SUMMARY:Gladstone Alba vs. Tualatin Leitch
DESCRIPTION:#23 Senior American - Clackamas County Junior Baseball
LOCATION:TBD
CATEGORIES:QuickScores; Baseball Game
TRANSP:0
DALARM:20260513T160000;PT10M;2;Gladstone Alba vs. Tualatin Leitch
END:VEVENT
BEGIN:VEVENT
DTSTART:20260513T180000
DTEND:20260513T190000
SUMMARY:Canby Jarmer vs. Nelson Fennell
DESCRIPTION:#23 Senior American - Clackamas County Junior Baseball
LOCATION:TBD
CATEGORIES:QuickScores; Baseball Game
TRANSP:0
DALARM:20260513T160000;PT10M;2;Canby Jarmer vs. Nelson Fennell
END:VEVENT
BEGIN:VEVENT
DTSTART:20260515T180000
DTEND:20260515T190000
SUMMARY:Oregon City Bartelli vs. Cleveland Cahill*
DESCRIPTION:#23 Senior American - Clackamas County Junior Baseball
LOCATION:TBD
CATEGORIES:QuickScores; Baseball Game
TRANSP:0
DALARM:20260515T160000;PT10M;2;Oregon City Bartelli vs. Cleveland Cahill*
END:VEVENT
BEGIN:VEVENT
DTSTART:20260518T180000
DTEND:20260518T190000
SUMMARY:Tualatin Leitch vs. Molalla Dryden
DESCRIPTION:#23 Senior American - Clackamas County Junior Baseball
LOCATION:TBD
CATEGORIES:QuickScores; Baseball Game
TRANSP:0
DALARM:20260518T160000;PT10M;2;Tualatin Leitch vs. Molalla Dryden
END:VEVENT
BEGIN:VEVENT
DTSTART:20260518T180000
DTEND:20260518T190000
SUMMARY:Canby Jarmer vs. Cleveland Cahill*
DESCRIPTION:#23 Senior American - Clackamas County Junior Baseball
LOCATION:TBD
CATEGORIES:QuickScores; Baseball Game
TRANSP:0
DALARM:20260518T160000;PT10M;2;Canby Jarmer vs. Cleveland Cahill*
END:VEVENT
BEGIN:VEVENT
DTSTART:20260518T180000
DTEND:20260518T190000
SUMMARY:Nelson Fennell vs. Gladstone Alba
DESCRIPTION:#23 Senior American - Clackamas County Junior Baseball
LOCATION:TBD
CATEGORIES:QuickScores; Baseball Game
TRANSP:0
DALARM:20260518T160000;PT10M;2;Nelson Fennell vs. Gladstone Alba
END:VEVENT
BEGIN:VEVENT
DTSTART:20260520T180000
DTEND:20260520T190000
SUMMARY:Cleveland Cahill* vs. Tualatin Leitch
DESCRIPTION:#23 Senior American - Clackamas County Junior Baseball
LOCATION:TBD
CATEGORIES:QuickScores; Baseball Game
TRANSP:0
DALARM:20260520T160000;PT10M;2;Cleveland Cahill* vs. Tualatin Leitch
END:VEVENT
BEGIN:VEVENT
DTSTART:20260520T180000
DTEND:20260520T190000
SUMMARY:Oregon City Bartelli vs. Canby Jarmer
DESCRIPTION:#23 Senior American - Clackamas County Junior Baseball
LOCATION:TBD
CATEGORIES:QuickScores; Baseball Game
TRANSP:0
DALARM:20260520T160000;PT10M;2;Oregon City Bartelli vs. Canby Jarmer
END:VEVENT
BEGIN:VEVENT
DTSTART:20260520T180000
DTEND:20260520T190000
SUMMARY:Molalla Dryden vs. Gladstone Alba
DESCRIPTION:#23 Senior American - Clackamas County Junior Baseball
LOCATION:TBD
CATEGORIES:QuickScores; Baseball Game
TRANSP:0
DALARM:20260520T160000;PT10M;2;Molalla Dryden vs. Gladstone Alba
END:VEVENT
BEGIN:VEVENT
DTSTART:20260527T180000
DTEND:20260527T190000
SUMMARY:Canby Jarmer vs. Molalla Dryden
DESCRIPTION:#23 Senior American - Clackamas County Junior Baseball
LOCATION:TBD
CATEGORIES:QuickScores; Baseball Game
TRANSP:0
DALARM:20260527T160000;PT10M;2;Canby Jarmer vs. Molalla Dryden
END:VEVENT
BEGIN:VEVENT
DTSTART:20260527T180000
DTEND:20260527T190000
SUMMARY:Tualatin Leitch vs. Oregon City Bartelli
DESCRIPTION:#23 Senior American - Clackamas County Junior Baseball
LOCATION:TBD
CATEGORIES:QuickScores; Baseball Game
TRANSP:0
DALARM:20260527T160000;PT10M;2;Tualatin Leitch vs. Oregon City Bartelli
END:VEVENT
BEGIN:VEVENT
DTSTART:20260527T180000
DTEND:20260527T190000
SUMMARY:Nelson Fennell vs. Cleveland Cahill*
DESCRIPTION:#23 Senior American - Clackamas County Junior Baseball
LOCATION:TBD
CATEGORIES:QuickScores; Baseball Game
TRANSP:0
DALARM:20260527T160000;PT10M;2;Nelson Fennell vs. Cleveland Cahill*
END:VEVENT
BEGIN:VEVENT
DTSTART:20260601T180000
DTEND:20260601T190000
SUMMARY:Gladstone Alba vs. Nelson Fennell
DESCRIPTION:#23 Senior American - Clackamas County Junior Baseball
LOCATION:TBD
CATEGORIES:QuickScores; Baseball Game
TRANSP:0
DALARM:20260601T160000;PT10M;2;Gladstone Alba vs. Nelson Fennell
END:VEVENT
BEGIN:VEVENT
DTSTART:20260601T180000
DTEND:20260601T190000
SUMMARY:Cleveland Cahill* vs. Canby Jarmer
DESCRIPTION:#23 Senior American - Clackamas County Junior Baseball
LOCATION:TBD
CATEGORIES:QuickScores; Baseball Game
TRANSP:0
DALARM:20260601T160000;PT10M;2;Cleveland Cahill* vs. Canby Jarmer
END:VEVENT
BEGIN:VEVENT
DTSTART:20260601T180000
DTEND:20260601T190000
SUMMARY:Molalla Dryden vs. Tualatin Leitch
DESCRIPTION:#23 Senior American - Clackamas County Junior Baseball
LOCATION:TBD
CATEGORIES:QuickScores; Baseball Game
TRANSP:0
DALARM:20260601T160000;PT10M;2;Molalla Dryden vs. Tualatin Leitch
END:VEVENT
BEGIN:VEVENT
DTSTART:20260603T180000
DTEND:20260603T190000
SUMMARY:Canby Jarmer vs. Gladstone Alba
DESCRIPTION:#23 Senior American - Clackamas County Junior Baseball
LOCATION:TBD
CATEGORIES:QuickScores; Baseball Game
TRANSP:0
DALARM:20260603T160000;PT10M;2;Canby Jarmer vs. Gladstone Alba
END:VEVENT
BEGIN:VEVENT
DTSTART:20260603T180000
DTEND:20260603T190000
SUMMARY:Molalla Dryden vs. Cleveland Cahill*
DESCRIPTION:#23 Senior American - Clackamas County Junior Baseball
LOCATION:TBD
CATEGORIES:QuickScores; Baseball Game
TRANSP:0
DALARM:20260603T160000;PT10M;2;Molalla Dryden vs. Cleveland Cahill*
END:VEVENT
BEGIN:VEVENT
DTSTART:20260603T180000
DTEND:20260603T190000
SUMMARY:Nelson Fennell vs. Oregon City Bartelli
DESCRIPTION:#23 Senior American - Clackamas County Junior Baseball
LOCATION:TBD
CATEGORIES:QuickScores; Baseball Game
TRANSP:0
DALARM:20260603T160000;PT10M;2;Nelson Fennell vs. Oregon City Bartelli
END:VEVENT
BEGIN:VEVENT
DTSTART:20260608T180000
DTEND:20260608T190000
SUMMARY:Tualatin Leitch vs. Canby Jarmer
DESCRIPTION:#23 Senior American - Clackamas County Junior Baseball
LOCATION:TBD
CATEGORIES:QuickScores; Baseball Game
TRANSP:0
DALARM:20260608T160000;PT10M;2;Tualatin Leitch vs. Canby Jarmer
END:VEVENT
BEGIN:VEVENT
DTSTART:20260608T180000
DTEND:20260608T190000
SUMMARY:Oregon City Bartelli vs. Gladstone Alba
DESCRIPTION:#23 Senior American - Clackamas County Junior Baseball
LOCATION:TBD
CATEGORIES:QuickScores; Baseball Game
TRANSP:0
DALARM:20260608T160000;PT10M;2;Oregon City Bartelli vs. Gladstone Alba
END:VEVENT
BEGIN:VEVENT
DTSTART:20260608T180000
DTEND:20260608T190000
SUMMARY:Molalla Dryden vs. Nelson Fennell
DESCRIPTION:#23 Senior American - Clackamas County Junior Baseball
LOCATION:TBD
CATEGORIES:QuickScores; Baseball Game
TRANSP:0
DALARM:20260608T160000;PT10M;2;Molalla Dryden vs. Nelson Fennell
END:VEVENT
BEGIN:VEVENT
DTSTART:20260610T180000
DTEND:20260610T190000
SUMMARY:Cleveland Cahill* vs. Oregon City Bartelli
DESCRIPTION:#23 Senior American - Clackamas County Junior Baseball
LOCATION:TBD
CATEGORIES:QuickScores; Baseball Game
TRANSP:0
DALARM:20260610T160000;PT10M;2;Cleveland Cahill* vs. Oregon City Bartelli
END:VEVENT
BEGIN:VEVENT
DTSTART:20260610T180000
DTEND:20260610T190000
SUMMARY:Nelson Fennell vs. Canby Jarmer
DESCRIPTION:#23 Senior American - Clackamas County Junior Baseball
LOCATION:TBD
CATEGORIES:QuickScores; Baseball Game
TRANSP:0
DALARM:20260610T160000;PT10M;2;Nelson Fennell vs. Canby Jarmer
END:VEVENT
BEGIN:VEVENT
DTSTART:20260610T180000
DTEND:20260610T190000
SUMMARY:Tualatin Leitch vs. Gladstone Alba
DESCRIPTION:#23 Senior American - Clackamas County Junior Baseball
LOCATION:TBD
CATEGORIES:QuickScores; Baseball Game
TRANSP:0
DALARM:20260610T160000;PT10M;2;Tualatin Leitch vs. Gladstone Alba
END:VEVENT
BEGIN:VEVENT
DTSTART:20260615T180000
DTEND:20260615T190000
SUMMARY:Tualatin Leitch vs. Nelson Fennell
DESCRIPTION:#23 Senior American - Clackamas County Junior Baseball
LOCATION:TBD
CATEGORIES:QuickScores; Baseball Game
TRANSP:0
DALARM:20260615T160000;PT10M;2;Tualatin Leitch vs. Nelson Fennell
END:VEVENT
BEGIN:VEVENT
DTSTART:20260615T180000
DTEND:20260615T190000
SUMMARY:Oregon City Bartelli vs. Molalla Dryden
DESCRIPTION:#23 Senior American - Clackamas County Junior Baseball
LOCATION:TBD
CATEGORIES:QuickScores; Baseball Game
TRANSP:0
DALARM:20260615T160000;PT10M;2;Oregon City Bartelli vs. Molalla Dryden
END:VEVENT
BEGIN:VEVENT
DTSTART:20260615T180000
DTEND:20260615T190000
SUMMARY:Cleveland Cahill* vs. Gladstone Alba
DESCRIPTION:#23 Senior American - Clackamas County Junior Baseball
LOCATION:TBD
CATEGORIES:QuickScores; Baseball Game
TRANSP:0
DALARM:20260615T160000;PT10M;2;Cleveland Cahill* vs. Gladstone Alba
END:VEVENT
BEGIN:VEVENT
DTSTART:20260617T180000
DTEND:20260617T190000
SUMMARY:Tualatin Leitch vs. Cleveland Cahill*
DESCRIPTION:#23 Senior American - Clackamas County Junior Baseball
LOCATION:TBD
CATEGORIES:QuickScores; Baseball Game
TRANSP:0
DALARM:20260617T160000;PT10M;2;Tualatin Leitch vs. Cleveland Cahill*
END:VEVENT
BEGIN:VEVENT
DTSTART:20260617T180000
DTEND:20260617T190000
SUMMARY:Gladstone Alba vs. Molalla Dryden
DESCRIPTION:#23 Senior American - Clackamas County Junior Baseball
LOCATION:TBD
CATEGORIES:QuickScores; Baseball Game
TRANSP:0
DALARM:20260617T160000;PT10M;2;Gladstone Alba vs. Molalla Dryden
END:VEVENT
BEGIN:VEVENT
DTSTART:20260617T180000
DTEND:20260617T190000
SUMMARY:Canby Jarmer vs. Oregon City Bartelli
DESCRIPTION:#23 Senior American - Clackamas County Junior Baseball
LOCATION:TBD
CATEGORIES:QuickScores; Baseball Game
TRANSP:0
DALARM:20260617T160000;PT10M;2;Canby Jarmer vs. Oregon City Bartelli
END:VEVENT
BEGIN:VEVENT
DTSTART:20260622T180000
DTEND:20260622T190000
SUMMARY:Tualatin Leitch vs. Gladstone Alba
DESCRIPTION:#23 Senior American - Clackamas County Junior Baseball
LOCATION:TBD
CATEGORIES:QuickScores; Baseball Game
TRANSP:0
DALARM:20260622T160000;PT10M;2;Tualatin Leitch vs. Gladstone Alba
END:VEVENT
BEGIN:VEVENT
DTSTART:20260622T180000
DTEND:20260622T190000
SUMMARY:Oregon City Bartelli vs. Molalla Dryden
DESCRIPTION:#23 Senior American - Clackamas County Junior Baseball
LOCATION:TBD
CATEGORIES:QuickScores; Baseball Game
TRANSP:0
DALARM:20260622T160000;PT10M;2;Oregon City Bartelli vs. Molalla Dryden
END:VEVENT
BEGIN:VEVENT
DTSTART:20260622T180000
DTEND:20260622T190000
SUMMARY:Cleveland Cahill* vs. Nelson Fennell
DESCRIPTION:#23 Senior American - Clackamas County Junior Baseball
LOCATION:TBD
CATEGORIES:QuickScores; Baseball Game
TRANSP:0
DALARM:20260622T160000;PT10M;2;Cleveland Cahill* vs. Nelson Fennell
END:VEVENT
BEGIN:VEVENT
DTSTART:20260624T180000
DTEND:20260624T190000
SUMMARY:Tualatin Leitch vs. Oregon City Bartelli
DESCRIPTION:#23 Senior American - Clackamas County Junior Baseball
LOCATION:TBD
CATEGORIES:QuickScores; Baseball Game
TRANSP:0
DALARM:20260624T160000;PT10M;2;Tualatin Leitch vs. Oregon City Bartelli
END:VEVENT
BEGIN:VEVENT
DTSTART:20260624T180000
DTEND:20260624T190000
SUMMARY:Nelson Fennell vs. Canby Jarmer
DESCRIPTION:#23 Senior American - Clackamas County Junior Baseball
LOCATION:TBD
CATEGORIES:QuickScores; Baseball Game
TRANSP:0
DALARM:20260624T160000;PT10M;2;Nelson Fennell vs. Canby Jarmer
END:VEVENT
BEGIN:VEVENT
DTSTART:20260624T180000
DTEND:20260624T190000
SUMMARY:Cleveland Cahill* vs. Gladstone Alba
DESCRIPTION:#23 Senior American - Clackamas County Junior Baseball
LOCATION:TBD
CATEGORIES:QuickScores; Baseball Game
TRANSP:0
DALARM:20260624T160000;PT10M;2;Cleveland Cahill* vs. Gladstone Alba
END:VEVENT
BEGIN:VEVENT
DTSTART:20260629T180000
DTEND:20260629T190000
SUMMARY:Oregon City Bartelli vs. Gladstone Alba
DESCRIPTION:#23 Senior American - Clackamas County Junior Baseball
LOCATION:TBD
CATEGORIES:QuickScores; Baseball Game
TRANSP:0
DALARM:20260629T160000;PT10M;2;Oregon City Bartelli vs. Gladstone Alba
END:VEVENT
BEGIN:VEVENT
DTSTART:20260629T180000
DTEND:20260629T190000
SUMMARY:Canby Jarmer vs. Tualatin Leitch
DESCRIPTION:#23 Senior American - Clackamas County Junior Baseball
LOCATION:TBD
CATEGORIES:QuickScores; Baseball Game
TRANSP:0
DALARM:20260629T160000;PT10M;2;Canby Jarmer vs. Tualatin Leitch
END:VEVENT
BEGIN:VEVENT
DTSTART:20260629T180000
DTEND:20260629T190000
SUMMARY:Molalla Dryden vs. Nelson Fennell
DESCRIPTION:#23 Senior American - Clackamas County Junior Baseball
LOCATION:TBD
CATEGORIES:QuickScores; Baseball Game
TRANSP:0
DALARM:20260629T160000;PT10M;2;Molalla Dryden vs. Nelson Fennell
END:VEVENT
BEGIN:VEVENT
DTSTART:20260701T180000
DTEND:20260701T190000
SUMMARY:Tualatin Leitch vs. Nelson Fennell
DESCRIPTION:#23 Senior American - Clackamas County Junior Baseball
LOCATION:TBD
CATEGORIES:QuickScores; Baseball Game
TRANSP:0
DALARM:20260701T160000;PT10M;2;Tualatin Leitch vs. Nelson Fennell
END:VEVENT
BEGIN:VEVENT
DTSTART:20260701T180000
DTEND:20260701T190000
SUMMARY:Oregon City Bartelli vs. Cleveland Cahill*
DESCRIPTION:#23 Senior American - Clackamas County Junior Baseball
LOCATION:TBD
CATEGORIES:QuickScores; Baseball Game
TRANSP:0
DALARM:20260701T160000;PT10M;2;Oregon City Bartelli vs. Cleveland Cahill*
END:VEVENT
BEGIN:VEVENT
DTSTART:20260701T180000
DTEND:20260701T190000
SUMMARY:Canby Jarmer vs. Molalla Dryden
DESCRIPTION:#23 Senior American - Clackamas County Junior Baseball
LOCATION:TBD
CATEGORIES:QuickScores; Baseball Game
TRANSP:0
DALARM:20260701T160000;PT10M;2;Canby Jarmer vs. Molalla Dryden
END:VEVENT
END:VCALENDAR
