BEGIN:VCALENDAR
VERSION:1.0
BEGIN:VEVENT
DTSTART:20260412T105000
DTEND:20260412T114000
SUMMARY:Dont Worry vs. About To Get Messi
DESCRIPTION:Coed 3 - Lincoln NE Adult League
LOCATION:North
CATEGORIES:QuickScores; Soccer - Adult Game
TRANSP:0
DALARM:20260412T085000;PT10M;2;Dont Worry vs. About To Get Messi
END:VEVENT
BEGIN:VEVENT
DTSTART:20260412T105000
DTEND:20260412T114000
SUMMARY:Stone Cold Elms FC vs. Unstopaballs
DESCRIPTION:Coed 3 - Lincoln NE Adult League
LOCATION:South
CATEGORIES:QuickScores; Soccer - Adult Game
TRANSP:0
DALARM:20260412T085000;PT10M;2;Stone Cold Elms FC vs. Unstopaballs
END:VEVENT
BEGIN:VEVENT
DTSTART:20260412T114000
DTEND:20260412T123000
SUMMARY:Minions FC vs. Dabbing Bears
DESCRIPTION:Coed 3 - Lincoln NE Adult League
LOCATION:North
CATEGORIES:QuickScores; Soccer - Adult Game
TRANSP:0
DALARM:20260412T094000;PT10M;2;Minions FC vs. Dabbing Bears
END:VEVENT
BEGIN:VEVENT
DTSTART:20260412T114000
DTEND:20260412T123000
SUMMARY:The Blues vs. Carly's Angels
DESCRIPTION:Coed 3 - Lincoln NE Adult League
LOCATION:South
CATEGORIES:QuickScores; Soccer - Adult Game
TRANSP:0
DALARM:20260412T094000;PT10M;2;The Blues vs. Carly's Angels
END:VEVENT
BEGIN:VEVENT
DTSTART:20260419T105000
DTEND:20260419T114000
SUMMARY:Dabbing Bears vs. Unstopaballs
DESCRIPTION:Coed 3 - Lincoln NE Adult League
LOCATION:South
CATEGORIES:QuickScores; Soccer - Adult Game
TRANSP:0
DALARM:20260419T085000;PT10M;2;Dabbing Bears vs. Unstopaballs
END:VEVENT
BEGIN:VEVENT
DTSTART:20260419T105000
DTEND:20260419T114000
SUMMARY:The Blues vs. Dont Worry
DESCRIPTION:Coed 3 - Lincoln NE Adult League
LOCATION:North
CATEGORIES:QuickScores; Soccer - Adult Game
TRANSP:0
DALARM:20260419T085000;PT10M;2;The Blues vs. Dont Worry
END:VEVENT
BEGIN:VEVENT
DTSTART:20260419T114000
DTEND:20260419T123000
SUMMARY:Carly's Angels vs. About To Get Messi
DESCRIPTION:Coed 3 - Lincoln NE Adult League
LOCATION:South
CATEGORIES:QuickScores; Soccer - Adult Game
TRANSP:0
DALARM:20260419T094000;PT10M;2;Carly's Angels vs. About To Get Messi
END:VEVENT
BEGIN:VEVENT
DTSTART:20260419T114000
DTEND:20260419T123000
SUMMARY:Stone Cold Elms FC vs. Minions FC
DESCRIPTION:Coed 3 - Lincoln NE Adult League
LOCATION:North
CATEGORIES:QuickScores; Soccer - Adult Game
TRANSP:0
DALARM:20260419T094000;PT10M;2;Stone Cold Elms FC vs. Minions FC
END:VEVENT
BEGIN:VEVENT
DTSTART:20260426T105000
DTEND:20260426T114000
SUMMARY:Minions FC vs. Unstopaballs
DESCRIPTION:Coed 3 - Lincoln NE Adult League
LOCATION:South
CATEGORIES:QuickScores; Soccer - Adult Game
TRANSP:0
DALARM:20260426T085000;PT10M;2;Minions FC vs. Unstopaballs
END:VEVENT
BEGIN:VEVENT
DTSTART:20260426T105000
DTEND:20260426T114000
SUMMARY:Carly's Angels vs. Dont Worry
DESCRIPTION:Coed 3 - Lincoln NE Adult League
LOCATION:North
CATEGORIES:QuickScores; Soccer - Adult Game
TRANSP:0
DALARM:20260426T085000;PT10M;2;Carly's Angels vs. Dont Worry
END:VEVENT
BEGIN:VEVENT
DTSTART:20260426T114000
DTEND:20260426T123000
SUMMARY:About To Get Messi vs. The Blues
DESCRIPTION:Coed 3 - Lincoln NE Adult League
LOCATION:South
CATEGORIES:QuickScores; Soccer - Adult Game
TRANSP:0
DALARM:20260426T094000;PT10M;2;About To Get Messi vs. The Blues
END:VEVENT
BEGIN:VEVENT
DTSTART:20260426T114000
DTEND:20260426T123000
SUMMARY:Dabbing Bears vs. Stone Cold Elms FC
DESCRIPTION:Coed 3 - Lincoln NE Adult League
LOCATION:North
CATEGORIES:QuickScores; Soccer - Adult Game
TRANSP:0
DALARM:20260426T094000;PT10M;2;Dabbing Bears vs. Stone Cold Elms FC
END:VEVENT
BEGIN:VEVENT
DTSTART:20260503T105000
DTEND:20260503T114000
SUMMARY:Stone Cold Elms FC vs. Carly's Angels
DESCRIPTION:Coed 3 - Lincoln NE Adult League
LOCATION:South
CATEGORIES:QuickScores; Soccer - Adult Game
TRANSP:0
DALARM:20260503T085000;PT10M;2;Stone Cold Elms FC vs. Carly's Angels
END:VEVENT
BEGIN:VEVENT
DTSTART:20260503T105000
DTEND:20260503T114000
SUMMARY:The Blues vs. Minions FC
DESCRIPTION:Coed 3 - Lincoln NE Adult League
LOCATION:North
CATEGORIES:QuickScores; Soccer - Adult Game
TRANSP:0
DALARM:20260503T085000;PT10M;2;The Blues vs. Minions FC
END:VEVENT
BEGIN:VEVENT
DTSTART:20260503T114000
DTEND:20260503T123000
SUMMARY:Dabbing Bears vs. Dont Worry
DESCRIPTION:Coed 3 - Lincoln NE Adult League
LOCATION:South
CATEGORIES:QuickScores; Soccer - Adult Game
TRANSP:0
DALARM:20260503T094000;PT10M;2;Dabbing Bears vs. Dont Worry
END:VEVENT
BEGIN:VEVENT
DTSTART:20260503T114000
DTEND:20260503T123000
SUMMARY:Unstopaballs vs. About To Get Messi
DESCRIPTION:Coed 3 - Lincoln NE Adult League
LOCATION:North
CATEGORIES:QuickScores; Soccer - Adult Game
TRANSP:0
DALARM:20260503T094000;PT10M;2;Unstopaballs vs. About To Get Messi
END:VEVENT
END:VCALENDAR
