BEGIN:VCALENDAR
VERSION:1.0
BEGIN:VEVENT
DTSTART:20260404T090000
DTEND:20260404T103000
SUMMARY:Sue Cleveland Varsity vs. West Mesa Varsity
DESCRIPTION:14U - Varsity Division - New Mexico Young America Football League
LOCATION:Mesa Del Sol Field 2
CATEGORIES:QuickScores; Football Game
TRANSP:0
DALARM:20260404T070000;PT10M;2;Sue Cleveland Varsity vs. West Mesa Varsity
END:VEVENT
BEGIN:VEVENT
DTSTART:20260404T090000
DTEND:20260404T103000
SUMMARY:Sandia Varsity vs. Los Lunas Varsity
DESCRIPTION:14U - Varsity Division - New Mexico Young America Football League
LOCATION:Mesa Del Sol Field 3
CATEGORIES:QuickScores; Football Game
TRANSP:0
DALARM:20260404T070000;PT10M;2;Sandia Varsity vs. Los Lunas Varsity
END:VEVENT
BEGIN:VEVENT
DTSTART:20260404T103000
DTEND:20260404T120000
SUMMARY:Rio Rancho Varsity vs. Volcano Vista Varsity
DESCRIPTION:14U - Varsity Division - New Mexico Young America Football League
LOCATION:Rio Rancho Sportsplex Field 1
CATEGORIES:QuickScores; Football Game
TRANSP:0
DALARM:20260404T083000;PT10M;2;Rio Rancho Varsity vs. Volcano Vista Varsity
END:VEVENT
BEGIN:VEVENT
DTSTART:20260404T120000
DTEND:20260404T133000
SUMMARY:Albuquerque High Varsity vs. La Cueva Varsity
DESCRIPTION:14U - Varsity Division - New Mexico Young America Football League
LOCATION:Mesa Del Sol Field 3
CATEGORIES:QuickScores; Football Game
TRANSP:0
DALARM:20260404T100000;PT10M;2;Albuquerque High Varsity vs. La Cueva Varsity
END:VEVENT
BEGIN:VEVENT
DTSTART:20260404T120000
DTEND:20260404T133000
SUMMARY:Cibola Varsity vs. Manzano Varsity
DESCRIPTION:14U - Varsity Division - New Mexico Young America Football League
LOCATION:Mesa Del Sol Field 2
CATEGORIES:QuickScores; Football Game
TRANSP:0
DALARM:20260404T100000;PT10M;2;Cibola Varsity vs. Manzano Varsity
END:VEVENT
BEGIN:VEVENT
DTSTART:20260411T090000
DTEND:20260411T103000
SUMMARY:La Cueva Varsity vs. Los Lunas Varsity
DESCRIPTION:14U - Varsity Division - New Mexico Young America Football League
LOCATION:Mesa Del Sol Field 3
CATEGORIES:QuickScores; Football Game
TRANSP:0
DALARM:20260411T070000;PT10M;2;La Cueva Varsity vs. Los Lunas Varsity
END:VEVENT
BEGIN:VEVENT
DTSTART:20260411T103000
DTEND:20260411T120000
SUMMARY:Sue Cleveland Varsity vs. Albuquerque High Varsity
DESCRIPTION:14U - Varsity Division - New Mexico Young America Football League
LOCATION:Rio Rancho Sportsplex Field 1
CATEGORIES:QuickScores; Football Game
TRANSP:0
DALARM:20260411T083000;PT10M;2;Sue Cleveland Varsity vs. Albuquerque High Varsity
END:VEVENT
BEGIN:VEVENT
DTSTART:20260411T103000
DTEND:20260411T120000
SUMMARY:Volcano Vista Varsity vs. Manzano Varsity
DESCRIPTION:14U - Varsity Division - New Mexico Young America Football League
LOCATION:Mesa Del Sol Field 3
CATEGORIES:QuickScores; Football Game
TRANSP:0
DALARM:20260411T083000;PT10M;2;Volcano Vista Varsity vs. Manzano Varsity
END:VEVENT
BEGIN:VEVENT
DTSTART:20260411T120000
DTEND:20260411T133000
SUMMARY:West Mesa Varsity vs. Cibola Varsity
DESCRIPTION:14U - Varsity Division - New Mexico Young America Football League
LOCATION:Mesa Del Sol Field 3
CATEGORIES:QuickScores; Football Game
TRANSP:0
DALARM:20260411T100000;PT10M;2;West Mesa Varsity vs. Cibola Varsity
END:VEVENT
BEGIN:VEVENT
DTSTART:20260411T120000
DTEND:20260411T133000
SUMMARY:Rio Rancho Varsity vs. Sandia Varsity
DESCRIPTION:14U - Varsity Division - New Mexico Young America Football League
LOCATION:Mesa Del Sol Field 4
CATEGORIES:QuickScores; Football Game
TRANSP:0
DALARM:20260411T100000;PT10M;2;Rio Rancho Varsity vs. Sandia Varsity
END:VEVENT
BEGIN:VEVENT
DTSTART:20260418T090000
DTEND:20260418T103000
SUMMARY:Los Lunas Varsity vs. Albuquerque High Varsity
DESCRIPTION:14U - Varsity Division - New Mexico Young America Football League
LOCATION:Mesa Del Sol Field 3
CATEGORIES:QuickScores; Football Game
TRANSP:0
DALARM:20260418T070000;PT10M;2;Los Lunas Varsity vs. Albuquerque High Varsity
END:VEVENT
BEGIN:VEVENT
DTSTART:20260418T103000
DTEND:20260418T120000
SUMMARY:La Cueva Varsity vs. Cibola Varsity
DESCRIPTION:14U - Varsity Division - New Mexico Young America Football League
LOCATION:Mesa Del Sol Field 3
CATEGORIES:QuickScores; Football Game
TRANSP:0
DALARM:20260418T083000;PT10M;2;La Cueva Varsity vs. Cibola Varsity
END:VEVENT
BEGIN:VEVENT
DTSTART:20260418T103000
DTEND:20260418T120000
SUMMARY:Rio Rancho Varsity vs. Sue Cleveland Varsity
DESCRIPTION:14U - Varsity Division - New Mexico Young America Football League
LOCATION:Rio Rancho Sportsplex Field 1
CATEGORIES:QuickScores; Football Game
TRANSP:0
DALARM:20260418T083000;PT10M;2;Rio Rancho Varsity vs. Sue Cleveland Varsity
END:VEVENT
BEGIN:VEVENT
DTSTART:20260418T120000
DTEND:20260418T133000
SUMMARY:Sandia Varsity vs. Manzano Varsity
DESCRIPTION:14U - Varsity Division - New Mexico Young America Football League
LOCATION:Mesa Del Sol Field 1
CATEGORIES:QuickScores; Football Game
TRANSP:0
DALARM:20260418T100000;PT10M;2;Sandia Varsity vs. Manzano Varsity
END:VEVENT
BEGIN:VEVENT
DTSTART:20260418T120000
DTEND:20260418T133000
SUMMARY:Volcano Vista Varsity vs. West Mesa Varsity
DESCRIPTION:14U - Varsity Division - New Mexico Young America Football League
LOCATION:Mesa Del Sol Field 3
CATEGORIES:QuickScores; Football Game
TRANSP:0
DALARM:20260418T100000;PT10M;2;Volcano Vista Varsity vs. West Mesa Varsity
END:VEVENT
BEGIN:VEVENT
DTSTART:20260425T090000
DTEND:20260425T103000
SUMMARY:Albuquerque High Varsity vs. Cibola Varsity
DESCRIPTION:14U - Varsity Division - New Mexico Young America Football League
LOCATION:Mesa Del Sol Field 3
CATEGORIES:QuickScores; Football Game
TRANSP:0
DALARM:20260425T070000;PT10M;2;Albuquerque High Varsity vs. Cibola Varsity
END:VEVENT
BEGIN:VEVENT
DTSTART:20260425T103000
DTEND:20260425T120000
SUMMARY:Los Lunas Varsity vs. Sue Cleveland Varsity
DESCRIPTION:14U - Varsity Division - New Mexico Young America Football League
LOCATION:Mesa Del Sol Field 1
CATEGORIES:QuickScores; Football Game
TRANSP:0
DALARM:20260425T083000;PT10M;2;Los Lunas Varsity vs. Sue Cleveland Varsity
END:VEVENT
BEGIN:VEVENT
DTSTART:20260425T103000
DTEND:20260425T120000
SUMMARY:West Mesa Varsity vs. Sandia Varsity
DESCRIPTION:14U - Varsity Division - New Mexico Young America Football League
LOCATION:Mesa Del Sol Field 3
CATEGORIES:QuickScores; Football Game
TRANSP:0
DALARM:20260425T083000;PT10M;2;West Mesa Varsity vs. Sandia Varsity
END:VEVENT
BEGIN:VEVENT
DTSTART:20260425T120000
DTEND:20260425T133000
SUMMARY:Manzano Varsity vs. Rio Rancho Varsity
DESCRIPTION:14U - Varsity Division - New Mexico Young America Football League
LOCATION:Rio Rancho Sportsplex Field 1
CATEGORIES:QuickScores; Football Game
TRANSP:0
DALARM:20260425T100000;PT10M;2;Manzano Varsity vs. Rio Rancho Varsity
END:VEVENT
BEGIN:VEVENT
DTSTART:20260425T120000
DTEND:20260425T133000
SUMMARY:Volcano Vista Varsity vs. La Cueva Varsity
DESCRIPTION:14U - Varsity Division - New Mexico Young America Football League
LOCATION:Mesa Del Sol Field 1
CATEGORIES:QuickScores; Football Game
TRANSP:0
DALARM:20260425T100000;PT10M;2;Volcano Vista Varsity vs. La Cueva Varsity
END:VEVENT
BEGIN:VEVENT
DTSTART:20260502T090000
DTEND:20260502T103000
SUMMARY:Albuquerque High Varsity vs. Sandia Varsity
DESCRIPTION:14U - Varsity Division - New Mexico Young America Football League
LOCATION:Mesa Del Sol Field 3
CATEGORIES:QuickScores; Football Game
TRANSP:0
DALARM:20260502T070000;PT10M;2;Albuquerque High Varsity vs. Sandia Varsity
END:VEVENT
BEGIN:VEVENT
DTSTART:20260502T103000
DTEND:20260502T120000
SUMMARY:Sue Cleveland Varsity vs. Volcano Vista Varsity
DESCRIPTION:14U - Varsity Division - New Mexico Young America Football League
LOCATION:Rio Rancho Sportsplex Field 1
CATEGORIES:QuickScores; Football Game
TRANSP:0
DALARM:20260502T083000;PT10M;2;Sue Cleveland Varsity vs. Volcano Vista Varsity
END:VEVENT
BEGIN:VEVENT
DTSTART:20260502T103000
DTEND:20260502T120000
SUMMARY:Manzano Varsity vs. La Cueva Varsity
DESCRIPTION:14U - Varsity Division - New Mexico Young America Football League
LOCATION:Mesa Del Sol Field 3
CATEGORIES:QuickScores; Football Game
TRANSP:0
DALARM:20260502T083000;PT10M;2;Manzano Varsity vs. La Cueva Varsity
END:VEVENT
BEGIN:VEVENT
DTSTART:20260502T120000
DTEND:20260502T133000
SUMMARY:Cibola Varsity vs. Rio Rancho Varsity
DESCRIPTION:14U - Varsity Division - New Mexico Young America Football League
LOCATION:Rio Rancho Sportsplex Field 1
CATEGORIES:QuickScores; Football Game
TRANSP:0
DALARM:20260502T100000;PT10M;2;Cibola Varsity vs. Rio Rancho Varsity
END:VEVENT
BEGIN:VEVENT
DTSTART:20260502T120000
DTEND:20260502T133000
SUMMARY:Los Lunas Varsity vs. West Mesa Varsity
DESCRIPTION:14U - Varsity Division - New Mexico Young America Football League
LOCATION:Mesa Del Sol Field 3
CATEGORIES:QuickScores; Football Game
TRANSP:0
DALARM:20260502T100000;PT10M;2;Los Lunas Varsity vs. West Mesa Varsity
END:VEVENT
BEGIN:VEVENT
DTSTART:20260509T090000
DTEND:20260509T103000
SUMMARY:Cibola Varsity vs. Volcano Vista Varsity
DESCRIPTION:14U - Varsity Division - New Mexico Young America Football League
LOCATION:Mesa Del Sol Field 3
CATEGORIES:QuickScores; Football Game
TRANSP:0
DALARM:20260509T070000;PT10M;2;Cibola Varsity vs. Volcano Vista Varsity
END:VEVENT
BEGIN:VEVENT
DTSTART:20260509T103000
DTEND:20260509T120000
SUMMARY:Sandia Varsity vs. Sue Cleveland Varsity
DESCRIPTION:14U - Varsity Division - New Mexico Young America Football League
LOCATION:Rio Rancho Sportsplex Field 1
CATEGORIES:QuickScores; Football Game
TRANSP:0
DALARM:20260509T083000;PT10M;2;Sandia Varsity vs. Sue Cleveland Varsity
END:VEVENT
BEGIN:VEVENT
DTSTART:20260509T103000
DTEND:20260509T120000
SUMMARY:West Mesa Varsity vs. Albuquerque High Varsity
DESCRIPTION:14U - Varsity Division - New Mexico Young America Football League
LOCATION:Mesa Del Sol Field 3
CATEGORIES:QuickScores; Football Game
TRANSP:0
DALARM:20260509T083000;PT10M;2;West Mesa Varsity vs. Albuquerque High Varsity
END:VEVENT
BEGIN:VEVENT
DTSTART:20260509T120000
DTEND:20260509T133000
SUMMARY:La Cueva Varsity vs. Rio Rancho Varsity
DESCRIPTION:14U - Varsity Division - New Mexico Young America Football League
LOCATION:Rio Rancho Sportsplex Field 1
CATEGORIES:QuickScores; Football Game
TRANSP:0
DALARM:20260509T100000;PT10M;2;La Cueva Varsity vs. Rio Rancho Varsity
END:VEVENT
BEGIN:VEVENT
DTSTART:20260509T120000
DTEND:20260509T133000
SUMMARY:Manzano Varsity vs. Los Lunas Varsity
DESCRIPTION:14U - Varsity Division - New Mexico Young America Football League
LOCATION:Mesa Del Sol Field 3
CATEGORIES:QuickScores; Football Game
TRANSP:0
DALARM:20260509T100000;PT10M;2;Manzano Varsity vs. Los Lunas Varsity
END:VEVENT
END:VCALENDAR
