BEGIN:VCALENDAR
VERSION:1.0
BEGIN:VEVENT
DTSTART:20260331T163000
DTEND:20260331T173000
SUMMARY:Practice: Aquamen vs. Kung Fu Pandas
DESCRIPTION:2nd Grade Boys West - 
LOCATION:Sunset View Park Field #3
CATEGORIES:QuickScores; Soccer - Youth Game
TRANSP:0
DALARM:20260331T143000;PT10M;2;Practice: Aquamen vs. Kung Fu Pandas
END:VEVENT
BEGIN:VEVENT
DTSTART:20260331T173000
DTEND:20260331T183000
SUMMARY:Practice: Cyborgs vs. Dragon Riders
DESCRIPTION:2nd Grade Boys West - 
LOCATION:Sunset View Park Field #3
CATEGORIES:QuickScores; Soccer - Youth Game
TRANSP:0
DALARM:20260331T153000;PT10M;2;Practice: Cyborgs vs. Dragon Riders
END:VEVENT
BEGIN:VEVENT
DTSTART:20260402T163000
DTEND:20260402T173000
SUMMARY:Practice: Green Ogres
DESCRIPTION:2nd Grade Boys West - 
LOCATION:Sunset View Park Field #3
CATEGORIES:QuickScores; Soccer - Youth Game
TRANSP:0
DALARM:20260402T143000;PT10M;2;Practice: Green Ogres
END:VEVENT
BEGIN:VEVENT
DTSTART:20260402T173000
DTEND:20260402T183000
SUMMARY:Practice: Justice League vs. Batmen
DESCRIPTION:2nd Grade Boys West - 
LOCATION:Sunset View Park Field #3
CATEGORIES:QuickScores; Soccer - Youth Game
TRANSP:0
DALARM:20260402T153000;PT10M;2;Practice: Justice League vs. Batmen
END:VEVENT
BEGIN:VEVENT
DTSTART:20260402T183000
DTEND:20260402T193000
SUMMARY:Practice: Green Lanterns
DESCRIPTION:2nd Grade Boys West - 
LOCATION:Sunset View Park Field #3
CATEGORIES:QuickScores; Soccer - Youth Game
TRANSP:0
DALARM:20260402T163000;PT10M;2;Practice: Green Lanterns
END:VEVENT
BEGIN:VEVENT
DTSTART:20260411T093000
DTEND:20260411T103000
SUMMARY:Green Lanterns vs. Kung Fu Pandas
DESCRIPTION:2nd Grade Boys West - 
LOCATION:Sunset View Park Field #3
CATEGORIES:QuickScores; Soccer - Youth Game
TRANSP:0
DALARM:20260411T073000;PT10M;2;Green Lanterns vs. Kung Fu Pandas
END:VEVENT
BEGIN:VEVENT
DTSTART:20260411T103000
DTEND:20260411T113000
SUMMARY:Justice League vs. Batmen
DESCRIPTION:2nd Grade Boys West - 
LOCATION:Sunset View Park Field #3
CATEGORIES:QuickScores; Soccer - Youth Game
TRANSP:0
DALARM:20260411T083000;PT10M;2;Justice League vs. Batmen
END:VEVENT
BEGIN:VEVENT
DTSTART:20260411T113000
DTEND:20260411T123000
SUMMARY:Cyborgs vs. Green Ogres
DESCRIPTION:2nd Grade Boys West - 
LOCATION:Sunset View Park Field #3
CATEGORIES:QuickScores; Soccer - Youth Game
TRANSP:0
DALARM:20260411T093000;PT10M;2;Cyborgs vs. Green Ogres
END:VEVENT
BEGIN:VEVENT
DTSTART:20260411T123000
DTEND:20260411T133000
SUMMARY:Aquamen vs. Dragon Riders
DESCRIPTION:2nd Grade Boys West - 
LOCATION:Sunset View Park Field #3
CATEGORIES:QuickScores; Soccer - Youth Game
TRANSP:0
DALARM:20260411T103000;PT10M;2;Aquamen vs. Dragon Riders
END:VEVENT
BEGIN:VEVENT
DTSTART:20260414T163000
DTEND:20260414T173000
SUMMARY:Practice: Aquamen vs. Kung Fu Pandas
DESCRIPTION:2nd Grade Boys West - 
LOCATION:Sunset View Park Field #3
CATEGORIES:QuickScores; Soccer - Youth Game
TRANSP:0
DALARM:20260414T143000;PT10M;2;Practice: Aquamen vs. Kung Fu Pandas
END:VEVENT
BEGIN:VEVENT
DTSTART:20260414T173000
DTEND:20260414T183000
SUMMARY:Practice: Cyborgs vs. Dragon Riders
DESCRIPTION:2nd Grade Boys West - 
LOCATION:Sunset View Park Field #3
CATEGORIES:QuickScores; Soccer - Youth Game
TRANSP:0
DALARM:20260414T153000;PT10M;2;Practice: Cyborgs vs. Dragon Riders
END:VEVENT
BEGIN:VEVENT
DTSTART:20260416T163000
DTEND:20260416T173000
SUMMARY:Practice: Justice League vs. Batmen
DESCRIPTION:2nd Grade Boys West - 
LOCATION:Sunset View Park Field #3
CATEGORIES:QuickScores; Soccer - Youth Game
TRANSP:0
DALARM:20260416T143000;PT10M;2;Practice: Justice League vs. Batmen
END:VEVENT
BEGIN:VEVENT
DTSTART:20260416T173000
DTEND:20260416T183000
SUMMARY:Practice: Green Ogres
DESCRIPTION:2nd Grade Boys West - 
LOCATION:Sunset View Park Field #3
CATEGORIES:QuickScores; Soccer - Youth Game
TRANSP:0
DALARM:20260416T153000;PT10M;2;Practice: Green Ogres
END:VEVENT
BEGIN:VEVENT
DTSTART:20260416T183000
DTEND:20260416T193000
SUMMARY:Practice: Green Lanterns
DESCRIPTION:2nd Grade Boys West - 
LOCATION:Sunset View Park Field #3
CATEGORIES:QuickScores; Soccer - Youth Game
TRANSP:0
DALARM:20260416T163000;PT10M;2;Practice: Green Lanterns
END:VEVENT
BEGIN:VEVENT
DTSTART:20260418T093000
DTEND:20260418T103000
SUMMARY:Batmen vs. Green Ogres
DESCRIPTION:2nd Grade Boys West - 
LOCATION:Sunset View Park Field #3
CATEGORIES:QuickScores; Soccer - Youth Game
TRANSP:0
DALARM:20260418T073000;PT10M;2;Batmen vs. Green Ogres
END:VEVENT
BEGIN:VEVENT
DTSTART:20260418T103000
DTEND:20260418T113000
SUMMARY:Justice League vs. Green Lanterns
DESCRIPTION:2nd Grade Boys West - 
LOCATION:Sunset View Park Field #3
CATEGORIES:QuickScores; Soccer - Youth Game
TRANSP:0
DALARM:20260418T083000;PT10M;2;Justice League vs. Green Lanterns
END:VEVENT
BEGIN:VEVENT
DTSTART:20260418T113000
DTEND:20260418T123000
SUMMARY:Dragon Riders vs. Kung Fu Pandas
DESCRIPTION:2nd Grade Boys West - 
LOCATION:Sunset View Park Field #3
CATEGORIES:QuickScores; Soccer - Youth Game
TRANSP:0
DALARM:20260418T093000;PT10M;2;Dragon Riders vs. Kung Fu Pandas
END:VEVENT
BEGIN:VEVENT
DTSTART:20260418T123000
DTEND:20260418T133000
SUMMARY:Cyborgs vs. Aquamen
DESCRIPTION:2nd Grade Boys West - 
LOCATION:Sunset View Park Field #3
CATEGORIES:QuickScores; Soccer - Youth Game
TRANSP:0
DALARM:20260418T103000;PT10M;2;Cyborgs vs. Aquamen
END:VEVENT
BEGIN:VEVENT
DTSTART:20260421T163000
DTEND:20260421T173000
SUMMARY:Cyborgs vs. Kung Fu Pandas
DESCRIPTION:Weeknight Games, No Practice --- 2nd Grade Boys West - 
LOCATION:Sunset View Park Field #3
CATEGORIES:QuickScores; Soccer - Youth Game
TRANSP:0
DALARM:20260421T143000;PT10M;2;Cyborgs vs. Kung Fu Pandas
END:VEVENT
BEGIN:VEVENT
DTSTART:20260421T173000
DTEND:20260421T183000
SUMMARY:Aquamen vs. Batmen
DESCRIPTION:Weeknight Games, No Practice --- 2nd Grade Boys West - 
LOCATION:Sunset View Park Field #3
CATEGORIES:QuickScores; Soccer - Youth Game
TRANSP:0
DALARM:20260421T153000;PT10M;2;Aquamen vs. Batmen
END:VEVENT
BEGIN:VEVENT
DTSTART:20260423T163000
DTEND:20260423T173000
SUMMARY:Green Lanterns vs. Dragon Riders
DESCRIPTION:Weeknight Games, No Practice --- 2nd Grade Boys West - 
LOCATION:Sunset View Park Field #3
CATEGORIES:QuickScores; Soccer - Youth Game
TRANSP:0
DALARM:20260423T143000;PT10M;2;Green Lanterns vs. Dragon Riders
END:VEVENT
BEGIN:VEVENT
DTSTART:20260423T173000
DTEND:20260423T183000
SUMMARY:Justice League vs. Green Ogres
DESCRIPTION:Weeknight Games, No Practice --- 2nd Grade Boys West - 
LOCATION:Sunset View Park Field #3
CATEGORIES:QuickScores; Soccer - Youth Game
TRANSP:0
DALARM:20260423T153000;PT10M;2;Justice League vs. Green Ogres
END:VEVENT
BEGIN:VEVENT
DTSTART:20260425T093000
DTEND:20260425T103000
SUMMARY:Green Lanterns vs. Aquamen
DESCRIPTION:2nd Grade Boys West - 
LOCATION:Sunset View Park Field #3
CATEGORIES:QuickScores; Soccer - Youth Game
TRANSP:0
DALARM:20260425T073000;PT10M;2;Green Lanterns vs. Aquamen
END:VEVENT
BEGIN:VEVENT
DTSTART:20260425T103000
DTEND:20260425T113000
SUMMARY:Batmen vs. Cyborgs
DESCRIPTION:2nd Grade Boys West - 
LOCATION:Sunset View Park Field #3
CATEGORIES:QuickScores; Soccer - Youth Game
TRANSP:0
DALARM:20260425T083000;PT10M;2;Batmen vs. Cyborgs
END:VEVENT
BEGIN:VEVENT
DTSTART:20260425T113000
DTEND:20260425T123000
SUMMARY:Kung Fu Pandas vs. Justice League
DESCRIPTION:2nd Grade Boys West - 
LOCATION:Sunset View Park Field #3
CATEGORIES:QuickScores; Soccer - Youth Game
TRANSP:0
DALARM:20260425T093000;PT10M;2;Kung Fu Pandas vs. Justice League
END:VEVENT
BEGIN:VEVENT
DTSTART:20260425T123000
DTEND:20260425T133000
SUMMARY:Dragon Riders vs. Green Ogres
DESCRIPTION:2nd Grade Boys West - 
LOCATION:Sunset View Park Field #3
CATEGORIES:QuickScores; Soccer - Youth Game
TRANSP:0
DALARM:20260425T103000;PT10M;2;Dragon Riders vs. Green Ogres
END:VEVENT
BEGIN:VEVENT
DTSTART:20260428T163000
DTEND:20260428T173000
SUMMARY:Practice: Aquamen vs. Kung Fu Pandas
DESCRIPTION:2nd Grade Boys West - 
LOCATION:Sunset View Park Field #3
CATEGORIES:QuickScores; Soccer - Youth Game
TRANSP:0
DALARM:20260428T143000;PT10M;2;Practice: Aquamen vs. Kung Fu Pandas
END:VEVENT
BEGIN:VEVENT
DTSTART:20260428T173000
DTEND:20260428T183000
SUMMARY:Practice: Cyborgs vs. Dragon Riders
DESCRIPTION:2nd Grade Boys West - 
LOCATION:Sunset View Park Field #3
CATEGORIES:QuickScores; Soccer - Youth Game
TRANSP:0
DALARM:20260428T153000;PT10M;2;Practice: Cyborgs vs. Dragon Riders
END:VEVENT
BEGIN:VEVENT
DTSTART:20260430T163000
DTEND:20260430T173000
SUMMARY:Practice: Green Ogres
DESCRIPTION:2nd Grade Boys West - 
LOCATION:Sunset View Park Field #3
CATEGORIES:QuickScores; Soccer - Youth Game
TRANSP:0
DALARM:20260430T143000;PT10M;2;Practice: Green Ogres
END:VEVENT
BEGIN:VEVENT
DTSTART:20260430T173000
DTEND:20260430T183000
SUMMARY:Practice: Justice League vs. Batmen
DESCRIPTION:2nd Grade Boys West - 
LOCATION:Sunset View Park Field #3
CATEGORIES:QuickScores; Soccer - Youth Game
TRANSP:0
DALARM:20260430T153000;PT10M;2;Practice: Justice League vs. Batmen
END:VEVENT
BEGIN:VEVENT
DTSTART:20260430T183000
DTEND:20260430T193000
SUMMARY:Practice: Green Lanterns
DESCRIPTION:2nd Grade Boys West - 
LOCATION:Sunset View Park Field #3
CATEGORIES:QuickScores; Soccer - Youth Game
TRANSP:0
DALARM:20260430T163000;PT10M;2;Practice: Green Lanterns
END:VEVENT
BEGIN:VEVENT
DTSTART:20260502T093000
DTEND:20260502T103000
SUMMARY:Batmen vs. Dragon Riders
DESCRIPTION:2nd Grade Boys West - 
LOCATION:Sunset View Park Field #3
CATEGORIES:QuickScores; Soccer - Youth Game
TRANSP:0
DALARM:20260502T073000;PT10M;2;Batmen vs. Dragon Riders
END:VEVENT
BEGIN:VEVENT
DTSTART:20260502T103000
DTEND:20260502T113000
SUMMARY:Justice League vs. Cyborgs
DESCRIPTION:2nd Grade Boys West - 
LOCATION:Sunset View Park Field #3
CATEGORIES:QuickScores; Soccer - Youth Game
TRANSP:0
DALARM:20260502T083000;PT10M;2;Justice League vs. Cyborgs
END:VEVENT
BEGIN:VEVENT
DTSTART:20260502T113000
DTEND:20260502T123000
SUMMARY:Kung Fu Pandas vs. Aquamen
DESCRIPTION:2nd Grade Boys West - 
LOCATION:Sunset View Park Field #3
CATEGORIES:QuickScores; Soccer - Youth Game
TRANSP:0
DALARM:20260502T093000;PT10M;2;Kung Fu Pandas vs. Aquamen
END:VEVENT
BEGIN:VEVENT
DTSTART:20260502T123000
DTEND:20260502T133000
SUMMARY:Green Ogres vs. Green Lanterns
DESCRIPTION:2nd Grade Boys West - 
LOCATION:Sunset View Park Field #3
CATEGORIES:QuickScores; Soccer - Youth Game
TRANSP:0
DALARM:20260502T103000;PT10M;2;Green Ogres vs. Green Lanterns
END:VEVENT
BEGIN:VEVENT
DTSTART:20260505T163000
DTEND:20260505T173000
SUMMARY:Practice: Aquamen vs. Kung Fu Pandas
DESCRIPTION:2nd Grade Boys West - 
LOCATION:Sunset View Park Field #3
CATEGORIES:QuickScores; Soccer - Youth Game
TRANSP:0
DALARM:20260505T143000;PT10M;2;Practice: Aquamen vs. Kung Fu Pandas
END:VEVENT
BEGIN:VEVENT
DTSTART:20260505T173000
DTEND:20260505T183000
SUMMARY:Practice: Cyborgs vs. Dragon Riders
DESCRIPTION:2nd Grade Boys West - 
LOCATION:Sunset View Park Field #3
CATEGORIES:QuickScores; Soccer - Youth Game
TRANSP:0
DALARM:20260505T153000;PT10M;2;Practice: Cyborgs vs. Dragon Riders
END:VEVENT
BEGIN:VEVENT
DTSTART:20260507T163000
DTEND:20260507T173000
SUMMARY:Practice: Green Ogres
DESCRIPTION:2nd Grade Boys West - 
LOCATION:Sunset View Park Field #3
CATEGORIES:QuickScores; Soccer - Youth Game
TRANSP:0
DALARM:20260507T143000;PT10M;2;Practice: Green Ogres
END:VEVENT
BEGIN:VEVENT
DTSTART:20260507T173000
DTEND:20260507T183000
SUMMARY:Practice: Justice League vs. Batmen
DESCRIPTION:2nd Grade Boys West - 
LOCATION:Sunset View Park Field #3
CATEGORIES:QuickScores; Soccer - Youth Game
TRANSP:0
DALARM:20260507T153000;PT10M;2;Practice: Justice League vs. Batmen
END:VEVENT
BEGIN:VEVENT
DTSTART:20260507T183000
DTEND:20260507T193000
SUMMARY:Practice: Green Lanterns
DESCRIPTION:2nd Grade Boys West - 
LOCATION:Sunset View Park Field #3
CATEGORIES:QuickScores; Soccer - Youth Game
TRANSP:0
DALARM:20260507T163000;PT10M;2;Practice: Green Lanterns
END:VEVENT
BEGIN:VEVENT
DTSTART:20260509T093000
DTEND:20260509T103000
SUMMARY:Dragon Riders vs. Justice League
DESCRIPTION:2nd Grade Boys West - 
LOCATION:Sunset View Park Field #3
CATEGORIES:QuickScores; Soccer - Youth Game
TRANSP:0
DALARM:20260509T073000;PT10M;2;Dragon Riders vs. Justice League
END:VEVENT
BEGIN:VEVENT
DTSTART:20260509T103000
DTEND:20260509T113000
SUMMARY:Green Ogres vs. Aquamen
DESCRIPTION:2nd Grade Boys West - 
LOCATION:Sunset View Park Field #3
CATEGORIES:QuickScores; Soccer - Youth Game
TRANSP:0
DALARM:20260509T083000;PT10M;2;Green Ogres vs. Aquamen
END:VEVENT
BEGIN:VEVENT
DTSTART:20260509T113000
DTEND:20260509T123000
SUMMARY:Kung Fu Pandas vs. Batmen
DESCRIPTION:2nd Grade Boys West - 
LOCATION:Sunset View Park Field #3
CATEGORIES:QuickScores; Soccer - Youth Game
TRANSP:0
DALARM:20260509T093000;PT10M;2;Kung Fu Pandas vs. Batmen
END:VEVENT
BEGIN:VEVENT
DTSTART:20260509T123000
DTEND:20260509T133000
SUMMARY:Cyborgs vs. Green Lanterns
DESCRIPTION:2nd Grade Boys West - 
LOCATION:Sunset View Park Field #3
CATEGORIES:QuickScores; Soccer - Youth Game
TRANSP:0
DALARM:20260509T103000;PT10M;2;Cyborgs vs. Green Lanterns
END:VEVENT
BEGIN:VEVENT
DTSTART:20260512T163000
DTEND:20260512T173000
SUMMARY:Practice: Aquamen vs. Kung Fu Pandas
DESCRIPTION:2nd Grade Boys West - 
LOCATION:Sunset View Park Field #3
CATEGORIES:QuickScores; Soccer - Youth Game
TRANSP:0
DALARM:20260512T143000;PT10M;2;Practice: Aquamen vs. Kung Fu Pandas
END:VEVENT
BEGIN:VEVENT
DTSTART:20260512T173000
DTEND:20260512T183000
SUMMARY:Practice: Cyborgs vs. Dragon Riders
DESCRIPTION:2nd Grade Boys West - 
LOCATION:Sunset View Park Field #3
CATEGORIES:QuickScores; Soccer - Youth Game
TRANSP:0
DALARM:20260512T153000;PT10M;2;Practice: Cyborgs vs. Dragon Riders
END:VEVENT
BEGIN:VEVENT
DTSTART:20260514T163000
DTEND:20260514T173000
SUMMARY:Practice: Green Ogres
DESCRIPTION:2nd Grade Boys West - 
LOCATION:Sunset View Park Field #3
CATEGORIES:QuickScores; Soccer - Youth Game
TRANSP:0
DALARM:20260514T143000;PT10M;2;Practice: Green Ogres
END:VEVENT
BEGIN:VEVENT
DTSTART:20260514T173000
DTEND:20260514T183000
SUMMARY:Practice: Justice League vs. Batmen
DESCRIPTION:2nd Grade Boys West - 
LOCATION:Sunset View Park Field #3
CATEGORIES:QuickScores; Soccer - Youth Game
TRANSP:0
DALARM:20260514T153000;PT10M;2;Practice: Justice League vs. Batmen
END:VEVENT
BEGIN:VEVENT
DTSTART:20260514T183000
DTEND:20260514T193000
SUMMARY:Practice: Green Lanterns
DESCRIPTION:2nd Grade Boys West - 
LOCATION:Sunset View Park Field #3
CATEGORIES:QuickScores; Soccer - Youth Game
TRANSP:0
DALARM:20260514T163000;PT10M;2;Practice: Green Lanterns
END:VEVENT
BEGIN:VEVENT
DTSTART:20260516T093000
DTEND:20260516T103000
SUMMARY:Green Lanterns vs. Batmen
DESCRIPTION:2nd Grade Boys West - 
LOCATION:Sunset View Park Field #3
CATEGORIES:QuickScores; Soccer - Youth Game
TRANSP:0
DALARM:20260516T073000;PT10M;2;Green Lanterns vs. Batmen
END:VEVENT
BEGIN:VEVENT
DTSTART:20260516T103000
DTEND:20260516T113000
SUMMARY:Green Ogres vs. Kung Fu Pandas
DESCRIPTION:2nd Grade Boys West - 
LOCATION:Sunset View Park Field #3
CATEGORIES:QuickScores; Soccer - Youth Game
TRANSP:0
DALARM:20260516T083000;PT10M;2;Green Ogres vs. Kung Fu Pandas
END:VEVENT
BEGIN:VEVENT
DTSTART:20260516T113000
DTEND:20260516T123000
SUMMARY:Aquamen vs. Justice League
DESCRIPTION:2nd Grade Boys West - 
LOCATION:Sunset View Park Field #3
CATEGORIES:QuickScores; Soccer - Youth Game
TRANSP:0
DALARM:20260516T093000;PT10M;2;Aquamen vs. Justice League
END:VEVENT
BEGIN:VEVENT
DTSTART:20260516T123000
DTEND:20260516T133000
SUMMARY:Dragon Riders vs. Cyborgs
DESCRIPTION:2nd Grade Boys West - 
LOCATION:Sunset View Park Field #3
CATEGORIES:QuickScores; Soccer - Youth Game
TRANSP:0
DALARM:20260516T103000;PT10M;2;Dragon Riders vs. Cyborgs
END:VEVENT
END:VCALENDAR
