BEGIN:VCALENDAR
VERSION:1.0
BEGIN:VEVENT
DTSTART:20260331T163000
DTEND:20260331T173000
SUMMARY:Practice: Hawkeyes vs. Hulks
DESCRIPTION:Practice (Teams share the field) --- 2nd Grade Boys East - 
LOCATION:Sertoma Park Field #5
CATEGORIES:QuickScores; Soccer - Youth Game
TRANSP:0
DALARM:20260331T143000;PT10M;2;Practice: Hawkeyes vs. Hulks
END:VEVENT
BEGIN:VEVENT
DTSTART:20260331T173000
DTEND:20260331T183000
SUMMARY:Practice: Asgardians vs. Falcons
DESCRIPTION:Practice (Teams share the field) --- 2nd Grade Boys East - 
LOCATION:Sertoma Park Field #5
CATEGORIES:QuickScores; Soccer - Youth Game
TRANSP:0
DALARM:20260331T153000;PT10M;2;Practice: Asgardians vs. Falcons
END:VEVENT
BEGIN:VEVENT
DTSTART:20260331T183000
DTEND:20260331T193000
SUMMARY:Practice: Iron Men vs. Silver Surfers
DESCRIPTION:Practice (Teams share the field) --- 2nd Grade Boys East - 
LOCATION:Sertoma Park Field #5
CATEGORIES:QuickScores; Soccer - Youth Game
TRANSP:0
DALARM:20260331T163000;PT10M;2;Practice: Iron Men vs. Silver Surfers
END:VEVENT
BEGIN:VEVENT
DTSTART:20260402T163000
DTEND:20260402T173000
SUMMARY:Practice: Spiderman vs. Wolverines
DESCRIPTION:Practice (Teams share the field) --- 2nd Grade Boys East - 
LOCATION:Sertoma Park Field #5
CATEGORIES:QuickScores; Soccer - Youth Game
TRANSP:0
DALARM:20260402T143000;PT10M;2;Practice: Spiderman vs. Wolverines
END:VEVENT
BEGIN:VEVENT
DTSTART:20260402T173000
DTEND:20260402T183000
SUMMARY:Practice: Blue Jays vs. Rebels
DESCRIPTION:Practice (Teams share the field) --- 2nd Grade Boys East - 
LOCATION:Sertoma Park Field #5
CATEGORIES:QuickScores; Soccer - Youth Game
TRANSP:0
DALARM:20260402T153000;PT10M;2;Practice: Blue Jays vs. Rebels
END:VEVENT
BEGIN:VEVENT
DTSTART:20260402T183000
DTEND:20260402T193000
SUMMARY:Practice: Defenders vs. Captains
DESCRIPTION:Practice (Teams share the field) --- 2nd Grade Boys East - 
LOCATION:Sertoma Park Field #5
CATEGORIES:QuickScores; Soccer - Youth Game
TRANSP:0
DALARM:20260402T163000;PT10M;2;Practice: Defenders vs. Captains
END:VEVENT
BEGIN:VEVENT
DTSTART:20260411T093000
DTEND:20260411T103000
SUMMARY:Falcons vs. Rebels
DESCRIPTION:2nd Grade Boys East - 
LOCATION:Sertoma Park Field #5
CATEGORIES:QuickScores; Soccer - Youth Game
TRANSP:0
DALARM:20260411T073000;PT10M;2;Falcons vs. Rebels
END:VEVENT
BEGIN:VEVENT
DTSTART:20260411T103000
DTEND:20260411T113000
SUMMARY:Hulks vs. Wolverines
DESCRIPTION:2nd Grade Boys East - 
LOCATION:Sertoma Park Field #5
CATEGORIES:QuickScores; Soccer - Youth Game
TRANSP:0
DALARM:20260411T083000;PT10M;2;Hulks vs. Wolverines
END:VEVENT
BEGIN:VEVENT
DTSTART:20260411T113000
DTEND:20260411T123000
SUMMARY:Blue Jays vs. Spiderman
DESCRIPTION:2nd Grade Boys East - 
LOCATION:Sertoma Park Field #5
CATEGORIES:QuickScores; Soccer - Youth Game
TRANSP:0
DALARM:20260411T093000;PT10M;2;Blue Jays vs. Spiderman
END:VEVENT
BEGIN:VEVENT
DTSTART:20260411T123000
DTEND:20260411T133000
SUMMARY:Iron Men vs. Captains
DESCRIPTION:2nd Grade Boys East - 
LOCATION:Sertoma Park Field #5
CATEGORIES:QuickScores; Soccer - Youth Game
TRANSP:0
DALARM:20260411T103000;PT10M;2;Iron Men vs. Captains
END:VEVENT
BEGIN:VEVENT
DTSTART:20260411T130000
DTEND:20260411T140000
SUMMARY:Silver Surfers vs. Hawkeyes
DESCRIPTION:2nd Grade Boys East - 
LOCATION:Sertoma Park Field #2
CATEGORIES:QuickScores; Soccer - Youth Game
TRANSP:0
DALARM:20260411T110000;PT10M;2;Silver Surfers vs. Hawkeyes
END:VEVENT
BEGIN:VEVENT
DTSTART:20260411T133000
DTEND:20260411T143000
SUMMARY:Defenders vs. Asgardians
DESCRIPTION:2nd Grade Boys East - 
LOCATION:Sertoma Park Field #5
CATEGORIES:QuickScores; Soccer - Youth Game
TRANSP:0
DALARM:20260411T113000;PT10M;2;Defenders vs. Asgardians
END:VEVENT
BEGIN:VEVENT
DTSTART:20260414T163000
DTEND:20260414T173000
SUMMARY:Practice: Hawkeyes vs. Hulks
DESCRIPTION:Practice (Teams share the field) --- 2nd Grade Boys East - 
LOCATION:Sertoma Park Field #5
CATEGORIES:QuickScores; Soccer - Youth Game
TRANSP:0
DALARM:20260414T143000;PT10M;2;Practice: Hawkeyes vs. Hulks
END:VEVENT
BEGIN:VEVENT
DTSTART:20260414T173000
DTEND:20260414T183000
SUMMARY:Practice: Asgardians vs. Falcons
DESCRIPTION:Practice (Teams share the field) --- 2nd Grade Boys East - 
LOCATION:Sertoma Park Field #5
CATEGORIES:QuickScores; Soccer - Youth Game
TRANSP:0
DALARM:20260414T153000;PT10M;2;Practice: Asgardians vs. Falcons
END:VEVENT
BEGIN:VEVENT
DTSTART:20260414T183000
DTEND:20260414T193000
SUMMARY:Practice: Iron Men vs. Silver Surfers
DESCRIPTION:Practice (Teams share the field) --- 2nd Grade Boys East - 
LOCATION:Sertoma Park Field #5
CATEGORIES:QuickScores; Soccer - Youth Game
TRANSP:0
DALARM:20260414T163000;PT10M;2;Practice: Iron Men vs. Silver Surfers
END:VEVENT
BEGIN:VEVENT
DTSTART:20260416T163000
DTEND:20260416T173000
SUMMARY:Practice: Spiderman vs. Wolverines
DESCRIPTION:Practice (Teams share the field) --- 2nd Grade Boys East - 
LOCATION:Sertoma Park Field #5
CATEGORIES:QuickScores; Soccer - Youth Game
TRANSP:0
DALARM:20260416T143000;PT10M;2;Practice: Spiderman vs. Wolverines
END:VEVENT
BEGIN:VEVENT
DTSTART:20260416T173000
DTEND:20260416T183000
SUMMARY:Practice: Blue Jays vs. Rebels
DESCRIPTION:Practice (Teams share the field) --- 2nd Grade Boys East - 
LOCATION:Sertoma Park Field #5
CATEGORIES:QuickScores; Soccer - Youth Game
TRANSP:0
DALARM:20260416T153000;PT10M;2;Practice: Blue Jays vs. Rebels
END:VEVENT
BEGIN:VEVENT
DTSTART:20260416T183000
DTEND:20260416T193000
SUMMARY:Practice: Captains
DESCRIPTION:Practice (Teams share the field) --- 2nd Grade Boys East - 
LOCATION:Sertoma Park Field #5
CATEGORIES:QuickScores; Soccer - Youth Game
TRANSP:0
DALARM:20260416T163000;PT10M;2;Practice: Captains
END:VEVENT
BEGIN:VEVENT
DTSTART:20260418T093000
DTEND:20260418T103000
SUMMARY:Defenders vs. Iron Men
DESCRIPTION:2nd Grade Boys East - 
LOCATION:Sertoma Park Field #5
CATEGORIES:QuickScores; Soccer - Youth Game
TRANSP:0
DALARM:20260418T073000;PT10M;2;Defenders vs. Iron Men
END:VEVENT
BEGIN:VEVENT
DTSTART:20260418T103000
DTEND:20260418T113000
SUMMARY:Silver Surfers vs. Blue Jays
DESCRIPTION:2nd Grade Boys East - 
LOCATION:Sertoma Park Field #5
CATEGORIES:QuickScores; Soccer - Youth Game
TRANSP:0
DALARM:20260418T083000;PT10M;2;Silver Surfers vs. Blue Jays
END:VEVENT
BEGIN:VEVENT
DTSTART:20260418T113000
DTEND:20260418T123000
SUMMARY:Falcons vs. Captains
DESCRIPTION:2nd Grade Boys East - 
LOCATION:Sertoma Park Field #5
CATEGORIES:QuickScores; Soccer - Youth Game
TRANSP:0
DALARM:20260418T093000;PT10M;2;Falcons vs. Captains
END:VEVENT
BEGIN:VEVENT
DTSTART:20260418T123000
DTEND:20260418T133000
SUMMARY:Hulks vs. Spiderman
DESCRIPTION:2nd Grade Boys East - 
LOCATION:Sertoma Park Field #5
CATEGORIES:QuickScores; Soccer - Youth Game
TRANSP:0
DALARM:20260418T103000;PT10M;2;Hulks vs. Spiderman
END:VEVENT
BEGIN:VEVENT
DTSTART:20260418T130000
DTEND:20260418T140000
SUMMARY:Asgardians vs. Wolverines
DESCRIPTION:2nd Grade Boys East - 
LOCATION:Sertoma Park Field #2
CATEGORIES:QuickScores; Soccer - Youth Game
TRANSP:0
DALARM:20260418T110000;PT10M;2;Asgardians vs. Wolverines
END:VEVENT
BEGIN:VEVENT
DTSTART:20260418T133000
DTEND:20260418T143000
SUMMARY:Rebels vs. Hawkeyes
DESCRIPTION:2nd Grade Boys East - 
LOCATION:Sertoma Park Field #5
CATEGORIES:QuickScores; Soccer - Youth Game
TRANSP:0
DALARM:20260418T113000;PT10M;2;Rebels vs. Hawkeyes
END:VEVENT
BEGIN:VEVENT
DTSTART:20260421T163000
DTEND:20260421T173000
SUMMARY:Silver Surfers vs. Hulks
DESCRIPTION:Weeknight Games, No Practice --- 2nd Grade Boys East - 
LOCATION:Sertoma Park Field #5
CATEGORIES:QuickScores; Soccer - Youth Game
TRANSP:0
DALARM:20260421T143000;PT10M;2;Silver Surfers vs. Hulks
END:VEVENT
BEGIN:VEVENT
DTSTART:20260421T173000
DTEND:20260421T183000
SUMMARY:Hawkeyes vs. Captains
DESCRIPTION:Weeknight Games, No Practice --- 2nd Grade Boys East - 
LOCATION:Sertoma Park Field #5
CATEGORIES:QuickScores; Soccer - Youth Game
TRANSP:0
DALARM:20260421T153000;PT10M;2;Hawkeyes vs. Captains
END:VEVENT
BEGIN:VEVENT
DTSTART:20260421T183000
DTEND:20260421T193000
SUMMARY:Wolverines vs. Spiderman
DESCRIPTION:Weeknight Games, No Practice --- 2nd Grade Boys East - 
LOCATION:Sertoma Park Field #5
CATEGORIES:QuickScores; Soccer - Youth Game
TRANSP:0
DALARM:20260421T163000;PT10M;2;Wolverines vs. Spiderman
END:VEVENT
BEGIN:VEVENT
DTSTART:20260423T163000
DTEND:20260423T173000
SUMMARY:Defenders vs. Falcons
DESCRIPTION:Weeknight Games, No Practice --- 2nd Grade Boys East - 
LOCATION:Sertoma Park Field #5
CATEGORIES:QuickScores; Soccer - Youth Game
TRANSP:0
DALARM:20260423T143000;PT10M;2;Defenders vs. Falcons
END:VEVENT
BEGIN:VEVENT
DTSTART:20260423T173000
DTEND:20260423T183000
SUMMARY:Asgardians vs. Iron Men
DESCRIPTION:Weeknight Games, No Practice --- 2nd Grade Boys East - 
LOCATION:Sertoma Park Field #5
CATEGORIES:QuickScores; Soccer - Youth Game
TRANSP:0
DALARM:20260423T153000;PT10M;2;Asgardians vs. Iron Men
END:VEVENT
BEGIN:VEVENT
DTSTART:20260423T183000
DTEND:20260423T193000
SUMMARY:Blue Jays vs. Rebels
DESCRIPTION:Weeknight Games, No Practice --- 2nd Grade Boys East - 
LOCATION:Sertoma Park Field #5
CATEGORIES:QuickScores; Soccer - Youth Game
TRANSP:0
DALARM:20260423T163000;PT10M;2;Blue Jays vs. Rebels
END:VEVENT
BEGIN:VEVENT
DTSTART:20260425T093000
DTEND:20260425T103000
SUMMARY:Wolverines vs. Blue Jays
DESCRIPTION:2nd Grade Boys East - 
LOCATION:Sertoma Park Field #5
CATEGORIES:QuickScores; Soccer - Youth Game
TRANSP:0
DALARM:20260425T073000;PT10M;2;Wolverines vs. Blue Jays
END:VEVENT
BEGIN:VEVENT
DTSTART:20260425T103000
DTEND:20260425T113000
SUMMARY:Spiderman vs. Hawkeyes
DESCRIPTION:2nd Grade Boys East - 
LOCATION:Sertoma Park Field #5
CATEGORIES:QuickScores; Soccer - Youth Game
TRANSP:0
DALARM:20260425T083000;PT10M;2;Spiderman vs. Hawkeyes
END:VEVENT
BEGIN:VEVENT
DTSTART:20260425T113000
DTEND:20260425T123000
SUMMARY:Iron Men vs. Rebels
DESCRIPTION:2nd Grade Boys East - 
LOCATION:Sertoma Park Field #5
CATEGORIES:QuickScores; Soccer - Youth Game
TRANSP:0
DALARM:20260425T093000;PT10M;2;Iron Men vs. Rebels
END:VEVENT
BEGIN:VEVENT
DTSTART:20260425T123000
DTEND:20260425T133000
SUMMARY:Hulks vs. Asgardians
DESCRIPTION:2nd Grade Boys East - 
LOCATION:Sertoma Park Field #5
CATEGORIES:QuickScores; Soccer - Youth Game
TRANSP:0
DALARM:20260425T103000;PT10M;2;Hulks vs. Asgardians
END:VEVENT
BEGIN:VEVENT
DTSTART:20260425T130000
DTEND:20260425T140000
SUMMARY:Captains vs. Defenders
DESCRIPTION:2nd Grade Boys East - 
LOCATION:Sertoma Park Field #2
CATEGORIES:QuickScores; Soccer - Youth Game
TRANSP:0
DALARM:20260425T110000;PT10M;2;Captains vs. Defenders
END:VEVENT
BEGIN:VEVENT
DTSTART:20260425T133000
DTEND:20260425T143000
SUMMARY:Falcons vs. Silver Surfers
DESCRIPTION:2nd Grade Boys East - 
LOCATION:Sertoma Park Field #5
CATEGORIES:QuickScores; Soccer - Youth Game
TRANSP:0
DALARM:20260425T113000;PT10M;2;Falcons vs. Silver Surfers
END:VEVENT
BEGIN:VEVENT
DTSTART:20260428T163000
DTEND:20260428T173000
SUMMARY:Practice: Hawkeyes vs. Hulks
DESCRIPTION:Practice (Teams share the field) --- 2nd Grade Boys East - 
LOCATION:Sertoma Park Field #5
CATEGORIES:QuickScores; Soccer - Youth Game
TRANSP:0
DALARM:20260428T143000;PT10M;2;Practice: Hawkeyes vs. Hulks
END:VEVENT
BEGIN:VEVENT
DTSTART:20260428T173000
DTEND:20260428T183000
SUMMARY:Practice: Asgardians vs. Falcons
DESCRIPTION:Practice (Teams share the field) --- 2nd Grade Boys East - 
LOCATION:Sertoma Park Field #5
CATEGORIES:QuickScores; Soccer - Youth Game
TRANSP:0
DALARM:20260428T153000;PT10M;2;Practice: Asgardians vs. Falcons
END:VEVENT
BEGIN:VEVENT
DTSTART:20260428T183000
DTEND:20260428T193000
SUMMARY:Practice: Iron Men vs. Silver Surfers
DESCRIPTION:Practice (Teams share the field) --- 2nd Grade Boys East - 
LOCATION:Sertoma Park Field #5
CATEGORIES:QuickScores; Soccer - Youth Game
TRANSP:0
DALARM:20260428T163000;PT10M;2;Practice: Iron Men vs. Silver Surfers
END:VEVENT
BEGIN:VEVENT
DTSTART:20260430T163000
DTEND:20260430T173000
SUMMARY:Practice: Spiderman vs. Wolverines
DESCRIPTION:Practice (Teams share the field) --- 2nd Grade Boys East - 
LOCATION:Sertoma Park Field #5
CATEGORIES:QuickScores; Soccer - Youth Game
TRANSP:0
DALARM:20260430T143000;PT10M;2;Practice: Spiderman vs. Wolverines
END:VEVENT
BEGIN:VEVENT
DTSTART:20260430T173000
DTEND:20260430T183000
SUMMARY:Practice: Blue Jays vs. Rebels
DESCRIPTION:Practice (Teams share the field) --- 2nd Grade Boys East - 
LOCATION:Sertoma Park Field #5
CATEGORIES:QuickScores; Soccer - Youth Game
TRANSP:0
DALARM:20260430T153000;PT10M;2;Practice: Blue Jays vs. Rebels
END:VEVENT
BEGIN:VEVENT
DTSTART:20260430T183000
DTEND:20260430T193000
SUMMARY:Practice: Captains
DESCRIPTION:Practice (Teams share the field) --- 2nd Grade Boys East - 
LOCATION:Sertoma Park Field #5
CATEGORIES:QuickScores; Soccer - Youth Game
TRANSP:0
DALARM:20260430T163000;PT10M;2;Practice: Captains
END:VEVENT
BEGIN:VEVENT
DTSTART:20260502T093000
DTEND:20260502T103000
SUMMARY:Iron Men vs. Silver Surfers
DESCRIPTION:2nd Grade Boys East - 
LOCATION:Sertoma Park Field #5
CATEGORIES:QuickScores; Soccer - Youth Game
TRANSP:0
DALARM:20260502T073000;PT10M;2;Iron Men vs. Silver Surfers
END:VEVENT
BEGIN:VEVENT
DTSTART:20260502T103000
DTEND:20260502T113000
SUMMARY:Captains vs. Asgardians
DESCRIPTION:2nd Grade Boys East - 
LOCATION:Sertoma Park Field #5
CATEGORIES:QuickScores; Soccer - Youth Game
TRANSP:0
DALARM:20260502T083000;PT10M;2;Captains vs. Asgardians
END:VEVENT
BEGIN:VEVENT
DTSTART:20260502T113000
DTEND:20260502T123000
SUMMARY:Hawkeyes vs. Wolverines
DESCRIPTION:2nd Grade Boys East - 
LOCATION:Sertoma Park Field #5
CATEGORIES:QuickScores; Soccer - Youth Game
TRANSP:0
DALARM:20260502T093000;PT10M;2;Hawkeyes vs. Wolverines
END:VEVENT
BEGIN:VEVENT
DTSTART:20260502T123000
DTEND:20260502T133000
SUMMARY:Rebels vs. Defenders
DESCRIPTION:2nd Grade Boys East - 
LOCATION:Sertoma Park Field #5
CATEGORIES:QuickScores; Soccer - Youth Game
TRANSP:0
DALARM:20260502T103000;PT10M;2;Rebels vs. Defenders
END:VEVENT
BEGIN:VEVENT
DTSTART:20260502T130000
DTEND:20260502T140000
SUMMARY:Spiderman vs. Falcons
DESCRIPTION:2nd Grade Boys East - 
LOCATION:Sertoma Park Field #2
CATEGORIES:QuickScores; Soccer - Youth Game
TRANSP:0
DALARM:20260502T110000;PT10M;2;Spiderman vs. Falcons
END:VEVENT
BEGIN:VEVENT
DTSTART:20260502T133000
DTEND:20260502T143000
SUMMARY:Blue Jays vs. Hulks
DESCRIPTION:2nd Grade Boys East - 
LOCATION:Sertoma Park Field #5
CATEGORIES:QuickScores; Soccer - Youth Game
TRANSP:0
DALARM:20260502T113000;PT10M;2;Blue Jays vs. Hulks
END:VEVENT
BEGIN:VEVENT
DTSTART:20260505T163000
DTEND:20260505T173000
SUMMARY:Practice: Hawkeyes vs. Hulks
DESCRIPTION:Practice (Teams share the field) --- 2nd Grade Boys East - 
LOCATION:Sertoma Park Field #5
CATEGORIES:QuickScores; Soccer - Youth Game
TRANSP:0
DALARM:20260505T143000;PT10M;2;Practice: Hawkeyes vs. Hulks
END:VEVENT
BEGIN:VEVENT
DTSTART:20260505T173000
DTEND:20260505T183000
SUMMARY:Practice: Asgardians vs. Falcons
DESCRIPTION:Practice (Teams share the field) --- 2nd Grade Boys East - 
LOCATION:Sertoma Park Field #5
CATEGORIES:QuickScores; Soccer - Youth Game
TRANSP:0
DALARM:20260505T153000;PT10M;2;Practice: Asgardians vs. Falcons
END:VEVENT
BEGIN:VEVENT
DTSTART:20260505T183000
DTEND:20260505T193000
SUMMARY:Practice: Iron Men vs. Silver Surfers
DESCRIPTION:Practice (Teams share the field) --- 2nd Grade Boys East - 
LOCATION:Sertoma Park Field #5
CATEGORIES:QuickScores; Soccer - Youth Game
TRANSP:0
DALARM:20260505T163000;PT10M;2;Practice: Iron Men vs. Silver Surfers
END:VEVENT
BEGIN:VEVENT
DTSTART:20260507T163000
DTEND:20260507T173000
SUMMARY:Practice: Spiderman vs. Wolverines
DESCRIPTION:Practice (Teams share the field) --- 2nd Grade Boys East - 
LOCATION:Sertoma Park Field #5
CATEGORIES:QuickScores; Soccer - Youth Game
TRANSP:0
DALARM:20260507T143000;PT10M;2;Practice: Spiderman vs. Wolverines
END:VEVENT
BEGIN:VEVENT
DTSTART:20260507T173000
DTEND:20260507T183000
SUMMARY:Practice: Blue Jays vs. Rebels
DESCRIPTION:Practice (Teams share the field) --- 2nd Grade Boys East - 
LOCATION:Sertoma Park Field #5
CATEGORIES:QuickScores; Soccer - Youth Game
TRANSP:0
DALARM:20260507T153000;PT10M;2;Practice: Blue Jays vs. Rebels
END:VEVENT
BEGIN:VEVENT
DTSTART:20260507T183000
DTEND:20260507T193000
SUMMARY:Practice: Captains
DESCRIPTION:Practice (Teams share the field) --- 2nd Grade Boys East - 
LOCATION:Sertoma Park Field #5
CATEGORIES:QuickScores; Soccer - Youth Game
TRANSP:0
DALARM:20260507T163000;PT10M;2;Practice: Captains
END:VEVENT
BEGIN:VEVENT
DTSTART:20260509T093000
DTEND:20260509T103000
SUMMARY:Asgardians vs. Spiderman
DESCRIPTION:2nd Grade Boys East - 
LOCATION:Sertoma Park Field #5
CATEGORIES:QuickScores; Soccer - Youth Game
TRANSP:0
DALARM:20260509T073000;PT10M;2;Asgardians vs. Spiderman
END:VEVENT
BEGIN:VEVENT
DTSTART:20260509T103000
DTEND:20260509T113000
SUMMARY:Iron Men vs. Falcons
DESCRIPTION:2nd Grade Boys East - 
LOCATION:Sertoma Park Field #5
CATEGORIES:QuickScores; Soccer - Youth Game
TRANSP:0
DALARM:20260509T083000;PT10M;2;Iron Men vs. Falcons
END:VEVENT
BEGIN:VEVENT
DTSTART:20260509T113000
DTEND:20260509T123000
SUMMARY:Captains vs. Blue Jays
DESCRIPTION:2nd Grade Boys East - 
LOCATION:Sertoma Park Field #5
CATEGORIES:QuickScores; Soccer - Youth Game
TRANSP:0
DALARM:20260509T093000;PT10M;2;Captains vs. Blue Jays
END:VEVENT
BEGIN:VEVENT
DTSTART:20260509T123000
DTEND:20260509T133000
SUMMARY:Hawkeyes vs. Defenders
DESCRIPTION:2nd Grade Boys East - 
LOCATION:Sertoma Park Field #5
CATEGORIES:QuickScores; Soccer - Youth Game
TRANSP:0
DALARM:20260509T103000;PT10M;2;Hawkeyes vs. Defenders
END:VEVENT
BEGIN:VEVENT
DTSTART:20260509T130000
DTEND:20260509T140000
SUMMARY:Hulks vs. Rebels
DESCRIPTION:2nd Grade Boys East - 
LOCATION:Sertoma Park Field #2
CATEGORIES:QuickScores; Soccer - Youth Game
TRANSP:0
DALARM:20260509T110000;PT10M;2;Hulks vs. Rebels
END:VEVENT
BEGIN:VEVENT
DTSTART:20260509T133000
DTEND:20260509T143000
SUMMARY:Wolverines vs. Silver Surfers
DESCRIPTION:2nd Grade Boys East - 
LOCATION:Sertoma Park Field #5
CATEGORIES:QuickScores; Soccer - Youth Game
TRANSP:0
DALARM:20260509T113000;PT10M;2;Wolverines vs. Silver Surfers
END:VEVENT
BEGIN:VEVENT
DTSTART:20260512T163000
DTEND:20260512T173000
SUMMARY:Practice: Hawkeyes vs. Hulks
DESCRIPTION:Practice (Teams share the field) --- 2nd Grade Boys East - 
LOCATION:Sertoma Park Field #5
CATEGORIES:QuickScores; Soccer - Youth Game
TRANSP:0
DALARM:20260512T143000;PT10M;2;Practice: Hawkeyes vs. Hulks
END:VEVENT
BEGIN:VEVENT
DTSTART:20260512T173000
DTEND:20260512T183000
SUMMARY:Practice: Asgardians vs. Falcons
DESCRIPTION:Practice (Teams share the field) --- 2nd Grade Boys East - 
LOCATION:Sertoma Park Field #5
CATEGORIES:QuickScores; Soccer - Youth Game
TRANSP:0
DALARM:20260512T153000;PT10M;2;Practice: Asgardians vs. Falcons
END:VEVENT
BEGIN:VEVENT
DTSTART:20260512T183000
DTEND:20260512T193000
SUMMARY:Practice: Iron Men vs. Silver Surfers
DESCRIPTION:Practice (Teams share the field) --- 2nd Grade Boys East - 
LOCATION:Sertoma Park Field #5
CATEGORIES:QuickScores; Soccer - Youth Game
TRANSP:0
DALARM:20260512T163000;PT10M;2;Practice: Iron Men vs. Silver Surfers
END:VEVENT
BEGIN:VEVENT
DTSTART:20260514T163000
DTEND:20260514T173000
SUMMARY:Practice: Spiderman vs. Wolverines
DESCRIPTION:Practice (Teams share the field) --- 2nd Grade Boys East - 
LOCATION:Sertoma Park Field #5
CATEGORIES:QuickScores; Soccer - Youth Game
TRANSP:0
DALARM:20260514T143000;PT10M;2;Practice: Spiderman vs. Wolverines
END:VEVENT
BEGIN:VEVENT
DTSTART:20260514T173000
DTEND:20260514T183000
SUMMARY:Practice: Blue Jays vs. Rebels
DESCRIPTION:Practice (Teams share the field) --- 2nd Grade Boys East - 
LOCATION:Sertoma Park Field #5
CATEGORIES:QuickScores; Soccer - Youth Game
TRANSP:0
DALARM:20260514T153000;PT10M;2;Practice: Blue Jays vs. Rebels
END:VEVENT
BEGIN:VEVENT
DTSTART:20260514T183000
DTEND:20260514T193000
SUMMARY:Practice: Captains
DESCRIPTION:Practice (Teams share the field) --- 2nd Grade Boys East - 
LOCATION:Sertoma Park Field #5
CATEGORIES:QuickScores; Soccer - Youth Game
TRANSP:0
DALARM:20260514T163000;PT10M;2;Practice: Captains
END:VEVENT
BEGIN:VEVENT
DTSTART:20260516T093000
DTEND:20260516T103000
SUMMARY:Hawkeyes vs. Hulks
DESCRIPTION:2nd Grade Boys East - 
LOCATION:Sertoma Park Field #5
CATEGORIES:QuickScores; Soccer - Youth Game
TRANSP:0
DALARM:20260516T073000;PT10M;2;Hawkeyes vs. Hulks
END:VEVENT
BEGIN:VEVENT
DTSTART:20260516T103000
DTEND:20260516T113000
SUMMARY:Rebels vs. Captains
DESCRIPTION:2nd Grade Boys East - 
LOCATION:Sertoma Park Field #5
CATEGORIES:QuickScores; Soccer - Youth Game
TRANSP:0
DALARM:20260516T083000;PT10M;2;Rebels vs. Captains
END:VEVENT
BEGIN:VEVENT
DTSTART:20260516T113000
DTEND:20260516T123000
SUMMARY:Defenders vs. Silver Surfers
DESCRIPTION:2nd Grade Boys East - 
LOCATION:Sertoma Park Field #5
CATEGORIES:QuickScores; Soccer - Youth Game
TRANSP:0
DALARM:20260516T093000;PT10M;2;Defenders vs. Silver Surfers
END:VEVENT
BEGIN:VEVENT
DTSTART:20260516T123000
DTEND:20260516T133000
SUMMARY:Wolverines vs. Falcons
DESCRIPTION:2nd Grade Boys East - 
LOCATION:Sertoma Park Field #5
CATEGORIES:QuickScores; Soccer - Youth Game
TRANSP:0
DALARM:20260516T103000;PT10M;2;Wolverines vs. Falcons
END:VEVENT
BEGIN:VEVENT
DTSTART:20260516T130000
DTEND:20260516T140000
SUMMARY:Blue Jays vs. Asgardians
DESCRIPTION:2nd Grade Boys East - 
LOCATION:Sertoma Park Field #2
CATEGORIES:QuickScores; Soccer - Youth Game
TRANSP:0
DALARM:20260516T110000;PT10M;2;Blue Jays vs. Asgardians
END:VEVENT
BEGIN:VEVENT
DTSTART:20260516T133000
DTEND:20260516T143000
SUMMARY:Spiderman vs. Iron Men
DESCRIPTION:2nd Grade Boys East - 
LOCATION:Sertoma Park Field #5
CATEGORIES:QuickScores; Soccer - Youth Game
TRANSP:0
DALARM:20260516T113000;PT10M;2;Spiderman vs. Iron Men
END:VEVENT
END:VCALENDAR
