BEGIN:VCALENDAR
VERSION:1.0
BEGIN:VEVENT
DTSTART:20260425T090000
DTEND:20260425T100000
SUMMARY:Maroon vs. Orange
DESCRIPTION:TBall - Manhattan Park District
LOCATION:TBall Field 2 - Smith Rd
CATEGORIES:QuickScores; T-Ball Game
TRANSP:0
DALARM:20260425T070000;PT10M;2;Maroon vs. Orange
END:VEVENT
BEGIN:VEVENT
DTSTART:20260425T090000
DTEND:20260425T100000
SUMMARY:Purple vs. Yellow
DESCRIPTION:TBall - Manhattan Park District
LOCATION:TBall Field 1 - Smith Rd
CATEGORIES:QuickScores; T-Ball Game
TRANSP:0
DALARM:20260425T070000;PT10M;2;Purple vs. Yellow
END:VEVENT
BEGIN:VEVENT
DTSTART:20260425T100000
DTEND:20260425T110000
SUMMARY:Navy vs. Lt Blue
DESCRIPTION:TBall - Manhattan Park District
LOCATION:TBall Field 2 - Smith Rd
CATEGORIES:QuickScores; T-Ball Game
TRANSP:0
DALARM:20260425T080000;PT10M;2;Navy vs. Lt Blue
END:VEVENT
BEGIN:VEVENT
DTSTART:20260502T090000
DTEND:20260502T100000
SUMMARY:Maroon vs. Navy
DESCRIPTION:TBall - Manhattan Park District
LOCATION:TBall Field 2 - Smith Rd
CATEGORIES:QuickScores; T-Ball Game
TRANSP:0
DALARM:20260502T070000;PT10M;2;Maroon vs. Navy
END:VEVENT
BEGIN:VEVENT
DTSTART:20260502T090000
DTEND:20260502T100000
SUMMARY:Yellow vs. Purple
DESCRIPTION:TBall - Manhattan Park District
LOCATION:TBall Field 1 - Smith Rd
CATEGORIES:QuickScores; T-Ball Game
TRANSP:0
DALARM:20260502T070000;PT10M;2;Yellow vs. Purple
END:VEVENT
BEGIN:VEVENT
DTSTART:20260502T100000
DTEND:20260502T110000
SUMMARY:Orange vs. Lt Blue
DESCRIPTION:TBall - Manhattan Park District
LOCATION:TBall Field 2 - Smith Rd
CATEGORIES:QuickScores; T-Ball Game
TRANSP:0
DALARM:20260502T080000;PT10M;2;Orange vs. Lt Blue
END:VEVENT
BEGIN:VEVENT
DTSTART:20260509T090000
DTEND:20260509T100000
SUMMARY:Lt Blue vs. Orange
DESCRIPTION:TBall - Manhattan Park District
LOCATION:TBall Field 1 - Smith Rd
CATEGORIES:QuickScores; T-Ball Game
TRANSP:0
DALARM:20260509T070000;PT10M;2;Lt Blue vs. Orange
END:VEVENT
BEGIN:VEVENT
DTSTART:20260509T090000
DTEND:20260509T100000
SUMMARY:Purple vs. Yellow
DESCRIPTION:TBall - Manhattan Park District
LOCATION:TBall Field 2 - Smith Rd
CATEGORIES:QuickScores; T-Ball Game
TRANSP:0
DALARM:20260509T070000;PT10M;2;Purple vs. Yellow
END:VEVENT
BEGIN:VEVENT
DTSTART:20260509T100000
DTEND:20260509T110000
SUMMARY:Navy vs. Maroon
DESCRIPTION:TBall - Manhattan Park District
LOCATION:TBall Field 2 - Smith Rd
CATEGORIES:QuickScores; T-Ball Game
TRANSP:0
DALARM:20260509T080000;PT10M;2;Navy vs. Maroon
END:VEVENT
BEGIN:VEVENT
DTSTART:20260516T090000
DTEND:20260516T100000
SUMMARY:Orange vs. Maroon
DESCRIPTION:TBall - Manhattan Park District
LOCATION:TBall Field 1 - Smith Rd
CATEGORIES:QuickScores; T-Ball Game
TRANSP:0
DALARM:20260516T070000;PT10M;2;Orange vs. Maroon
END:VEVENT
BEGIN:VEVENT
DTSTART:20260516T090000
DTEND:20260516T100000
SUMMARY:Lt Blue vs. Navy
DESCRIPTION:TBall - Manhattan Park District
LOCATION:TBall Field 2 - Smith Rd
CATEGORIES:QuickScores; T-Ball Game
TRANSP:0
DALARM:20260516T070000;PT10M;2;Lt Blue vs. Navy
END:VEVENT
BEGIN:VEVENT
DTSTART:20260516T100000
DTEND:20260516T110000
SUMMARY:Yellow vs. Purple
DESCRIPTION:TBall - Manhattan Park District
LOCATION:TBall Field 2 - Smith Rd
CATEGORIES:QuickScores; T-Ball Game
TRANSP:0
DALARM:20260516T080000;PT10M;2;Yellow vs. Purple
END:VEVENT
BEGIN:VEVENT
DTSTART:20260530T090000
DTEND:20260530T100000
SUMMARY:Lt Blue vs. Maroon
DESCRIPTION:TBall - Manhattan Park District
LOCATION:TBall Field 1 - Smith Rd
CATEGORIES:QuickScores; T-Ball Game
TRANSP:0
DALARM:20260530T070000;PT10M;2;Lt Blue vs. Maroon
END:VEVENT
BEGIN:VEVENT
DTSTART:20260530T090000
DTEND:20260530T100000
SUMMARY:Yellow vs. Navy
DESCRIPTION:TBall - Manhattan Park District
LOCATION:TBall Field 2 - Smith Rd
CATEGORIES:QuickScores; T-Ball Game
TRANSP:0
DALARM:20260530T070000;PT10M;2;Yellow vs. Navy
END:VEVENT
BEGIN:VEVENT
DTSTART:20260530T100000
DTEND:20260530T110000
SUMMARY:Purple vs. Orange
DESCRIPTION:TBall - Manhattan Park District
LOCATION:TBall Field 2 - Smith Rd
CATEGORIES:QuickScores; T-Ball Game
TRANSP:0
DALARM:20260530T080000;PT10M;2;Purple vs. Orange
END:VEVENT
BEGIN:VEVENT
DTSTART:20260606T090000
DTEND:20260606T100000
SUMMARY:Lt Blue vs. Purple
DESCRIPTION:TBall - Manhattan Park District
LOCATION:TBall Field 2 - Smith Rd
CATEGORIES:QuickScores; T-Ball Game
TRANSP:0
DALARM:20260606T070000;PT10M;2;Lt Blue vs. Purple
END:VEVENT
BEGIN:VEVENT
DTSTART:20260606T090000
DTEND:20260606T100000
SUMMARY:Orange vs. Navy
DESCRIPTION:TBall - Manhattan Park District
LOCATION:TBall Field 1 - Smith Rd
CATEGORIES:QuickScores; T-Ball Game
TRANSP:0
DALARM:20260606T070000;PT10M;2;Orange vs. Navy
END:VEVENT
BEGIN:VEVENT
DTSTART:20260606T100000
DTEND:20260606T110000
SUMMARY:Maroon vs. Yellow
DESCRIPTION:TBall - Manhattan Park District
LOCATION:TBall Field 2 - Smith Rd
CATEGORIES:QuickScores; T-Ball Game
TRANSP:0
DALARM:20260606T080000;PT10M;2;Maroon vs. Yellow
END:VEVENT
BEGIN:VEVENT
DTSTART:20260613T090000
DTEND:20260613T100000
SUMMARY:Yellow vs. Lt Blue
DESCRIPTION:TBall - Manhattan Park District
LOCATION:TBall Field 1 - Smith Rd
CATEGORIES:QuickScores; T-Ball Game
TRANSP:0
DALARM:20260613T070000;PT10M;2;Yellow vs. Lt Blue
END:VEVENT
BEGIN:VEVENT
DTSTART:20260613T090000
DTEND:20260613T100000
SUMMARY:Purple vs. Maroon
DESCRIPTION:TBall - Manhattan Park District
LOCATION:TBall Field 2 - Smith Rd
CATEGORIES:QuickScores; T-Ball Game
TRANSP:0
DALARM:20260613T070000;PT10M;2;Purple vs. Maroon
END:VEVENT
BEGIN:VEVENT
DTSTART:20260613T100000
DTEND:20260613T110000
SUMMARY:Navy vs. Orange
DESCRIPTION:TBall - Manhattan Park District
LOCATION:TBall Field 2 - Smith Rd
CATEGORIES:QuickScores; T-Ball Game
TRANSP:0
DALARM:20260613T080000;PT10M;2;Navy vs. Orange
END:VEVENT
BEGIN:VEVENT
DTSTART:20260620T090000
DTEND:20260620T100000
SUMMARY:Orange vs. Yellow
DESCRIPTION:TBall - Manhattan Park District
LOCATION:TBall Field 2 - Smith Rd
CATEGORIES:QuickScores; T-Ball Game
TRANSP:0
DALARM:20260620T070000;PT10M;2;Orange vs. Yellow
END:VEVENT
BEGIN:VEVENT
DTSTART:20260620T090000
DTEND:20260620T100000
SUMMARY:Navy vs. Purple
DESCRIPTION:TBall - Manhattan Park District
LOCATION:TBall Field 1 - Smith Rd
CATEGORIES:QuickScores; T-Ball Game
TRANSP:0
DALARM:20260620T070000;PT10M;2;Navy vs. Purple
END:VEVENT
BEGIN:VEVENT
DTSTART:20260620T100000
DTEND:20260620T110000
SUMMARY:Maroon vs. Lt Blue
DESCRIPTION:TBall - Manhattan Park District
LOCATION:TBall Field 2 - Smith Rd
CATEGORIES:QuickScores; T-Ball Game
TRANSP:0
DALARM:20260620T080000;PT10M;2;Maroon vs. Lt Blue
END:VEVENT
END:VCALENDAR
