BEGIN:VCALENDAR
VERSION:1.0
BEGIN:VEVENT
DTSTART:20260312T211000
DTEND:20260312T220500
SUMMARY:YZD UNCS vs. Mixednuts FC
DESCRIPTION:Coed 2^ Thursday - Lincoln NE Adult League
LOCATION:North
CATEGORIES:QuickScores; Soccer - Adult Game
TRANSP:0
DALARM:20260312T191000;PT10M;2;YZD UNCS vs. Mixednuts FC
END:VEVENT
BEGIN:VEVENT
DTSTART:20260312T211000
DTEND:20260312T220500
SUMMARY:Rafa Roofing vs. Why So Serious
DESCRIPTION:Coed 2^ Thursday - Lincoln NE Adult League
LOCATION:South
CATEGORIES:QuickScores; Soccer - Adult Game
TRANSP:0
DALARM:20260312T191000;PT10M;2;Rafa Roofing vs. Why So Serious
END:VEVENT
BEGIN:VEVENT
DTSTART:20260312T220500
DTEND:20260312T230000
SUMMARY:European Grocery and Deli vs. Hexagon Agility
DESCRIPTION:Coed 2^ Thursday - Lincoln NE Adult League
LOCATION:South
CATEGORIES:QuickScores; Soccer - Adult Game
TRANSP:0
DALARM:20260312T200500;PT10M;2;European Grocery and Deli vs. Hexagon Agility
END:VEVENT
BEGIN:VEVENT
DTSTART:20260319T211000
DTEND:20260319T220500
SUMMARY:Why So Serious vs. YZD UNCS
DESCRIPTION:Coed 2^ Thursday - Lincoln NE Adult League
LOCATION:North
CATEGORIES:QuickScores; Soccer - Adult Game
TRANSP:0
DALARM:20260319T191000;PT10M;2;Why So Serious vs. YZD UNCS
END:VEVENT
BEGIN:VEVENT
DTSTART:20260319T211000
DTEND:20260319T220500
SUMMARY:Mixednuts FC vs. European Grocery and Deli
DESCRIPTION:Coed 2^ Thursday - Lincoln NE Adult League
LOCATION:South
CATEGORIES:QuickScores; Soccer - Adult Game
TRANSP:0
DALARM:20260319T191000;PT10M;2;Mixednuts FC vs. European Grocery and Deli
END:VEVENT
BEGIN:VEVENT
DTSTART:20260319T220500
DTEND:20260319T230000
SUMMARY:Asturias vs. Rafa Roofing
DESCRIPTION:Coed 2^ Thursday - Lincoln NE Adult League
LOCATION:South
CATEGORIES:QuickScores; Soccer - Adult Game
TRANSP:0
DALARM:20260319T200500;PT10M;2;Asturias vs. Rafa Roofing
END:VEVENT
BEGIN:VEVENT
DTSTART:20260326T211000
DTEND:20260326T220500
SUMMARY:European Grocery and Deli vs. Rafa Roofing
DESCRIPTION:Coed 2^ Thursday - Lincoln NE Adult League
LOCATION:North
CATEGORIES:QuickScores; Soccer - Adult Game
TRANSP:0
DALARM:20260326T191000;PT10M;2;European Grocery and Deli vs. Rafa Roofing
END:VEVENT
BEGIN:VEVENT
DTSTART:20260326T211000
DTEND:20260326T220500
SUMMARY:Mixednuts FC vs. Hexagon Agility
DESCRIPTION:Coed 2^ Thursday - Lincoln NE Adult League
LOCATION:South
CATEGORIES:QuickScores; Soccer - Adult Game
TRANSP:0
DALARM:20260326T191000;PT10M;2;Mixednuts FC vs. Hexagon Agility
END:VEVENT
BEGIN:VEVENT
DTSTART:20260326T220500
DTEND:20260326T230000
SUMMARY:Why So Serious vs. Asturias
DESCRIPTION:Coed 2^ Thursday - Lincoln NE Adult League
LOCATION:South
CATEGORIES:QuickScores; Soccer - Adult Game
TRANSP:0
DALARM:20260326T200500;PT10M;2;Why So Serious vs. Asturias
END:VEVENT
BEGIN:VEVENT
DTSTART:20260402T211000
DTEND:20260402T220500
SUMMARY:Rafa Roofing vs. Hexagon Agility
DESCRIPTION:Coed 2^ Thursday - Lincoln NE Adult League
LOCATION:South
CATEGORIES:QuickScores; Soccer - Adult Game
TRANSP:0
DALARM:20260402T191000;PT10M;2;Rafa Roofing vs. Hexagon Agility
END:VEVENT
BEGIN:VEVENT
DTSTART:20260402T211000
DTEND:20260402T220500
SUMMARY:Asturias vs. Mixednuts FC
DESCRIPTION:Coed 2^ Thursday - Lincoln NE Adult League
LOCATION:North
CATEGORIES:QuickScores; Soccer - Adult Game
TRANSP:0
DALARM:20260402T191000;PT10M;2;Asturias vs. Mixednuts FC
END:VEVENT
BEGIN:VEVENT
DTSTART:20260402T220500
DTEND:20260402T230000
SUMMARY:YZD UNCS vs. European Grocery and Deli
DESCRIPTION:Coed 2^ Thursday - Lincoln NE Adult League
LOCATION:South
CATEGORIES:QuickScores; Soccer - Adult Game
TRANSP:0
DALARM:20260402T200500;PT10M;2;YZD UNCS vs. European Grocery and Deli
END:VEVENT
BEGIN:VEVENT
DTSTART:20260409T211000
DTEND:20260409T220500
SUMMARY:Hexagon Agility vs. Why So Serious
DESCRIPTION:Coed 2^ Thursday - Lincoln NE Adult League
LOCATION:North
CATEGORIES:QuickScores; Soccer - Adult Game
TRANSP:0
DALARM:20260409T191000;PT10M;2;Hexagon Agility vs. Why So Serious
END:VEVENT
BEGIN:VEVENT
DTSTART:20260409T211000
DTEND:20260409T220500
SUMMARY:YZD UNCS vs. Asturias
DESCRIPTION:Coed 2^ Thursday - Lincoln NE Adult League
LOCATION:South
CATEGORIES:QuickScores; Soccer - Adult Game
TRANSP:0
DALARM:20260409T191000;PT10M;2;YZD UNCS vs. Asturias
END:VEVENT
BEGIN:VEVENT
DTSTART:20260416T211000
DTEND:20260416T220500
SUMMARY:Hexagon Agility vs. Mixednuts FC
DESCRIPTION:playoff, winner to semi # 2 seed --- Coed 2^ Thursday - Lincoln NE Adult League
LOCATION:North
CATEGORIES:QuickScores; Soccer - Adult Game
TRANSP:0
DALARM:20260416T191000;PT10M;2;Hexagon Agility vs. Mixednuts FC
END:VEVENT
BEGIN:VEVENT
DTSTART:20260416T211000
DTEND:20260416T220500
SUMMARY:Asturias vs. Why So Serious
DESCRIPTION:playoff, winner to semi #4 seed --- Coed 2^ Thursday - Lincoln NE Adult League
LOCATION:South
CATEGORIES:QuickScores; Soccer - Adult Game
TRANSP:0
DALARM:20260416T191000;PT10M;2;Asturias vs. Why So Serious
END:VEVENT
BEGIN:VEVENT
DTSTART:20260416T220500
DTEND:20260416T230000
SUMMARY:European Grocery and Deli vs. Rafa Roofing
DESCRIPTION:playoff, winner to semi # 3 seed --- Coed 2^ Thursday - Lincoln NE Adult League
LOCATION:South
CATEGORIES:QuickScores; Soccer - Adult Game
TRANSP:0
DALARM:20260416T200500;PT10M;2;European Grocery and Deli vs. Rafa Roofing
END:VEVENT
BEGIN:VEVENT
DTSTART:20260423T211000
DTEND:20260423T220500
SUMMARY:European Grocery and Deli vs. Hexagon Agility
DESCRIPTION:semifinal --- Coed 2^ Thursday - Lincoln NE Adult League
LOCATION:North
CATEGORIES:QuickScores; Soccer - Adult Game
TRANSP:0
DALARM:20260423T191000;PT10M;2;European Grocery and Deli vs. Hexagon Agility
END:VEVENT
BEGIN:VEVENT
DTSTART:20260423T211000
DTEND:20260423T220500
SUMMARY:YZD UNCS vs. Why So Serious
DESCRIPTION:semifinal --- Coed 2^ Thursday - Lincoln NE Adult League
LOCATION:South
CATEGORIES:QuickScores; Soccer - Adult Game
TRANSP:0
DALARM:20260423T191000;PT10M;2;YZD UNCS vs. Why So Serious
END:VEVENT
BEGIN:VEVENT
DTSTART:20260423T220500
DTEND:20260423T230000
SUMMARY:Rafa Roofing vs. Mixednuts FC
DESCRIPTION:last game --- Coed 2^ Thursday - Lincoln NE Adult League
LOCATION:South
CATEGORIES:QuickScores; Soccer - Adult Game
TRANSP:0
DALARM:20260423T200500;PT10M;2;Rafa Roofing vs. Mixednuts FC
END:VEVENT
END:VCALENDAR
