BEGIN:VCALENDAR
VERSION:1.0
BEGIN:VEVENT
DTSTART:20260302T170000
DTEND:20260302T180000
SUMMARY:Practice: Force vs. Blaze
DESCRIPTION:***CAMP --- 3rd-5th Grade Volleyball - Tinley Park - Park District
LOCATION:Recreation Center Court #3 (B)
CATEGORIES:QuickScores; Volleyball - Youth Game
TRANSP:0
DALARM:20260302T150000;PT10M;2;Practice: Force vs. Blaze
END:VEVENT
BEGIN:VEVENT
DTSTART:20260302T180000
DTEND:20260302T190000
SUMMARY:Practice: Eclipse vs. Fusion
DESCRIPTION:***CAMP --- 3rd-5th Grade Volleyball - Tinley Park - Park District
LOCATION:Recreation Center Court #3 (A)
CATEGORIES:QuickScores; Volleyball - Youth Game
TRANSP:0
DALARM:20260302T160000;PT10M;2;Practice: Eclipse vs. Fusion
END:VEVENT
BEGIN:VEVENT
DTSTART:20260302T180000
DTEND:20260302T190000
SUMMARY:Practice: Express vs. Aces
DESCRIPTION:***CAMP --- 3rd-5th Grade Volleyball - Tinley Park - Park District
LOCATION:Recreation Center Court #3 (B)
CATEGORIES:QuickScores; Volleyball - Youth Game
TRANSP:0
DALARM:20260302T160000;PT10M;2;Practice: Express vs. Aces
END:VEVENT
BEGIN:VEVENT
DTSTART:20260306T170000
DTEND:20260306T180000
SUMMARY:Practice: Express vs. Fusion
DESCRIPTION:***CAMP --- 3rd-5th Grade Volleyball - Tinley Park - Park District
LOCATION:Recreation Center Court #3 (B)
CATEGORIES:QuickScores; Volleyball - Youth Game
TRANSP:0
DALARM:20260306T150000;PT10M;2;Practice: Express vs. Fusion
END:VEVENT
BEGIN:VEVENT
DTSTART:20260306T180000
DTEND:20260306T190000
SUMMARY:Practice: Eclipse vs. Force
DESCRIPTION:***CAMP --- 3rd-5th Grade Volleyball - Tinley Park - Park District
LOCATION:Recreation Center Court #3 (A)
CATEGORIES:QuickScores; Volleyball - Youth Game
TRANSP:0
DALARM:20260306T160000;PT10M;2;Practice: Eclipse vs. Force
END:VEVENT
BEGIN:VEVENT
DTSTART:20260306T180000
DTEND:20260306T190000
SUMMARY:Practice: Aces vs. Blaze
DESCRIPTION:***CAMP --- 3rd-5th Grade Volleyball - Tinley Park - Park District
LOCATION:Recreation Center Court #3 (B)
CATEGORIES:QuickScores; Volleyball - Youth Game
TRANSP:0
DALARM:20260306T160000;PT10M;2;Practice: Aces vs. Blaze
END:VEVENT
BEGIN:VEVENT
DTSTART:20260309T170000
DTEND:20260309T180000
SUMMARY:Practice: Fusion vs. Aces
DESCRIPTION:***CAMP --- 3rd-5th Grade Volleyball - Tinley Park - Park District
LOCATION:Recreation Center Court #3 (B)
CATEGORIES:QuickScores; Volleyball - Youth Game
TRANSP:0
DALARM:20260309T150000;PT10M;2;Practice: Fusion vs. Aces
END:VEVENT
BEGIN:VEVENT
DTSTART:20260309T180000
DTEND:20260309T190000
SUMMARY:Practice: Force vs. Express
DESCRIPTION:***CAMP --- 3rd-5th Grade Volleyball - Tinley Park - Park District
LOCATION:Recreation Center Court #3 (B)
CATEGORIES:QuickScores; Volleyball - Youth Game
TRANSP:0
DALARM:20260309T160000;PT10M;2;Practice: Force vs. Express
END:VEVENT
BEGIN:VEVENT
DTSTART:20260309T180000
DTEND:20260309T190000
SUMMARY:Practice: Eclipse vs. Blaze
DESCRIPTION:***CAMP --- 3rd-5th Grade Volleyball - Tinley Park - Park District
LOCATION:Recreation Center Court #3 (A)
CATEGORIES:QuickScores; Volleyball - Youth Game
TRANSP:0
DALARM:20260309T160000;PT10M;2;Practice: Eclipse vs. Blaze
END:VEVENT
BEGIN:VEVENT
DTSTART:20260313T170000
DTEND:20260313T180000
SUMMARY:Practice: Aces vs. Force
DESCRIPTION:***CAMP --- 3rd-5th Grade Volleyball - Tinley Park - Park District
LOCATION:Recreation Center Court #3 (B)
CATEGORIES:QuickScores; Volleyball - Youth Game
TRANSP:0
DALARM:20260313T150000;PT10M;2;Practice: Aces vs. Force
END:VEVENT
BEGIN:VEVENT
DTSTART:20260313T180000
DTEND:20260313T190000
SUMMARY:Practice: Eclipse vs. Express
DESCRIPTION:***CAMP --- 3rd-5th Grade Volleyball - Tinley Park - Park District
LOCATION:Recreation Center Court #3 (A)
CATEGORIES:QuickScores; Volleyball - Youth Game
TRANSP:0
DALARM:20260313T160000;PT10M;2;Practice: Eclipse vs. Express
END:VEVENT
BEGIN:VEVENT
DTSTART:20260313T180000
DTEND:20260313T190000
SUMMARY:Practice: Blaze vs. Fusion
DESCRIPTION:***CAMP --- 3rd-5th Grade Volleyball - Tinley Park - Park District
LOCATION:Recreation Center Court #3 (B)
CATEGORIES:QuickScores; Volleyball - Youth Game
TRANSP:0
DALARM:20260313T160000;PT10M;2;Practice: Blaze vs. Fusion
END:VEVENT
BEGIN:VEVENT
DTSTART:20260316T170000
DTEND:20260316T180000
SUMMARY:Practice: Blaze vs. Express
DESCRIPTION:3rd-5th Grade Volleyball - Tinley Park - Park District
LOCATION:Recreation Center Court #3 (B)
CATEGORIES:QuickScores; Volleyball - Youth Game
TRANSP:0
DALARM:20260316T150000;PT10M;2;Practice: Blaze vs. Express
END:VEVENT
BEGIN:VEVENT
DTSTART:20260316T180000
DTEND:20260316T190000
SUMMARY:Practice: Eclipse vs. Aces
DESCRIPTION:3rd-5th Grade Volleyball - Tinley Park - Park District
LOCATION:Recreation Center Court #3 (B)
CATEGORIES:QuickScores; Volleyball - Youth Game
TRANSP:0
DALARM:20260316T160000;PT10M;2;Practice: Eclipse vs. Aces
END:VEVENT
BEGIN:VEVENT
DTSTART:20260316T180000
DTEND:20260316T190000
SUMMARY:Practice: Fusion vs. Force
DESCRIPTION:3rd-5th Grade Volleyball - Tinley Park - Park District
LOCATION:Recreation Center Court #3 (A)
CATEGORIES:QuickScores; Volleyball - Youth Game
TRANSP:0
DALARM:20260316T160000;PT10M;2;Practice: Fusion vs. Force
END:VEVENT
BEGIN:VEVENT
DTSTART:20260320T170000
DTEND:20260320T180000
SUMMARY:Practice: Fusion vs. Aces
DESCRIPTION:3rd-5th Grade Volleyball - Tinley Park - Park District
LOCATION:Recreation Center Court #3 (B)
CATEGORIES:QuickScores; Volleyball - Youth Game
TRANSP:0
DALARM:20260320T150000;PT10M;2;Practice: Fusion vs. Aces
END:VEVENT
BEGIN:VEVENT
DTSTART:20260320T180000
DTEND:20260320T190000
SUMMARY:Practice: Blaze vs. Force
DESCRIPTION:3rd-5th Grade Volleyball - Tinley Park - Park District
LOCATION:Recreation Center Court #3 (A)
CATEGORIES:QuickScores; Volleyball - Youth Game
TRANSP:0
DALARM:20260320T160000;PT10M;2;Practice: Blaze vs. Force
END:VEVENT
BEGIN:VEVENT
DTSTART:20260320T180000
DTEND:20260320T190000
SUMMARY:Practice: Eclipse vs. Express
DESCRIPTION:3rd-5th Grade Volleyball - Tinley Park - Park District
LOCATION:Recreation Center Court #3 (B)
CATEGORIES:QuickScores; Volleyball - Youth Game
TRANSP:0
DALARM:20260320T160000;PT10M;2;Practice: Eclipse vs. Express
END:VEVENT
BEGIN:VEVENT
DTSTART:20260323T170000
DTEND:20260323T180000
SUMMARY:Practice: Blaze vs. Eclipse
DESCRIPTION:3rd-5th Grade Volleyball - Tinley Park - Park District
LOCATION:Recreation Center Court #3 (B)
CATEGORIES:QuickScores; Volleyball - Youth Game
TRANSP:0
DALARM:20260323T150000;PT10M;2;Practice: Blaze vs. Eclipse
END:VEVENT
BEGIN:VEVENT
DTSTART:20260323T180000
DTEND:20260323T190000
SUMMARY:Practice: Force vs. Aces
DESCRIPTION:3rd-5th Grade Volleyball - Tinley Park - Park District
LOCATION:Recreation Center Court #3 (B)
CATEGORIES:QuickScores; Volleyball - Youth Game
TRANSP:0
DALARM:20260323T160000;PT10M;2;Practice: Force vs. Aces
END:VEVENT
BEGIN:VEVENT
DTSTART:20260323T180000
DTEND:20260323T190000
SUMMARY:Practice: Fusion vs. Express
DESCRIPTION:3rd-5th Grade Volleyball - Tinley Park - Park District
LOCATION:Recreation Center Court #3 (A)
CATEGORIES:QuickScores; Volleyball - Youth Game
TRANSP:0
DALARM:20260323T160000;PT10M;2;Practice: Fusion vs. Express
END:VEVENT
BEGIN:VEVENT
DTSTART:20260327T170000
DTEND:20260327T180000
SUMMARY:Express vs. Force
DESCRIPTION:3rd-5th Grade Volleyball - Tinley Park - Park District
LOCATION:Recreation Center Court #3 (B)
CATEGORIES:QuickScores; Volleyball - Youth Game
TRANSP:0
DALARM:20260327T150000;PT10M;2;Express vs. Force
END:VEVENT
BEGIN:VEVENT
DTSTART:20260327T180000
DTEND:20260327T190000
SUMMARY:Aces vs. Fusion
DESCRIPTION:3rd-5th Grade Volleyball - Tinley Park - Park District
LOCATION:Recreation Center Court #3 (A)
CATEGORIES:QuickScores; Volleyball - Youth Game
TRANSP:0
DALARM:20260327T160000;PT10M;2;Aces vs. Fusion
END:VEVENT
BEGIN:VEVENT
DTSTART:20260327T180000
DTEND:20260327T190000
SUMMARY:Blaze vs. Eclipse
DESCRIPTION:3rd-5th Grade Volleyball - Tinley Park - Park District
LOCATION:Recreation Center Court #3 (B)
CATEGORIES:QuickScores; Volleyball - Youth Game
TRANSP:0
DALARM:20260327T160000;PT10M;2;Blaze vs. Eclipse
END:VEVENT
BEGIN:VEVENT
DTSTART:20260330T170000
DTEND:20260330T180000
SUMMARY:Practice: Force vs. Eclipse
DESCRIPTION:3rd-5th Grade Volleyball - Tinley Park - Park District
LOCATION:Recreation Center Court #3 (B)
CATEGORIES:QuickScores; Volleyball - Youth Game
TRANSP:0
DALARM:20260330T150000;PT10M;2;Practice: Force vs. Eclipse
END:VEVENT
BEGIN:VEVENT
DTSTART:20260330T180000
DTEND:20260330T190000
SUMMARY:Practice: Express vs. Aces
DESCRIPTION:3rd-5th Grade Volleyball - Tinley Park - Park District
LOCATION:Recreation Center Court #3 (A)
CATEGORIES:QuickScores; Volleyball - Youth Game
TRANSP:0
DALARM:20260330T160000;PT10M;2;Practice: Express vs. Aces
END:VEVENT
BEGIN:VEVENT
DTSTART:20260330T180000
DTEND:20260330T190000
SUMMARY:Practice: Fusion vs. Blaze
DESCRIPTION:3rd-5th Grade Volleyball - Tinley Park - Park District
LOCATION:Recreation Center Court #3 (B)
CATEGORIES:QuickScores; Volleyball - Youth Game
TRANSP:0
DALARM:20260330T160000;PT10M;2;Practice: Fusion vs. Blaze
END:VEVENT
BEGIN:VEVENT
DTSTART:20260403T170000
DTEND:20260403T180000
SUMMARY:Express vs. Blaze
DESCRIPTION:3rd-5th Grade Volleyball - Tinley Park - Park District
LOCATION:Recreation Center Court #3 (B)
CATEGORIES:QuickScores; Volleyball - Youth Game
TRANSP:0
DALARM:20260403T150000;PT10M;2;Express vs. Blaze
END:VEVENT
BEGIN:VEVENT
DTSTART:20260403T180000
DTEND:20260403T190000
SUMMARY:Aces vs. Eclipse
DESCRIPTION:3rd-5th Grade Volleyball - Tinley Park - Park District
LOCATION:Recreation Center Court #3 (A)
CATEGORIES:QuickScores; Volleyball - Youth Game
TRANSP:0
DALARM:20260403T160000;PT10M;2;Aces vs. Eclipse
END:VEVENT
BEGIN:VEVENT
DTSTART:20260403T180000
DTEND:20260403T190000
SUMMARY:Force vs. Fusion
DESCRIPTION:3rd-5th Grade Volleyball - Tinley Park - Park District
LOCATION:Recreation Center Court #3 (B)
CATEGORIES:QuickScores; Volleyball - Youth Game
TRANSP:0
DALARM:20260403T160000;PT10M;2;Force vs. Fusion
END:VEVENT
BEGIN:VEVENT
DTSTART:20260406T170000
DTEND:20260406T180000
SUMMARY:Eclipse vs. Fusion
DESCRIPTION:3rd-5th Grade Volleyball - Tinley Park - Park District
LOCATION:Recreation Center Court #3 (B)
CATEGORIES:QuickScores; Volleyball - Youth Game
TRANSP:0
DALARM:20260406T150000;PT10M;2;Eclipse vs. Fusion
END:VEVENT
BEGIN:VEVENT
DTSTART:20260406T180000
DTEND:20260406T190000
SUMMARY:Express vs. Aces
DESCRIPTION:3rd-5th Grade Volleyball - Tinley Park - Park District
LOCATION:Recreation Center Court #3 (B)
CATEGORIES:QuickScores; Volleyball - Youth Game
TRANSP:0
DALARM:20260406T160000;PT10M;2;Express vs. Aces
END:VEVENT
BEGIN:VEVENT
DTSTART:20260406T180000
DTEND:20260406T190000
SUMMARY:Force vs. Blaze
DESCRIPTION:3rd-5th Grade Volleyball - Tinley Park - Park District
LOCATION:Recreation Center Court #3 (A)
CATEGORIES:QuickScores; Volleyball - Youth Game
TRANSP:0
DALARM:20260406T160000;PT10M;2;Force vs. Blaze
END:VEVENT
BEGIN:VEVENT
DTSTART:20260410T164500
DTEND:20260410T170000
SUMMARY:Practice: Aces vs. Blaze
DESCRIPTION:PICTURE DAY --- 3rd-5th Grade Volleyball - Tinley Park - Park District
LOCATION:TBD
CATEGORIES:QuickScores; Volleyball - Youth Game
TRANSP:0
DALARM:20260410T144500;PT10M;2;Practice: Aces vs. Blaze
END:VEVENT
BEGIN:VEVENT
DTSTART:20260410T170000
DTEND:20260410T180000
SUMMARY:Practice: Aces vs. Blaze
DESCRIPTION:3rd-5th Grade Volleyball - Tinley Park - Park District
LOCATION:Recreation Center Court #3 (B)
CATEGORIES:QuickScores; Volleyball - Youth Game
TRANSP:0
DALARM:20260410T150000;PT10M;2;Practice: Aces vs. Blaze
END:VEVENT
BEGIN:VEVENT
DTSTART:20260410T171500
DTEND:20260410T173000
SUMMARY:Practice: Express vs. Fusion
DESCRIPTION:PICTURE DAY --- 3rd-5th Grade Volleyball - Tinley Park - Park District
LOCATION:TBD
CATEGORIES:QuickScores; Volleyball - Youth Game
TRANSP:0
DALARM:20260410T151500;PT10M;2;Practice: Express vs. Fusion
END:VEVENT
BEGIN:VEVENT
DTSTART:20260410T173000
DTEND:20260410T174500
SUMMARY:Practice: Eclipse vs. Force
DESCRIPTION:PICTURE DAY --- 3rd-5th Grade Volleyball - Tinley Park - Park District
LOCATION:TBD
CATEGORIES:QuickScores; Volleyball - Youth Game
TRANSP:0
DALARM:20260410T153000;PT10M;2;Practice: Eclipse vs. Force
END:VEVENT
BEGIN:VEVENT
DTSTART:20260410T180000
DTEND:20260410T190000
SUMMARY:Practice: Express vs. Fusion
DESCRIPTION:3rd-5th Grade Volleyball - Tinley Park - Park District
LOCATION:Recreation Center Court #3 (A)
CATEGORIES:QuickScores; Volleyball - Youth Game
TRANSP:0
DALARM:20260410T160000;PT10M;2;Practice: Express vs. Fusion
END:VEVENT
BEGIN:VEVENT
DTSTART:20260410T180000
DTEND:20260410T190000
SUMMARY:Practice: Eclipse vs. Force
DESCRIPTION:3rd-5th Grade Volleyball - Tinley Park - Park District
LOCATION:Recreation Center Court #3 (B)
CATEGORIES:QuickScores; Volleyball - Youth Game
TRANSP:0
DALARM:20260410T160000;PT10M;2;Practice: Eclipse vs. Force
END:VEVENT
BEGIN:VEVENT
DTSTART:20260413T170000
DTEND:20260413T180000
SUMMARY:Force vs. Express
DESCRIPTION:3rd-5th Grade Volleyball - Tinley Park - Park District
LOCATION:Recreation Center Court #3 (B)
CATEGORIES:QuickScores; Volleyball - Youth Game
TRANSP:0
DALARM:20260413T150000;PT10M;2;Force vs. Express
END:VEVENT
BEGIN:VEVENT
DTSTART:20260413T180000
DTEND:20260413T190000
SUMMARY:Fusion vs. Aces
DESCRIPTION:3rd-5th Grade Volleyball - Tinley Park - Park District
LOCATION:Recreation Center Court #3 (A)
CATEGORIES:QuickScores; Volleyball - Youth Game
TRANSP:0
DALARM:20260413T160000;PT10M;2;Fusion vs. Aces
END:VEVENT
BEGIN:VEVENT
DTSTART:20260413T180000
DTEND:20260413T190000
SUMMARY:Eclipse vs. Blaze
DESCRIPTION:3rd-5th Grade Volleyball - Tinley Park - Park District
LOCATION:Recreation Center Court #3 (B)
CATEGORIES:QuickScores; Volleyball - Youth Game
TRANSP:0
DALARM:20260413T160000;PT10M;2;Eclipse vs. Blaze
END:VEVENT
BEGIN:VEVENT
DTSTART:20260417T170000
DTEND:20260417T180000
SUMMARY:Aces vs. Force
DESCRIPTION:3rd-5th Grade Volleyball - Tinley Park - Park District
LOCATION:Recreation Center Court #3 (B)
CATEGORIES:QuickScores; Volleyball - Youth Game
TRANSP:0
DALARM:20260417T150000;PT10M;2;Aces vs. Force
END:VEVENT
BEGIN:VEVENT
DTSTART:20260417T180000
DTEND:20260417T190000
SUMMARY:Eclipse vs. Express
DESCRIPTION:3rd-5th Grade Volleyball - Tinley Park - Park District
LOCATION:Recreation Center Court #3 (B)
CATEGORIES:QuickScores; Volleyball - Youth Game
TRANSP:0
DALARM:20260417T160000;PT10M;2;Eclipse vs. Express
END:VEVENT
BEGIN:VEVENT
DTSTART:20260417T180000
DTEND:20260417T190000
SUMMARY:Blaze vs. Fusion
DESCRIPTION:3rd-5th Grade Volleyball - Tinley Park - Park District
LOCATION:Recreation Center Court #3 (A)
CATEGORIES:QuickScores; Volleyball - Youth Game
TRANSP:0
DALARM:20260417T160000;PT10M;2;Blaze vs. Fusion
END:VEVENT
BEGIN:VEVENT
DTSTART:20260420T170000
DTEND:20260420T180000
SUMMARY:Practice: Eclipse vs. Express
DESCRIPTION:3rd-5th Grade Volleyball - Tinley Park - Park District
LOCATION:Recreation Center Court #3 (B)
CATEGORIES:QuickScores; Volleyball - Youth Game
TRANSP:0
DALARM:20260420T150000;PT10M;2;Practice: Eclipse vs. Express
END:VEVENT
BEGIN:VEVENT
DTSTART:20260420T180000
DTEND:20260420T190000
SUMMARY:Practice: Blaze vs. Aces
DESCRIPTION:3rd-5th Grade Volleyball - Tinley Park - Park District
LOCATION:Recreation Center Court #3 (A)
CATEGORIES:QuickScores; Volleyball - Youth Game
TRANSP:0
DALARM:20260420T160000;PT10M;2;Practice: Blaze vs. Aces
END:VEVENT
BEGIN:VEVENT
DTSTART:20260420T180000
DTEND:20260420T190000
SUMMARY:Practice: Fusion vs. Force
DESCRIPTION:3rd-5th Grade Volleyball - Tinley Park - Park District
LOCATION:Recreation Center Court #3 (B)
CATEGORIES:QuickScores; Volleyball - Youth Game
TRANSP:0
DALARM:20260420T160000;PT10M;2;Practice: Fusion vs. Force
END:VEVENT
BEGIN:VEVENT
DTSTART:20260424T170000
DTEND:20260424T180000
SUMMARY:Fusion vs. Eclipse
DESCRIPTION:3rd-5th Grade Volleyball - Tinley Park - Park District
LOCATION:Recreation Center Court #3 (B)
CATEGORIES:QuickScores; Volleyball - Youth Game
TRANSP:0
DALARM:20260424T150000;PT10M;2;Fusion vs. Eclipse
END:VEVENT
BEGIN:VEVENT
DTSTART:20260424T180000
DTEND:20260424T190000
SUMMARY:Express vs. Force
DESCRIPTION:3rd-5th Grade Volleyball - Tinley Park - Park District
LOCATION:Recreation Center Court #3 (A)
CATEGORIES:QuickScores; Volleyball - Youth Game
TRANSP:0
DALARM:20260424T160000;PT10M;2;Express vs. Force
END:VEVENT
BEGIN:VEVENT
DTSTART:20260424T180000
DTEND:20260424T190000
SUMMARY:Aces vs. Blaze
DESCRIPTION:3rd-5th Grade Volleyball - Tinley Park - Park District
LOCATION:Recreation Center Court #3 (B)
CATEGORIES:QuickScores; Volleyball - Youth Game
TRANSP:0
DALARM:20260424T160000;PT10M;2;Aces vs. Blaze
END:VEVENT
BEGIN:VEVENT
DTSTART:20260427T170000
DTEND:20260427T180000
SUMMARY:Practice: Fusion vs. Express
DESCRIPTION:3rd-5th Grade Volleyball - Tinley Park - Park District
LOCATION:Recreation Center Court #3 (B)
CATEGORIES:QuickScores; Volleyball - Youth Game
TRANSP:0
DALARM:20260427T150000;PT10M;2;Practice: Fusion vs. Express
END:VEVENT
BEGIN:VEVENT
DTSTART:20260427T180000
DTEND:20260427T190000
SUMMARY:Practice: Blaze vs. Aces
DESCRIPTION:3rd-5th Grade Volleyball - Tinley Park - Park District
LOCATION:Recreation Center Court #3 (A)
CATEGORIES:QuickScores; Volleyball - Youth Game
TRANSP:0
DALARM:20260427T160000;PT10M;2;Practice: Blaze vs. Aces
END:VEVENT
BEGIN:VEVENT
DTSTART:20260427T180000
DTEND:20260427T190000
SUMMARY:Practice: Force vs. Eclipse
DESCRIPTION:3rd-5th Grade Volleyball - Tinley Park - Park District
LOCATION:Recreation Center Court #3 (B)
CATEGORIES:QuickScores; Volleyball - Youth Game
TRANSP:0
DALARM:20260427T160000;PT10M;2;Practice: Force vs. Eclipse
END:VEVENT
BEGIN:VEVENT
DTSTART:20260501T170000
DTEND:20260501T180000
SUMMARY:Practice: Blaze vs. Eclipse
DESCRIPTION:3rd-5th Grade Volleyball - Tinley Park - Park District
LOCATION:Recreation Center Court #3 (B)
CATEGORIES:QuickScores; Volleyball - Youth Game
TRANSP:0
DALARM:20260501T150000;PT10M;2;Practice: Blaze vs. Eclipse
END:VEVENT
BEGIN:VEVENT
DTSTART:20260501T180000
DTEND:20260501T190000
SUMMARY:Practice: Aces vs. Fusion
DESCRIPTION:3rd-5th Grade Volleyball - Tinley Park - Park District
LOCATION:Recreation Center Court #3 (A)
CATEGORIES:QuickScores; Volleyball - Youth Game
TRANSP:0
DALARM:20260501T160000;PT10M;2;Practice: Aces vs. Fusion
END:VEVENT
BEGIN:VEVENT
DTSTART:20260501T180000
DTEND:20260501T190000
SUMMARY:Practice: Express vs. Force
DESCRIPTION:3rd-5th Grade Volleyball - Tinley Park - Park District
LOCATION:Recreation Center Court #3 (B)
CATEGORIES:QuickScores; Volleyball - Youth Game
TRANSP:0
DALARM:20260501T160000;PT10M;2;Practice: Express vs. Force
END:VEVENT
BEGIN:VEVENT
DTSTART:20260504T180000
DTEND:20260504T190000
SUMMARY:#4 Seed vs. #5 Seed
DESCRIPTION:3rd-5th Grade Volleyball - Tinley Park - Park District
LOCATION:Recreation Center Court #3 (A)
CATEGORIES:QuickScores; Volleyball - Youth Game
TRANSP:0
DALARM:20260504T160000;PT10M;2;#4 Seed vs. #5 Seed
END:VEVENT
BEGIN:VEVENT
DTSTART:20260504T180000
DTEND:20260504T190000
SUMMARY:#3 Seed vs. #6 Seed
DESCRIPTION:3rd-5th Grade Volleyball - Tinley Park - Park District
LOCATION:Recreation Center Court #3 (B)
CATEGORIES:QuickScores; Volleyball - Youth Game
TRANSP:0
DALARM:20260504T160000;PT10M;2;#3 Seed vs. #6 Seed
END:VEVENT
BEGIN:VEVENT
DTSTART:20260508T180000
DTEND:20260508T190000
SUMMARY:#2 Seed vs. Winner of Game 2
DESCRIPTION:3rd-5th Grade Volleyball - Tinley Park - Park District
LOCATION:Recreation Center Court #3 (B)
CATEGORIES:QuickScores; Volleyball - Youth Game
TRANSP:0
DALARM:20260508T160000;PT10M;2;#2 Seed vs. Winner of Game 2
END:VEVENT
BEGIN:VEVENT
DTSTART:20260508T180000
DTEND:20260508T190000
SUMMARY:#1 Seed vs. Winner of Game 1
DESCRIPTION:3rd-5th Grade Volleyball - Tinley Park - Park District
LOCATION:Recreation Center Court #3 (A)
CATEGORIES:QuickScores; Volleyball - Youth Game
TRANSP:0
DALARM:20260508T160000;PT10M;2;#1 Seed vs. Winner of Game 1
END:VEVENT
BEGIN:VEVENT
DTSTART:20260508T190000
DTEND:20260508T200000
SUMMARY:Winner of Game 3 vs. Winner of Game 4
DESCRIPTION:3rd-5th Grade Volleyball - Tinley Park - Park District
LOCATION:Recreation Center Court #3 (A)
CATEGORIES:QuickScores; Volleyball - Youth Game
TRANSP:0
DALARM:20260508T170000;PT10M;2;Winner of Game 3 vs. Winner of Game 4
END:VEVENT
END:VCALENDAR
