BEGIN:VCALENDAR
VERSION:1.0
BEGIN:VEVENT
DTSTART:20260403T182000
DTEND:20260403T192000
SUMMARY:Just 4 Fun vs. Diamond Dawgs
DESCRIPTION:Friday D - Single - 
LOCATION:Snedigar 5
CATEGORIES:QuickScores; Softball - Adult Game
TRANSP:0
DALARM:20260403T162000;PT10M;2;Just 4 Fun vs. Diamond Dawgs
END:VEVENT
BEGIN:VEVENT
DTSTART:20260403T202000
DTEND:20260403T212000
SUMMARY:Parking Lot Pimps vs. I'd Hit That
DESCRIPTION:Friday D - Single - 
LOCATION:Snedigar 6
CATEGORIES:QuickScores; Softball - Adult Game
TRANSP:0
DALARM:20260403T182000;PT10M;2;Parking Lot Pimps vs. I'd Hit That
END:VEVENT
BEGIN:VEVENT
DTSTART:20260403T212000
DTEND:20260403T222000
SUMMARY:The Swingers vs. Chuggers
DESCRIPTION:Friday D - Single - 
LOCATION:Snedigar 6
CATEGORIES:QuickScores; Softball - Adult Game
TRANSP:0
DALARM:20260403T192000;PT10M;2;The Swingers vs. Chuggers
END:VEVENT
BEGIN:VEVENT
DTSTART:20260403T212000
DTEND:20260403T222000
SUMMARY:Under Achievers vs. Misfits
DESCRIPTION:Friday D - Single - 
LOCATION:Snedigar 5
CATEGORIES:QuickScores; Softball - Adult Game
TRANSP:0
DALARM:20260403T192000;PT10M;2;Under Achievers vs. Misfits
END:VEVENT
BEGIN:VEVENT
DTSTART:20260410T182000
DTEND:20260410T192000
SUMMARY:The Swingers vs. Under Achievers
DESCRIPTION:Friday D - Single - 
LOCATION:Snedigar 5
CATEGORIES:QuickScores; Softball - Adult Game
TRANSP:0
DALARM:20260410T162000;PT10M;2;The Swingers vs. Under Achievers
END:VEVENT
BEGIN:VEVENT
DTSTART:20260410T192000
DTEND:20260410T202000
SUMMARY:Chuggers vs. The Flying Chanclas
DESCRIPTION:Friday D - Single - 
LOCATION:Snedigar 6
CATEGORIES:QuickScores; Softball - Adult Game
TRANSP:0
DALARM:20260410T172000;PT10M;2;Chuggers vs. The Flying Chanclas
END:VEVENT
BEGIN:VEVENT
DTSTART:20260410T202000
DTEND:20260410T212000
SUMMARY:Just 4 Fun vs. Fired Up
DESCRIPTION:Friday D - Single - 
LOCATION:Snedigar 6
CATEGORIES:QuickScores; Softball - Adult Game
TRANSP:0
DALARM:20260410T182000;PT10M;2;Just 4 Fun vs. Fired Up
END:VEVENT
BEGIN:VEVENT
DTSTART:20260410T212000
DTEND:20260410T222000
SUMMARY:Diamond Dawgs vs. Parking Lot Pimps
DESCRIPTION:Friday D - Single - 
LOCATION:Snedigar 6
CATEGORIES:QuickScores; Softball - Adult Game
TRANSP:0
DALARM:20260410T192000;PT10M;2;Diamond Dawgs vs. Parking Lot Pimps
END:VEVENT
BEGIN:VEVENT
DTSTART:20260417T182000
DTEND:20260417T192000
SUMMARY:Chuggers vs. Under Achievers
DESCRIPTION:Friday D - Single - 
LOCATION:Snedigar 5
CATEGORIES:QuickScores; Softball - Adult Game
TRANSP:0
DALARM:20260417T162000;PT10M;2;Chuggers vs. Under Achievers
END:VEVENT
BEGIN:VEVENT
DTSTART:20260417T192000
DTEND:20260417T202000
SUMMARY:I'd Hit That vs. The Swingers
DESCRIPTION:Friday D - Single - 
LOCATION:Snedigar 5
CATEGORIES:QuickScores; Softball - Adult Game
TRANSP:0
DALARM:20260417T172000;PT10M;2;I'd Hit That vs. The Swingers
END:VEVENT
BEGIN:VEVENT
DTSTART:20260417T202000
DTEND:20260417T212000
SUMMARY:Diamond Dawgs vs. Leave No Doubt
DESCRIPTION:Friday D - Single - 
LOCATION:Snedigar 5
CATEGORIES:QuickScores; Softball - Adult Game
TRANSP:0
DALARM:20260417T182000;PT10M;2;Diamond Dawgs vs. Leave No Doubt
END:VEVENT
BEGIN:VEVENT
DTSTART:20260417T212000
DTEND:20260417T222000
SUMMARY:Just 4 Fun vs. Parking Lot Pimps
DESCRIPTION:Just 4 Fun forfeit --- Friday D - Single - 
LOCATION:Snedigar 6
CATEGORIES:QuickScores; Softball - Adult Game
TRANSP:0
DALARM:20260417T192000;PT10M;2;Just 4 Fun vs. Parking Lot Pimps
END:VEVENT
BEGIN:VEVENT
DTSTART:20260424T182000
DTEND:20260424T192000
SUMMARY:Parking Lot Pimps vs. The Swingers
DESCRIPTION:Friday D - Single - 
LOCATION:Snedigar 5
CATEGORIES:QuickScores; Softball - Adult Game
TRANSP:0
DALARM:20260424T162000;PT10M;2;Parking Lot Pimps vs. The Swingers
END:VEVENT
BEGIN:VEVENT
DTSTART:20260424T202000
DTEND:20260424T212000
SUMMARY:Misfits vs. Chuggers
DESCRIPTION:Friday D - Single - 
LOCATION:Snedigar 6
CATEGORIES:QuickScores; Softball - Adult Game
TRANSP:0
DALARM:20260424T182000;PT10M;2;Misfits vs. Chuggers
END:VEVENT
BEGIN:VEVENT
DTSTART:20260424T212000
DTEND:20260424T222000
SUMMARY:The Flying Chanclas vs. Diamond Dawgs
DESCRIPTION:Friday D - Single - 
LOCATION:Snedigar 5
CATEGORIES:QuickScores; Softball - Adult Game
TRANSP:0
DALARM:20260424T192000;PT10M;2;The Flying Chanclas vs. Diamond Dawgs
END:VEVENT
BEGIN:VEVENT
DTSTART:20260424T212000
DTEND:20260424T222000
SUMMARY:Under Achievers vs. Just 4 Fun
DESCRIPTION:Friday D - Single - 
LOCATION:Snedigar 6
CATEGORIES:QuickScores; Softball - Adult Game
TRANSP:0
DALARM:20260424T192000;PT10M;2;Under Achievers vs. Just 4 Fun
END:VEVENT
BEGIN:VEVENT
DTSTART:20260501T182000
DTEND:20260501T192000
SUMMARY:Chuggers vs. Diamond Dawgs
DESCRIPTION:Friday D - Single - 
LOCATION:Snedigar 5
CATEGORIES:QuickScores; Softball - Adult Game
TRANSP:0
DALARM:20260501T162000;PT10M;2;Chuggers vs. Diamond Dawgs
END:VEVENT
BEGIN:VEVENT
DTSTART:20260501T182000
DTEND:20260501T192000
SUMMARY:Leave No Doubt vs. Just 4 Fun
DESCRIPTION:Friday D - Single - 
LOCATION:Snedigar 6
CATEGORIES:QuickScores; Softball - Adult Game
TRANSP:0
DALARM:20260501T162000;PT10M;2;Leave No Doubt vs. Just 4 Fun
END:VEVENT
BEGIN:VEVENT
DTSTART:20260501T192000
DTEND:20260501T202000
SUMMARY:Fired Up vs. The Swingers
DESCRIPTION:Friday D - Single - 
LOCATION:Snedigar 5
CATEGORIES:QuickScores; Softball - Adult Game
TRANSP:0
DALARM:20260501T172000;PT10M;2;Fired Up vs. The Swingers
END:VEVENT
BEGIN:VEVENT
DTSTART:20260501T212000
DTEND:20260501T222000
SUMMARY:Parking Lot Pimps vs. Under Achievers
DESCRIPTION:Friday D - Single - 
LOCATION:Snedigar 6
CATEGORIES:QuickScores; Softball - Adult Game
TRANSP:0
DALARM:20260501T192000;PT10M;2;Parking Lot Pimps vs. Under Achievers
END:VEVENT
BEGIN:VEVENT
DTSTART:20260508T182000
DTEND:20260508T192000
SUMMARY:Just 4 Fun vs. Chuggers
DESCRIPTION:Friday D - Single - 
LOCATION:Snedigar 5
CATEGORIES:QuickScores; Softball - Adult Game
TRANSP:0
DALARM:20260508T162000;PT10M;2;Just 4 Fun vs. Chuggers
END:VEVENT
BEGIN:VEVENT
DTSTART:20260508T192000
DTEND:20260508T202000
SUMMARY:Misfits vs. Parking Lot Pimps
DESCRIPTION:Friday D - Single - 
LOCATION:Snedigar 5
CATEGORIES:QuickScores; Softball - Adult Game
TRANSP:0
DALARM:20260508T172000;PT10M;2;Misfits vs. Parking Lot Pimps
END:VEVENT
BEGIN:VEVENT
DTSTART:20260508T202000
DTEND:20260508T212000
SUMMARY:I'd Hit That vs. Under Achievers
DESCRIPTION:Friday D - Single - 
LOCATION:Snedigar 5
CATEGORIES:QuickScores; Softball - Adult Game
TRANSP:0
DALARM:20260508T182000;PT10M;2;I'd Hit That vs. Under Achievers
END:VEVENT
BEGIN:VEVENT
DTSTART:20260508T212000
DTEND:20260508T222000
SUMMARY:Diamond Dawgs vs. The Swingers
DESCRIPTION:Friday D - Single - 
LOCATION:Snedigar 6
CATEGORIES:QuickScores; Softball - Adult Game
TRANSP:0
DALARM:20260508T192000;PT10M;2;Diamond Dawgs vs. The Swingers
END:VEVENT
BEGIN:VEVENT
DTSTART:20260515T182000
DTEND:20260515T192000
SUMMARY:Chuggers vs. Parking Lot Pimps
DESCRIPTION:Friday D - Single - 
LOCATION:Snedigar 5
CATEGORIES:QuickScores; Softball - Adult Game
TRANSP:0
DALARM:20260515T162000;PT10M;2;Chuggers vs. Parking Lot Pimps
END:VEVENT
BEGIN:VEVENT
DTSTART:20260515T192000
DTEND:20260515T202000
SUMMARY:Under Achievers vs. Diamond Dawgs
DESCRIPTION:Friday D - Single - 
LOCATION:Snedigar 5
CATEGORIES:QuickScores; Softball - Adult Game
TRANSP:0
DALARM:20260515T172000;PT10M;2;Under Achievers vs. Diamond Dawgs
END:VEVENT
BEGIN:VEVENT
DTSTART:20260515T212000
DTEND:20260515T222000
SUMMARY:The Swingers vs. Just 4 Fun
DESCRIPTION:Friday D - Single - 
LOCATION:Snedigar 6
CATEGORIES:QuickScores; Softball - Adult Game
TRANSP:0
DALARM:20260515T192000;PT10M;2;The Swingers vs. Just 4 Fun
END:VEVENT
END:VCALENDAR
