BEGIN:VCALENDAR
VERSION:1.0
BEGIN:VEVENT
DTSTART:20260329T170000
DTEND:20260329T180000
SUMMARY:Mambas vs. Sons of Bees
DESCRIPTION:Sunday - D Tumbleweed - 
LOCATION:Tumbleweed Recreation Center
CATEGORIES:QuickScores; Basketball - Adult Game
TRANSP:0
DALARM:20260329T150000;PT10M;2;Mambas vs. Sons of Bees
END:VEVENT
BEGIN:VEVENT
DTSTART:20260329T180000
DTEND:20260329T190000
SUMMARY:Ball Don't Lie vs. Dry Heat Hoopers
DESCRIPTION:Sunday - D Tumbleweed - 
LOCATION:Tumbleweed Recreation Center
CATEGORIES:QuickScores; Basketball - Adult Game
TRANSP:0
DALARM:20260329T160000;PT10M;2;Ball Don't Lie vs. Dry Heat Hoopers
END:VEVENT
BEGIN:VEVENT
DTSTART:20260329T190000
DTEND:20260329T200000
SUMMARY:Chill Guyz vs. The Rotatorz
DESCRIPTION:Sunday - D Tumbleweed - 
LOCATION:Tumbleweed Recreation Center
CATEGORIES:QuickScores; Basketball - Adult Game
TRANSP:0
DALARM:20260329T170000;PT10M;2;Chill Guyz vs. The Rotatorz
END:VEVENT
BEGIN:VEVENT
DTSTART:20260329T200000
DTEND:20260329T210000
SUMMARY:Supersonics vs. Pippen Ain't Easy
DESCRIPTION:Sunday - D Tumbleweed - 
LOCATION:Tumbleweed Recreation Center
CATEGORIES:QuickScores; Basketball - Adult Game
TRANSP:0
DALARM:20260329T180000;PT10M;2;Supersonics vs. Pippen Ain't Easy
END:VEVENT
BEGIN:VEVENT
DTSTART:20260329T210000
DTEND:20260329T220000
SUMMARY:Goonies vs. San Tan Rejects
DESCRIPTION:Sunday - D Tumbleweed - 
LOCATION:Tumbleweed Recreation Center
CATEGORIES:QuickScores; Basketball - Adult Game
TRANSP:0
DALARM:20260329T190000;PT10M;2;Goonies vs. San Tan Rejects
END:VEVENT
BEGIN:VEVENT
DTSTART:20260412T170000
DTEND:20260412T180000
SUMMARY:Supersonics vs. Mambas
DESCRIPTION:Sunday - D Tumbleweed - 
LOCATION:Tumbleweed Recreation Center
CATEGORIES:QuickScores; Basketball - Adult Game
TRANSP:0
DALARM:20260412T150000;PT10M;2;Supersonics vs. Mambas
END:VEVENT
BEGIN:VEVENT
DTSTART:20260412T180000
DTEND:20260412T190000
SUMMARY:San Tan Rejects vs. The Rotatorz
DESCRIPTION:Sunday - D Tumbleweed - 
LOCATION:Tumbleweed Recreation Center
CATEGORIES:QuickScores; Basketball - Adult Game
TRANSP:0
DALARM:20260412T160000;PT10M;2;San Tan Rejects vs. The Rotatorz
END:VEVENT
BEGIN:VEVENT
DTSTART:20260412T190000
DTEND:20260412T200000
SUMMARY:Goonies vs. Ball Don't Lie
DESCRIPTION:Sunday - D Tumbleweed - 
LOCATION:Tumbleweed Recreation Center
CATEGORIES:QuickScores; Basketball - Adult Game
TRANSP:0
DALARM:20260412T170000;PT10M;2;Goonies vs. Ball Don't Lie
END:VEVENT
BEGIN:VEVENT
DTSTART:20260412T200000
DTEND:20260412T210000
SUMMARY:Pippen Ain't Easy vs. Sons of Bees
DESCRIPTION:Sunday - D Tumbleweed - 
LOCATION:Tumbleweed Recreation Center
CATEGORIES:QuickScores; Basketball - Adult Game
TRANSP:0
DALARM:20260412T180000;PT10M;2;Pippen Ain't Easy vs. Sons of Bees
END:VEVENT
BEGIN:VEVENT
DTSTART:20260412T210000
DTEND:20260412T220000
SUMMARY:Chill Guyz vs. Dry Heat Hoopers
DESCRIPTION:Sunday - D Tumbleweed - 
LOCATION:Tumbleweed Recreation Center
CATEGORIES:QuickScores; Basketball - Adult Game
TRANSP:0
DALARM:20260412T190000;PT10M;2;Chill Guyz vs. Dry Heat Hoopers
END:VEVENT
BEGIN:VEVENT
DTSTART:20260419T170000
DTEND:20260419T180000
SUMMARY:Mambas vs. San Tan Rejects
DESCRIPTION:Sunday - D Tumbleweed - 
LOCATION:Tumbleweed Recreation Center
CATEGORIES:QuickScores; Basketball - Adult Game
TRANSP:0
DALARM:20260419T150000;PT10M;2;Mambas vs. San Tan Rejects
END:VEVENT
BEGIN:VEVENT
DTSTART:20260419T180000
DTEND:20260419T190000
SUMMARY:Sons of Bees vs. Chill Guyz
DESCRIPTION:Sunday - D Tumbleweed - 
LOCATION:Tumbleweed Recreation Center
CATEGORIES:QuickScores; Basketball - Adult Game
TRANSP:0
DALARM:20260419T160000;PT10M;2;Sons of Bees vs. Chill Guyz
END:VEVENT
BEGIN:VEVENT
DTSTART:20260419T190000
DTEND:20260419T200000
SUMMARY:Ball Don't Lie vs. Supersonics
DESCRIPTION:Sunday - D Tumbleweed - 
LOCATION:Tumbleweed Recreation Center
CATEGORIES:QuickScores; Basketball - Adult Game
TRANSP:0
DALARM:20260419T170000;PT10M;2;Ball Don't Lie vs. Supersonics
END:VEVENT
BEGIN:VEVENT
DTSTART:20260419T200000
DTEND:20260419T210000
SUMMARY:Dry Heat Hoopers vs. Goonies
DESCRIPTION:Sunday - D Tumbleweed - 
LOCATION:Tumbleweed Recreation Center
CATEGORIES:QuickScores; Basketball - Adult Game
TRANSP:0
DALARM:20260419T180000;PT10M;2;Dry Heat Hoopers vs. Goonies
END:VEVENT
BEGIN:VEVENT
DTSTART:20260419T210000
DTEND:20260419T220000
SUMMARY:The Rotatorz vs. Pippen Ain't Easy
DESCRIPTION:Sunday - D Tumbleweed - 
LOCATION:Tumbleweed Recreation Center
CATEGORIES:QuickScores; Basketball - Adult Game
TRANSP:0
DALARM:20260419T190000;PT10M;2;The Rotatorz vs. Pippen Ain't Easy
END:VEVENT
BEGIN:VEVENT
DTSTART:20260426T170000
DTEND:20260426T180000
SUMMARY:Mambas vs. Ball Don't Lie
DESCRIPTION:Sunday - D Tumbleweed - 
LOCATION:Tumbleweed Recreation Center
CATEGORIES:QuickScores; Basketball - Adult Game
TRANSP:0
DALARM:20260426T150000;PT10M;2;Mambas vs. Ball Don't Lie
END:VEVENT
BEGIN:VEVENT
DTSTART:20260426T180000
DTEND:20260426T190000
SUMMARY:Pippen Ain't Easy vs. Goonies
DESCRIPTION:Sunday - D Tumbleweed - 
LOCATION:Tumbleweed Recreation Center
CATEGORIES:QuickScores; Basketball - Adult Game
TRANSP:0
DALARM:20260426T160000;PT10M;2;Pippen Ain't Easy vs. Goonies
END:VEVENT
BEGIN:VEVENT
DTSTART:20260426T190000
DTEND:20260426T200000
SUMMARY:Sons of Bees vs. San Tan Rejects
DESCRIPTION:Sunday - D Tumbleweed - 
LOCATION:Tumbleweed Recreation Center
CATEGORIES:QuickScores; Basketball - Adult Game
TRANSP:0
DALARM:20260426T170000;PT10M;2;Sons of Bees vs. San Tan Rejects
END:VEVENT
BEGIN:VEVENT
DTSTART:20260426T200000
DTEND:20260426T210000
SUMMARY:The Rotatorz vs. Dry Heat Hoopers
DESCRIPTION:Sunday - D Tumbleweed - 
LOCATION:Tumbleweed Recreation Center
CATEGORIES:QuickScores; Basketball - Adult Game
TRANSP:0
DALARM:20260426T180000;PT10M;2;The Rotatorz vs. Dry Heat Hoopers
END:VEVENT
BEGIN:VEVENT
DTSTART:20260426T210000
DTEND:20260426T220000
SUMMARY:Supersonics vs. Chill Guyz
DESCRIPTION:Sunday - D Tumbleweed - 
LOCATION:Tumbleweed Recreation Center
CATEGORIES:QuickScores; Basketball - Adult Game
TRANSP:0
DALARM:20260426T190000;PT10M;2;Supersonics vs. Chill Guyz
END:VEVENT
BEGIN:VEVENT
DTSTART:20260503T170000
DTEND:20260503T180000
SUMMARY:Dry Heat Hoopers vs. Mambas
DESCRIPTION:Sunday - D Tumbleweed - 
LOCATION:Tumbleweed Recreation Center
CATEGORIES:QuickScores; Basketball - Adult Game
TRANSP:0
DALARM:20260503T150000;PT10M;2;Dry Heat Hoopers vs. Mambas
END:VEVENT
BEGIN:VEVENT
DTSTART:20260503T180000
DTEND:20260503T190000
SUMMARY:The Rotatorz vs. Sons of Bees
DESCRIPTION:Sunday - D Tumbleweed - 
LOCATION:Tumbleweed Recreation Center
CATEGORIES:QuickScores; Basketball - Adult Game
TRANSP:0
DALARM:20260503T160000;PT10M;2;The Rotatorz vs. Sons of Bees
END:VEVENT
BEGIN:VEVENT
DTSTART:20260503T190000
DTEND:20260503T200000
SUMMARY:Supersonics vs. Goonies
DESCRIPTION:Sunday - D Tumbleweed - 
LOCATION:Tumbleweed Recreation Center
CATEGORIES:QuickScores; Basketball - Adult Game
TRANSP:0
DALARM:20260503T170000;PT10M;2;Supersonics vs. Goonies
END:VEVENT
BEGIN:VEVENT
DTSTART:20260503T200000
DTEND:20260503T210000
SUMMARY:San Tan Rejects vs. Chill Guyz
DESCRIPTION:Sunday - D Tumbleweed - 
LOCATION:Tumbleweed Recreation Center
CATEGORIES:QuickScores; Basketball - Adult Game
TRANSP:0
DALARM:20260503T180000;PT10M;2;San Tan Rejects vs. Chill Guyz
END:VEVENT
BEGIN:VEVENT
DTSTART:20260503T210000
DTEND:20260503T220000
SUMMARY:Pippen Ain't Easy vs. Ball Don't Lie
DESCRIPTION:Sunday - D Tumbleweed - 
LOCATION:Tumbleweed Recreation Center
CATEGORIES:QuickScores; Basketball - Adult Game
TRANSP:0
DALARM:20260503T190000;PT10M;2;Pippen Ain't Easy vs. Ball Don't Lie
END:VEVENT
BEGIN:VEVENT
DTSTART:20260517T170000
DTEND:20260517T180000
SUMMARY:Goonies vs. Mambas
DESCRIPTION:Sunday - D Tumbleweed - 
LOCATION:Tumbleweed Recreation Center
CATEGORIES:QuickScores; Basketball - Adult Game
TRANSP:0
DALARM:20260517T150000;PT10M;2;Goonies vs. Mambas
END:VEVENT
BEGIN:VEVENT
DTSTART:20260517T180000
DTEND:20260517T190000
SUMMARY:San Tan Rejects vs. Pippen Ain't Easy
DESCRIPTION:Sunday - D Tumbleweed - 
LOCATION:Tumbleweed Recreation Center
CATEGORIES:QuickScores; Basketball - Adult Game
TRANSP:0
DALARM:20260517T160000;PT10M;2;San Tan Rejects vs. Pippen Ain't Easy
END:VEVENT
BEGIN:VEVENT
DTSTART:20260517T190000
DTEND:20260517T200000
SUMMARY:Sons of Bees vs. Dry Heat Hoopers
DESCRIPTION:Sunday - D Tumbleweed - 
LOCATION:Tumbleweed Recreation Center
CATEGORIES:QuickScores; Basketball - Adult Game
TRANSP:0
DALARM:20260517T170000;PT10M;2;Sons of Bees vs. Dry Heat Hoopers
END:VEVENT
BEGIN:VEVENT
DTSTART:20260517T200000
DTEND:20260517T210000
SUMMARY:Chill Guyz vs. Ball Don't Lie
DESCRIPTION:Sunday - D Tumbleweed - 
LOCATION:Tumbleweed Recreation Center
CATEGORIES:QuickScores; Basketball - Adult Game
TRANSP:0
DALARM:20260517T180000;PT10M;2;Chill Guyz vs. Ball Don't Lie
END:VEVENT
BEGIN:VEVENT
DTSTART:20260517T210000
DTEND:20260517T220000
SUMMARY:The Rotatorz vs. Supersonics
DESCRIPTION:Sunday - D Tumbleweed - 
LOCATION:Tumbleweed Recreation Center
CATEGORIES:QuickScores; Basketball - Adult Game
TRANSP:0
DALARM:20260517T190000;PT10M;2;The Rotatorz vs. Supersonics
END:VEVENT
BEGIN:VEVENT
DTSTART:20260531T170000
DTEND:20260531T180000
SUMMARY:Mambas vs. The Rotatorz
DESCRIPTION:Sunday - D Tumbleweed - 
LOCATION:Tumbleweed Recreation Center
CATEGORIES:QuickScores; Basketball - Adult Game
TRANSP:0
DALARM:20260531T150000;PT10M;2;Mambas vs. The Rotatorz
END:VEVENT
BEGIN:VEVENT
DTSTART:20260531T180000
DTEND:20260531T190000
SUMMARY:Dry Heat Hoopers vs. Supersonics
DESCRIPTION:Sunday - D Tumbleweed - 
LOCATION:Tumbleweed Recreation Center
CATEGORIES:QuickScores; Basketball - Adult Game
TRANSP:0
DALARM:20260531T160000;PT10M;2;Dry Heat Hoopers vs. Supersonics
END:VEVENT
BEGIN:VEVENT
DTSTART:20260531T190000
DTEND:20260531T200000
SUMMARY:Chill Guyz vs. Pippen Ain't Easy
DESCRIPTION:Sunday - D Tumbleweed - 
LOCATION:Tumbleweed Recreation Center
CATEGORIES:QuickScores; Basketball - Adult Game
TRANSP:0
DALARM:20260531T170000;PT10M;2;Chill Guyz vs. Pippen Ain't Easy
END:VEVENT
BEGIN:VEVENT
DTSTART:20260531T200000
DTEND:20260531T210000
SUMMARY:Ball Don't Lie vs. San Tan Rejects
DESCRIPTION:Sunday - D Tumbleweed - 
LOCATION:Tumbleweed Recreation Center
CATEGORIES:QuickScores; Basketball - Adult Game
TRANSP:0
DALARM:20260531T180000;PT10M;2;Ball Don't Lie vs. San Tan Rejects
END:VEVENT
BEGIN:VEVENT
DTSTART:20260531T210000
DTEND:20260531T220000
SUMMARY:Goonies vs. Sons of Bees
DESCRIPTION:Sunday - D Tumbleweed - 
LOCATION:Tumbleweed Recreation Center
CATEGORIES:QuickScores; Basketball - Adult Game
TRANSP:0
DALARM:20260531T190000;PT10M;2;Goonies vs. Sons of Bees
END:VEVENT
END:VCALENDAR
