BEGIN:VCALENDAR
VERSION:1.0
BEGIN:VEVENT
DTSTART:20260324T180000
DTEND:20260324T190000
SUMMARY:WHITEWRIGHT DOUGLAS vs. TOM  BEAN YOUNG
DESCRIPTION:10U PRESEASON - <br><br><br>Red River Sports Association
LOCATION:HOWE NORTH
CATEGORIES:QuickScores; Softball - Fastpitch Game
TRANSP:0
DALARM:20260324T160000;PT10M;2;WHITEWRIGHT DOUGLAS vs. TOM  BEAN YOUNG
END:VEVENT
BEGIN:VEVENT
DTSTART:20260324T180000
DTEND:20260324T190000
SUMMARY:POTTSBORO WILBURN vs. TRENTON YONKIN
DESCRIPTION:10U PRESEASON - <br><br><br>Red River Sports Association
LOCATION:HOWE SOUTH
CATEGORIES:QuickScores; Softball - Fastpitch Game
TRANSP:0
DALARM:20260324T160000;PT10M;2;POTTSBORO WILBURN vs. TRENTON YONKIN
END:VEVENT
BEGIN:VEVENT
DTSTART:20260324T190000
DTEND:20260324T200000
SUMMARY:COLLINSVILLE BATES vs. WHITEWRIGHT SELMAN
DESCRIPTION:10U PRESEASON - <br><br><br>Red River Sports Association
LOCATION:HOWE NORTH
CATEGORIES:QuickScores; Softball - Fastpitch Game
TRANSP:0
DALARM:20260324T170000;PT10M;2;COLLINSVILLE BATES vs. WHITEWRIGHT SELMAN
END:VEVENT
BEGIN:VEVENT
DTSTART:20260324T190000
DTEND:20260324T200000
SUMMARY:TRENTON ALLISON vs. POTTSBORO PERDUE
DESCRIPTION:10U PRESEASON - <br><br><br>Red River Sports Association
LOCATION:HOWE SOUTH
CATEGORIES:QuickScores; Softball - Fastpitch Game
TRANSP:0
DALARM:20260324T170000;PT10M;2;TRENTON ALLISON vs. POTTSBORO PERDUE
END:VEVENT
BEGIN:VEVENT
DTSTART:20260324T200000
DTEND:20260324T210000
SUMMARY:LEONARD PEACH vs. BELLS MCCAIN
DESCRIPTION:10U PRESEASON - <br><br><br>Red River Sports Association
LOCATION:HOWE NORTH
CATEGORIES:QuickScores; Softball - Fastpitch Game
TRANSP:0
DALARM:20260324T180000;PT10M;2;LEONARD PEACH vs. BELLS MCCAIN
END:VEVENT
BEGIN:VEVENT
DTSTART:20260324T200000
DTEND:20260324T210000
SUMMARY:COLLINSVILLE SCHROEDER vs. HOWE PRITCHARD
DESCRIPTION:10U PRESEASON - <br><br><br>Red River Sports Association
LOCATION:HOWE SOUTH
CATEGORIES:QuickScores; Softball - Fastpitch Game
TRANSP:0
DALARM:20260324T180000;PT10M;2;COLLINSVILLE SCHROEDER vs. HOWE PRITCHARD
END:VEVENT
BEGIN:VEVENT
DTSTART:20260325T180000
DTEND:20260325T190000
SUMMARY:POTTSBORO WILBURN vs. COLLINSVILLE BATES
DESCRIPTION:10U PRESEASON - <br><br><br>Red River Sports Association
LOCATION:HOWE SOUTH
CATEGORIES:QuickScores; Softball - Fastpitch Game
TRANSP:0
DALARM:20260325T160000;PT10M;2;POTTSBORO WILBURN vs. COLLINSVILLE BATES
END:VEVENT
BEGIN:VEVENT
DTSTART:20260325T180000
DTEND:20260325T190000
SUMMARY:WHITEWRIGHT DOUGLAS vs. LEONARD WREN
DESCRIPTION:10U PRESEASON - <br><br><br>Red River Sports Association
LOCATION:HOWE NORTH
CATEGORIES:QuickScores; Softball - Fastpitch Game
TRANSP:0
DALARM:20260325T160000;PT10M;2;WHITEWRIGHT DOUGLAS vs. LEONARD WREN
END:VEVENT
BEGIN:VEVENT
DTSTART:20260325T190000
DTEND:20260325T200000
SUMMARY:POTTSBORO PERDUE vs. BELLS MCCAIN
DESCRIPTION:10U PRESEASON - <br><br><br>Red River Sports Association
LOCATION:HOWE NORTH
CATEGORIES:QuickScores; Softball - Fastpitch Game
TRANSP:0
DALARM:20260325T170000;PT10M;2;POTTSBORO PERDUE vs. BELLS MCCAIN
END:VEVENT
BEGIN:VEVENT
DTSTART:20260325T190000
DTEND:20260325T200000
SUMMARY:COLLINSVILLE SCHROEDER vs. VAN ALSTYNE FUNK
DESCRIPTION:10U PRESEASON - <br><br><br>Red River Sports Association
LOCATION:HOWE SOUTH
CATEGORIES:QuickScores; Softball - Fastpitch Game
TRANSP:0
DALARM:20260325T170000;PT10M;2;COLLINSVILLE SCHROEDER vs. VAN ALSTYNE FUNK
END:VEVENT
BEGIN:VEVENT
DTSTART:20260325T200000
DTEND:20260325T210000
SUMMARY:TRENTON ALLISON vs. LEONARD PEACH
DESCRIPTION:10U PRESEASON - <br><br><br>Red River Sports Association
LOCATION:HOWE NORTH
CATEGORIES:QuickScores; Softball - Fastpitch Game
TRANSP:0
DALARM:20260325T180000;PT10M;2;TRENTON ALLISON vs. LEONARD PEACH
END:VEVENT
BEGIN:VEVENT
DTSTART:20260325T200000
DTEND:20260325T210000
SUMMARY:TRENTON YONKIN vs. WHITEWRIGHT SELMAN
DESCRIPTION:10U PRESEASON - <br><br><br>Red River Sports Association
LOCATION:HOWE SOUTH
CATEGORIES:QuickScores; Softball - Fastpitch Game
TRANSP:0
DALARM:20260325T180000;PT10M;2;TRENTON YONKIN vs. WHITEWRIGHT SELMAN
END:VEVENT
BEGIN:VEVENT
DTSTART:20260326T180000
DTEND:20260326T190000
SUMMARY:TOM  BEAN YOUNG vs. POTTSBORO PERDUE
DESCRIPTION:10U PRESEASON - <br><br><br>Red River Sports Association
LOCATION:HOWE SOUTH
CATEGORIES:QuickScores; Softball - Fastpitch Game
TRANSP:0
DALARM:20260326T160000;PT10M;2;TOM  BEAN YOUNG vs. POTTSBORO PERDUE
END:VEVENT
BEGIN:VEVENT
DTSTART:20260326T180000
DTEND:20260326T190000
SUMMARY:HOWE PRITCHARD vs. POTTSBORO WILBURN
DESCRIPTION:10U PRESEASON - <br><br><br>Red River Sports Association
LOCATION:HOWE NORTH
CATEGORIES:QuickScores; Softball - Fastpitch Game
TRANSP:0
DALARM:20260326T160000;PT10M;2;HOWE PRITCHARD vs. POTTSBORO WILBURN
END:VEVENT
BEGIN:VEVENT
DTSTART:20260326T190000
DTEND:20260326T200000
SUMMARY:LEONARD WREN vs. TRENTON ALLISON
DESCRIPTION:10U PRESEASON - <br><br><br>Red River Sports Association
LOCATION:HOWE NORTH
CATEGORIES:QuickScores; Softball - Fastpitch Game
TRANSP:0
DALARM:20260326T170000;PT10M;2;LEONARD WREN vs. TRENTON ALLISON
END:VEVENT
BEGIN:VEVENT
DTSTART:20260326T190000
DTEND:20260326T200000
SUMMARY:VAN ALSTYNE FUNK vs. WHITEWRIGHT SELMAN
DESCRIPTION:10U PRESEASON - <br><br><br>Red River Sports Association
LOCATION:HOWE SOUTH
CATEGORIES:QuickScores; Softball - Fastpitch Game
TRANSP:0
DALARM:20260326T170000;PT10M;2;VAN ALSTYNE FUNK vs. WHITEWRIGHT SELMAN
END:VEVENT
BEGIN:VEVENT
DTSTART:20260326T200000
DTEND:20260326T210000
SUMMARY:WHITEWRIGHT DOUGLAS vs. COLLINSVILLE BATES
DESCRIPTION:10U PRESEASON - <br><br><br>Red River Sports Association
LOCATION:HOWE NORTH
CATEGORIES:QuickScores; Softball - Fastpitch Game
TRANSP:0
DALARM:20260326T180000;PT10M;2;WHITEWRIGHT DOUGLAS vs. COLLINSVILLE BATES
END:VEVENT
BEGIN:VEVENT
DTSTART:20260326T200000
DTEND:20260326T210000
SUMMARY:BELLS MCCAIN vs. COLLINSVILLE SCHROEDER
DESCRIPTION:10U PRESEASON - <br><br><br>Red River Sports Association
LOCATION:HOWE SOUTH
CATEGORIES:QuickScores; Softball - Fastpitch Game
TRANSP:0
DALARM:20260326T180000;PT10M;2;BELLS MCCAIN vs. COLLINSVILLE SCHROEDER
END:VEVENT
BEGIN:VEVENT
DTSTART:20260327T180000
DTEND:20260327T190000
SUMMARY:TRENTON ALLISON vs. POTTSBORO WILBURN
DESCRIPTION:10U PRESEASON - <br><br><br>Red River Sports Association
LOCATION:HOWE NORTH
CATEGORIES:QuickScores; Softball - Fastpitch Game
TRANSP:0
DALARM:20260327T160000;PT10M;2;TRENTON ALLISON vs. POTTSBORO WILBURN
END:VEVENT
BEGIN:VEVENT
DTSTART:20260327T180000
DTEND:20260327T190000
SUMMARY:POTTSBORO PERDUE vs. WHITEWRIGHT SELMAN
DESCRIPTION:10U PRESEASON - <br><br><br>Red River Sports Association
LOCATION:HOWE SOUTH
CATEGORIES:QuickScores; Softball - Fastpitch Game
TRANSP:0
DALARM:20260327T160000;PT10M;2;POTTSBORO PERDUE vs. WHITEWRIGHT SELMAN
END:VEVENT
BEGIN:VEVENT
DTSTART:20260327T190000
DTEND:20260327T200000
SUMMARY:WHITEWRIGHT SELMAN vs. WHITEWRIGHT DOUGLAS
DESCRIPTION:10U PRESEASON - <br><br><br>Red River Sports Association
LOCATION:HOWE SOUTH
CATEGORIES:QuickScores; Softball - Fastpitch Game
TRANSP:0
DALARM:20260327T170000;PT10M;2;WHITEWRIGHT SELMAN vs. WHITEWRIGHT DOUGLAS
END:VEVENT
BEGIN:VEVENT
DTSTART:20260327T190000
DTEND:20260327T200000
SUMMARY:BELLS MCCAIN vs. POTTSBORO WILBURN
DESCRIPTION:10U PRESEASON - <br><br><br>Red River Sports Association
LOCATION:HOWE NORTH
CATEGORIES:QuickScores; Softball - Fastpitch Game
TRANSP:0
DALARM:20260327T170000;PT10M;2;BELLS MCCAIN vs. POTTSBORO WILBURN
END:VEVENT
BEGIN:VEVENT
DTSTART:20260327T200000
DTEND:20260327T210000
SUMMARY:COLLINSVILLE BATES vs. COLLINSVILLE SCHROEDER
DESCRIPTION:10U PRESEASON - <br><br><br>Red River Sports Association
LOCATION:HOWE SOUTH
CATEGORIES:QuickScores; Softball - Fastpitch Game
TRANSP:0
DALARM:20260327T180000;PT10M;2;COLLINSVILLE BATES vs. COLLINSVILLE SCHROEDER
END:VEVENT
BEGIN:VEVENT
DTSTART:20260327T200000
DTEND:20260327T210000
SUMMARY:BELLS MCCAIN vs. WHITEWRIGHT DOUGLAS
DESCRIPTION:10U PRESEASON - <br><br><br>Red River Sports Association
LOCATION:HOWE NORTH
CATEGORIES:QuickScores; Softball - Fastpitch Game
TRANSP:0
DALARM:20260327T180000;PT10M;2;BELLS MCCAIN vs. WHITEWRIGHT DOUGLAS
END:VEVENT
BEGIN:VEVENT
DTSTART:20260328T100000
DTEND:20260328T110000
SUMMARY:COLLINSVILLE SCHROEDER vs. BELLS MCCAIN
DESCRIPTION:10U PRESEASON - <br><br><br>Red River Sports Association
LOCATION:HOWE NORTH
CATEGORIES:QuickScores; Softball - Fastpitch Game
TRANSP:0
DALARM:20260328T080000;PT10M;2;COLLINSVILLE SCHROEDER vs. BELLS MCCAIN
END:VEVENT
BEGIN:VEVENT
DTSTART:20260328T110000
DTEND:20260328T120000
SUMMARY:COLLINSVILLE BATES vs. Winner of Game 25
DESCRIPTION:10U PRESEASON - <br><br><br>Red River Sports Association
LOCATION:HOWE NORTH
CATEGORIES:QuickScores; Softball - Fastpitch Game
TRANSP:0
DALARM:20260328T090000;PT10M;2;COLLINSVILLE BATES vs. Winner of Game 25
END:VEVENT
BEGIN:VEVENT
DTSTART:20260328T120000
DTEND:20260328T130000
SUMMARY:Winner of Game 26 vs. Loser of Game 26
DESCRIPTION:10U PRESEASON - <br><br><br>Red River Sports Association
LOCATION:HOWE NORTH
CATEGORIES:QuickScores; Softball - Fastpitch Game
TRANSP:0
DALARM:20260328T100000;PT10M;2;Winner of Game 26 vs. Loser of Game 26
END:VEVENT
END:VCALENDAR
