BEGIN:VCALENDAR
VERSION:1.0
BEGIN:VEVENT
DTSTART:20260306T190000
DTEND:20260306T200000
SUMMARY:[ 3 ] Bloomingdale - Corso vs. [ 6 ] Lombard - Valkyries
DESCRIPTION:Gold Bracket (7/8G) - Carol Stream Park District
LOCATION:Bloomingdale - Johnston Recreation Center
CATEGORIES:QuickScores; Basketball - Youth Game
TRANSP:0
DALARM:20260306T170000;PT10M;2;[ 3 ] Bloomingdale - Corso vs. [ 6 ] Lombard - Valkyries
END:VEVENT
BEGIN:VEVENT
DTSTART:20260307T170000
DTEND:20260307T180000
SUMMARY:[ 4 ] Bville Sky vs. [ 5 ] Glendale Heights
DESCRIPTION:Gold Bracket (7/8G) - Carol Stream Park District
LOCATION:Bensenville Park District
CATEGORIES:QuickScores; Basketball - Youth Game
TRANSP:0
DALARM:20260307T150000;PT10M;2;[ 4 ] Bville Sky vs. [ 5 ] Glendale Heights
END:VEVENT
BEGIN:VEVENT
DTSTART:20260314T113000
DTEND:20260314T123000
SUMMARY:[ 1 ] Carol Stream - Aces vs. [ 4 ] Bville Sky
DESCRIPTION:Gold Bracket (7/8G) - Carol Stream Park District
LOCATION:Fountain View - Court 1
CATEGORIES:QuickScores; Basketball - Youth Game
TRANSP:0
DALARM:20260314T093000;PT10M;2;[ 1 ] Carol Stream - Aces vs. [ 4 ] Bville Sky
END:VEVENT
BEGIN:VEVENT
DTSTART:20260314T170000
DTEND:20260314T180000
SUMMARY:[ 2 ] Bloomingdale - Mariani vs. [ 3 ] Bloomingdale - Corso
DESCRIPTION:Gold Bracket (7/8G) - Carol Stream Park District
LOCATION:Bloomingdale - Westfield Middle School
CATEGORIES:QuickScores; Basketball - Youth Game
TRANSP:0
DALARM:20260314T150000;PT10M;2;[ 2 ] Bloomingdale - Mariani vs. [ 3 ] Bloomingdale - Corso
END:VEVENT
BEGIN:VEVENT
DTSTART:20260315T150000
DTEND:20260315T160000
SUMMARY:Winner of Game 3 vs. [ 2 ] Bloomingdale - Mariani
DESCRIPTION:Gold Bracket (7/8G) - Carol Stream Park District
LOCATION:Glenbard North HS Gym
CATEGORIES:QuickScores; Basketball - Youth Game
TRANSP:0
DALARM:20260315T130000;PT10M;2;Winner of Game 3 vs. [ 2 ] Bloomingdale - Mariani
END:VEVENT
END:VCALENDAR
