BEGIN:VCALENDAR
VERSION:1.0
BEGIN:VEVENT
DTSTART:20260306T180000
DTEND:20260306T190000
SUMMARY:2G Bloomingdale 3 (Vallas) vs. 3S Medinah 1
DESCRIPTION:Gold Bracket (3/4B) - Intervillage Leagues
LOCATION:Bloomingdale - Johnston Recreation Center
CATEGORIES:QuickScores; Basketball - Youth Game
TRANSP:0
DALARM:20260306T160000;PT10M;2;2G Bloomingdale 3 (Vallas) vs. 3S Medinah 1
END:VEVENT
BEGIN:VEVENT
DTSTART:20260306T180000
DTEND:20260306T190000
SUMMARY:2L Winfield (Josipovic) vs. 3J Streamwood (Morales)
DESCRIPTION:Gold Bracket (3/4B) - Intervillage Leagues
LOCATION:Winfield Park District
CATEGORIES:QuickScores; Basketball - Youth Game
TRANSP:0
DALARM:20260306T160000;PT10M;2;2L Winfield (Josipovic) vs. 3J Streamwood (Morales)
END:VEVENT
BEGIN:VEVENT
DTSTART:20260306T183000
DTEND:20260306T193000
SUMMARY:2S Glendale Heights 1 (Posley) vs. 3G Bville Hawks
DESCRIPTION:Gold Bracket (3/4B) - Intervillage Leagues
LOCATION:Glendale Heights Sports Hub - Court A
CATEGORIES:QuickScores; Basketball - Youth Game
TRANSP:0
DALARM:20260306T163000;PT10M;2;2S Glendale Heights 1 (Posley) vs. 3G Bville Hawks
END:VEVENT
BEGIN:VEVENT
DTSTART:20260307T101500
DTEND:20260307T111500
SUMMARY:2J WIBA 1 (Hosnedl) vs. 3L WIBA 3 (Magana/Taylor)
DESCRIPTION:Gold Bracket (3/4B) - Intervillage Leagues
LOCATION:Wood Dale Recreation Complex
CATEGORIES:QuickScores; Basketball - Youth Game
TRANSP:0
DALARM:20260307T081500;PT10M;2;2J WIBA 1 (Hosnedl) vs. 3L WIBA 3 (Magana/Taylor)
END:VEVENT
BEGIN:VEVENT
DTSTART:20260307T141500
DTEND:20260307T151500
SUMMARY:(3) 1G Schaumburg vs. 2J WIBA 1 (Hosnedl)
DESCRIPTION:Gold Bracket (3/4B) - Intervillage Leagues
LOCATION:Schaumburg-Eisenhower Jr. High
CATEGORIES:QuickScores; Basketball - Youth Game
TRANSP:0
DALARM:20260307T121500;PT10M;2;(3) 1G Schaumburg vs. 2J WIBA 1 (Hosnedl)
END:VEVENT
BEGIN:VEVENT
DTSTART:20260307T141500
DTEND:20260307T151500
SUMMARY:(4) 1L Addison PD Bulls (Baines) vs. 2S Glendale Heights 1 (Posley)
DESCRIPTION:Gold Bracket (3/4B) - Intervillage Leagues
LOCATION:Addison Park District Centennial
CATEGORIES:QuickScores; Basketball - Youth Game
TRANSP:0
DALARM:20260307T121500;PT10M;2;(4) 1L Addison PD Bulls (Baines) vs. 2S Glendale Heights 1 (Posley)
END:VEVENT
BEGIN:VEVENT
DTSTART:20260307T150000
DTEND:20260307T160000
SUMMARY:(2) 1J Bville Bulls (Leon) vs. 3S Medinah 1
DESCRIPTION:Gold Bracket (3/4B) - Intervillage Leagues
LOCATION:Bensenville Park District
CATEGORIES:QuickScores; Basketball - Youth Game
TRANSP:0
DALARM:20260307T130000;PT10M;2;(2) 1J Bville Bulls (Leon) vs. 3S Medinah 1
END:VEVENT
BEGIN:VEVENT
DTSTART:20260307T151500
DTEND:20260307T161500
SUMMARY:(1) 1S Addison PD 2 (Culotta) vs. 2L Winfield (Josipovic)
DESCRIPTION:Gold Bracket (3/4B) - Intervillage Leagues
LOCATION:Addison Park District Centennial
CATEGORIES:QuickScores; Basketball - Youth Game
TRANSP:0
DALARM:20260307T131500;PT10M;2;(1) 1S Addison PD 2 (Culotta) vs. 2L Winfield (Josipovic)
END:VEVENT
BEGIN:VEVENT
DTSTART:20260314T120000
DTEND:20260314T130000
SUMMARY:(2) 1J Bville Bulls (Leon) vs. (4) 1L Addison PD Bulls (Baines)
DESCRIPTION:Gold Bracket (3/4B) - Intervillage Leagues
LOCATION:Bensenville Park District
CATEGORIES:QuickScores; Basketball - Youth Game
TRANSP:0
DALARM:20260314T100000;PT10M;2;(2) 1J Bville Bulls (Leon) vs. (4) 1L Addison PD Bulls (Baines)
END:VEVENT
BEGIN:VEVENT
DTSTART:20260314T130000
DTEND:20260314T140000
SUMMARY:(3) 1G Schaumburg vs. (1) 1S Addison PD 2 (Culotta)
DESCRIPTION:Gold Bracket (3/4B) - Intervillage Leagues
LOCATION:Addison Park District Centennial
CATEGORIES:QuickScores; Basketball - Youth Game
TRANSP:0
DALARM:20260314T110000;PT10M;2;(3) 1G Schaumburg vs. (1) 1S Addison PD 2 (Culotta)
END:VEVENT
BEGIN:VEVENT
DTSTART:20260315T130000
DTEND:20260315T140000
SUMMARY:(2) 1J Bville Bulls (Leon) vs. (1) 1S Addison PD 2 (Culotta)
DESCRIPTION:Gold Bracket (3/4B) - Intervillage Leagues
LOCATION:Addison Park District Centennial
CATEGORIES:QuickScores; Basketball - Youth Game
TRANSP:0
DALARM:20260315T110000;PT10M;2;(2) 1J Bville Bulls (Leon) vs. (1) 1S Addison PD 2 (Culotta)
END:VEVENT
END:VCALENDAR
