BEGIN:VCALENDAR
VERSION:1.0
BEGIN:VEVENT
DTSTART:20260307T110000
DTEND:20260307T120000
SUMMARY:7K Bloomingdale (Amin) vs. 12W Bloomingdale 3 (Patel)
DESCRIPTION:Bronze Bracket (5/6B) - Intervillage Leagues
LOCATION:Bloomingdale - Johnston Recreation Center
CATEGORIES:QuickScores; Basketball - Youth Game
TRANSP:0
DALARM:20260307T090000;PT10M;2;7K Bloomingdale (Amin) vs. 12W Bloomingdale 3 (Patel)
END:VEVENT
BEGIN:VEVENT
DTSTART:20260307T124500
DTEND:20260307T134500
SUMMARY:9K WIBA (Scarpelli) vs. 10W Roselle 2 (Aycock)
DESCRIPTION:Bronze Bracket (5/6B) - Intervillage Leagues
LOCATION:Wood Dale Recreation Complex
CATEGORIES:QuickScores; Basketball - Youth Game
TRANSP:0
DALARM:20260307T104500;PT10M;2;9K WIBA (Scarpelli) vs. 10W Roselle 2 (Aycock)
END:VEVENT
BEGIN:VEVENT
DTSTART:20260307T160000
DTEND:20260307T170000
SUMMARY:9W Bville 1 (hagen) vs. 10K Streamwood (Ariza)
DESCRIPTION:Bronze Bracket (5/6B) - Intervillage Leagues
LOCATION:Bensenville Park District
CATEGORIES:QuickScores; Basketball - Youth Game
TRANSP:0
DALARM:20260307T140000;PT10M;2;9W Bville 1 (hagen) vs. 10K Streamwood (Ariza)
END:VEVENT
BEGIN:VEVENT
DTSTART:20260307T190000
DTEND:20260307T200000
SUMMARY:8K Hanover Park vs. 11W Addison PD (Hill)
DESCRIPTION:Bronze Bracket (5/6B) - Intervillage Leagues
LOCATION:Bensenville Park District
CATEGORIES:QuickScores; Basketball - Youth Game
TRANSP:0
DALARM:20260307T170000;PT10M;2;8K Hanover Park vs. 11W Addison PD (Hill)
END:VEVENT
BEGIN:VEVENT
DTSTART:20260314T130000
DTEND:20260314T140000
SUMMARY:7K Bloomingdale (Amin) vs. 10W Roselle 2 (Aycock)
DESCRIPTION:Bronze Bracket (5/6B) - Intervillage Leagues
LOCATION:Clauss Recreation Center - Court 1
CATEGORIES:QuickScores; Basketball - Youth Game
TRANSP:0
DALARM:20260314T110000;PT10M;2;7K Bloomingdale (Amin) vs. 10W Roselle 2 (Aycock)
END:VEVENT
BEGIN:VEVENT
DTSTART:20260314T140000
DTEND:20260314T150000
SUMMARY:10K Streamwood (Ariza) vs. 8K Hanover Park
DESCRIPTION:Bronze Bracket (5/6B) - Intervillage Leagues
LOCATION:Bensenville Park District
CATEGORIES:QuickScores; Basketball - Youth Game
TRANSP:0
DALARM:20260314T120000;PT10M;2;10K Streamwood (Ariza) vs. 8K Hanover Park
END:VEVENT
BEGIN:VEVENT
DTSTART:20260315T100000
DTEND:20260315T110000
SUMMARY:7K Bloomingdale (Amin) vs. 8K Hanover Park
DESCRIPTION:Bronze Bracket (5/6B) - Intervillage Leagues
LOCATION:Bloomingdale - Westfield Middle School
CATEGORIES:QuickScores; Basketball - Youth Game
TRANSP:0
DALARM:20260315T080000;PT10M;2;7K Bloomingdale (Amin) vs. 8K Hanover Park
END:VEVENT
END:VCALENDAR
