BEGIN:VCALENDAR
VERSION:1.0
BEGIN:VEVENT
DTSTART:20260307T090000
DTEND:20260307T100000
SUMMARY:Astros vs. Giants
DESCRIPTION:8U Boys - Warner Robins Parks and Recreation 
LOCATION:North Houston - Field 3
CATEGORIES:QuickScores; Baseball Game
TRANSP:0
DALARM:20260307T070000;PT10M;2;Astros vs. Giants
END:VEVENT
BEGIN:VEVENT
DTSTART:20260307T104000
DTEND:20260307T114000
SUMMARY:Yankees vs. Braves
DESCRIPTION:8U Boys - Warner Robins Parks and Recreation 
LOCATION:North Houston - Field 3
CATEGORIES:QuickScores; Baseball Game
TRANSP:0
DALARM:20260307T084000;PT10M;2;Yankees vs. Braves
END:VEVENT
BEGIN:VEVENT
DTSTART:20260309T180000
DTEND:20260309T190000
SUMMARY:Rockies vs. Yankees
DESCRIPTION:8U Boys - Warner Robins Parks and Recreation 
LOCATION:North Houston - Field 3
CATEGORIES:QuickScores; Baseball Game
TRANSP:0
DALARM:20260309T160000;PT10M;2;Rockies vs. Yankees
END:VEVENT
BEGIN:VEVENT
DTSTART:20260317T194000
DTEND:20260317T204000
SUMMARY:Yankees vs. Astros
DESCRIPTION:8U Boys - Warner Robins Parks and Recreation 
LOCATION:North Houston - Field 3
CATEGORIES:QuickScores; Baseball Game
TRANSP:0
DALARM:20260317T174000;PT10M;2;Yankees vs. Astros
END:VEVENT
BEGIN:VEVENT
DTSTART:20260321T090000
DTEND:20260321T100000
SUMMARY:Giants vs. Yankees
DESCRIPTION:8U Boys - Warner Robins Parks and Recreation 
LOCATION:North Houston - Field 3
CATEGORIES:QuickScores; Baseball Game
TRANSP:0
DALARM:20260321T070000;PT10M;2;Giants vs. Yankees
END:VEVENT
BEGIN:VEVENT
DTSTART:20260321T104000
DTEND:20260321T114000
SUMMARY:Astros vs. Braves
DESCRIPTION:8U Boys - Warner Robins Parks and Recreation 
LOCATION:North Houston - Field 3
CATEGORIES:QuickScores; Baseball Game
TRANSP:0
DALARM:20260321T084000;PT10M;2;Astros vs. Braves
END:VEVENT
BEGIN:VEVENT
DTSTART:20260323T180000
DTEND:20260323T190000
SUMMARY:Giants vs. Rockies
DESCRIPTION:8U Boys - Warner Robins Parks and Recreation 
LOCATION:North Houston - Field 3
CATEGORIES:QuickScores; Baseball Game
TRANSP:0
DALARM:20260323T160000;PT10M;2;Giants vs. Rockies
END:VEVENT
BEGIN:VEVENT
DTSTART:20260324T194000
DTEND:20260324T204000
SUMMARY:Braves vs. Yankees
DESCRIPTION:8U Boys - Warner Robins Parks and Recreation 
LOCATION:North Houston - Field 3
CATEGORIES:QuickScores; Baseball Game
TRANSP:0
DALARM:20260324T174000;PT10M;2;Braves vs. Yankees
END:VEVENT
BEGIN:VEVENT
DTSTART:20260328T090000
DTEND:20260328T100000
SUMMARY:Giants vs. Braves
DESCRIPTION:8U Boys - Warner Robins Parks and Recreation 
LOCATION:North Houston - Field 3
CATEGORIES:QuickScores; Baseball Game
TRANSP:0
DALARM:20260328T070000;PT10M;2;Giants vs. Braves
END:VEVENT
BEGIN:VEVENT
DTSTART:20260328T104000
DTEND:20260328T114000
SUMMARY:Rockies vs. Astros
DESCRIPTION:8U Boys - Warner Robins Parks and Recreation 
LOCATION:North Houston - Field 3
CATEGORIES:QuickScores; Baseball Game
TRANSP:0
DALARM:20260328T084000;PT10M;2;Rockies vs. Astros
END:VEVENT
BEGIN:VEVENT
DTSTART:20260406T194000
DTEND:20260406T204000
SUMMARY:Braves vs. Giants
DESCRIPTION:8U Boys - Warner Robins Parks and Recreation 
LOCATION:North Houston - Field 3
CATEGORIES:QuickScores; Baseball Game
TRANSP:0
DALARM:20260406T174000;PT10M;2;Braves vs. Giants
END:VEVENT
BEGIN:VEVENT
DTSTART:20260407T194000
DTEND:20260407T204000
SUMMARY:Rockies vs. Giants
DESCRIPTION:8U Boys - Warner Robins Parks and Recreation 
LOCATION:North Houston - Field 3
CATEGORIES:QuickScores; Baseball Game
TRANSP:0
DALARM:20260407T174000;PT10M;2;Rockies vs. Giants
END:VEVENT
BEGIN:VEVENT
DTSTART:20260411T090000
DTEND:20260411T100000
SUMMARY:Yankees vs. Rockies
DESCRIPTION:8U Boys - Warner Robins Parks and Recreation 
LOCATION:North Houston - Field 3
CATEGORIES:QuickScores; Baseball Game
TRANSP:0
DALARM:20260411T070000;PT10M;2;Yankees vs. Rockies
END:VEVENT
BEGIN:VEVENT
DTSTART:20260411T104000
DTEND:20260411T114000
SUMMARY:Giants vs. Astros
DESCRIPTION:8U Boys - Warner Robins Parks and Recreation 
LOCATION:North Houston - Field 3
CATEGORIES:QuickScores; Baseball Game
TRANSP:0
DALARM:20260411T084000;PT10M;2;Giants vs. Astros
END:VEVENT
BEGIN:VEVENT
DTSTART:20260413T180000
DTEND:20260413T190000
SUMMARY:Astros vs. Yankees
DESCRIPTION:8U Boys - Warner Robins Parks and Recreation 
LOCATION:North Houston - Field 3
CATEGORIES:QuickScores; Baseball Game
TRANSP:0
DALARM:20260413T160000;PT10M;2;Astros vs. Yankees
END:VEVENT
BEGIN:VEVENT
DTSTART:20260414T191500
DTEND:20260414T201500
SUMMARY:Rockies vs. Braves
DESCRIPTION:8U Boys - Warner Robins Parks and Recreation 
LOCATION:North Houston - Field 2
CATEGORIES:QuickScores; Baseball Game
TRANSP:0
DALARM:20260414T171500;PT10M;2;Rockies vs. Braves
END:VEVENT
BEGIN:VEVENT
DTSTART:20260418T090000
DTEND:20260418T100000
SUMMARY:Braves vs. Astros
DESCRIPTION:8U Boys - Warner Robins Parks and Recreation 
LOCATION:North Houston - Field 3
CATEGORIES:QuickScores; Baseball Game
TRANSP:0
DALARM:20260418T070000;PT10M;2;Braves vs. Astros
END:VEVENT
BEGIN:VEVENT
DTSTART:20260418T104000
DTEND:20260418T114000
SUMMARY:Yankees vs. Giants
DESCRIPTION:8U Boys - Warner Robins Parks and Recreation 
LOCATION:North Houston - Field 3
CATEGORIES:QuickScores; Baseball Game
TRANSP:0
DALARM:20260418T084000;PT10M;2;Yankees vs. Giants
END:VEVENT
BEGIN:VEVENT
DTSTART:20260420T180000
DTEND:20260420T190000
SUMMARY:Astros vs. Rockies
DESCRIPTION:8U Boys - Warner Robins Parks and Recreation 
LOCATION:North Houston - Field 3
CATEGORIES:QuickScores; Baseball Game
TRANSP:0
DALARM:20260420T160000;PT10M;2;Astros vs. Rockies
END:VEVENT
BEGIN:VEVENT
DTSTART:20260428T180000
DTEND:20260428T190000
SUMMARY:Braves vs. Rockies
DESCRIPTION:8U Boys - Warner Robins Parks and Recreation 
LOCATION:North Houston - Field 3
CATEGORIES:QuickScores; Baseball Game
TRANSP:0
DALARM:20260428T160000;PT10M;2;Braves vs. Rockies
END:VEVENT
BEGIN:VEVENT
DTSTART:20260505T180000
DTEND:20260505T194000
SUMMARY:#2 Seed vs. #3 Seed
DESCRIPTION:8U Boys - Warner Robins Parks and Recreation 
LOCATION:North Houston - Field 3
CATEGORIES:QuickScores; Baseball Game
TRANSP:0
DALARM:20260505T160000;PT10M;2;#2 Seed vs. #3 Seed
END:VEVENT
BEGIN:VEVENT
DTSTART:20260505T194000
DTEND:20260505T212000
SUMMARY:#1 Seed vs. #4 Seed
DESCRIPTION:8U Boys - Warner Robins Parks and Recreation 
LOCATION:North Houston - Field 3
CATEGORIES:QuickScores; Baseball Game
TRANSP:0
DALARM:20260505T174000;PT10M;2;#1 Seed vs. #4 Seed
END:VEVENT
BEGIN:VEVENT
DTSTART:20260516T111500
DTEND:20260516T121500
SUMMARY:Winner of Game 1 vs. Winner of Game 2
DESCRIPTION:8U Boys - Warner Robins Parks and Recreation 
LOCATION:TBD
CATEGORIES:QuickScores; Baseball Game
TRANSP:0
DALARM:20260516T091500;PT10M;2;Winner of Game 1 vs. Winner of Game 2
END:VEVENT
END:VCALENDAR
