BEGIN:VCALENDAR
VERSION:1.0
BEGIN:VEVENT
DTSTART:20270327T000000
DTEND:20270327T000000
SUMMARY:Mitchell vs. Dean
DESCRIPTION:2027 Baseball (AD Council approved 2/20/26) - Great Northeast Athletic Conference
LOCATION:Mitchell College New London CT
CATEGORIES:QuickScores; Baseball Game
TRANSP:0
DALARM:20270327T000000;PT10M;2;Mitchell vs. Dean
END:VEVENT
BEGIN:VEVENT
DTSTART:20270327T000000
DTEND:20270327T000000
SUMMARY:New England vs. Rivier
DESCRIPTION:2027 Baseball (AD Council approved 2/20/26) - Great Northeast Athletic Conference
LOCATION:Henniker NH
CATEGORIES:QuickScores; Baseball Game
TRANSP:0
DALARM:20270327T000000;PT10M;2;New England vs. Rivier
END:VEVENT
BEGIN:VEVENT
DTSTART:20270327T000000
DTEND:20270327T000000
SUMMARY:Elms vs. Albertus Magnus
DESCRIPTION:2027 Baseball (AD Council approved 2/20/26) - Great Northeast Athletic Conference
LOCATION:Mackenzie Stadium Holyoke
CATEGORIES:QuickScores; Baseball Game
TRANSP:0
DALARM:20270327T000000;PT10M;2;Elms vs. Albertus Magnus
END:VEVENT
BEGIN:VEVENT
DTSTART:20270327T000000
DTEND:20270327T000000
SUMMARY:Saint Joseph's ME vs. Colby Sawyer
DESCRIPTION:2027 Baseball (AD Council approved 2/20/26) - Great Northeast Athletic Conference
LOCATION:Standish ME
CATEGORIES:QuickScores; Baseball Game
TRANSP:0
DALARM:20270327T000000;PT10M;2;Saint Joseph's ME vs. Colby Sawyer
END:VEVENT
BEGIN:VEVENT
DTSTART:20270327T000000
DTEND:20270327T000000
SUMMARY:Saint Joseph CT vs. Lasell
DESCRIPTION:2027 Baseball (AD Council approved 2/20/26) - Great Northeast Athletic Conference
LOCATION:W. Hartford, CT
CATEGORIES:QuickScores; Baseball Game
TRANSP:0
DALARM:20270327T000000;PT10M;2;Saint Joseph CT vs. Lasell
END:VEVENT
BEGIN:VEVENT
DTSTART:20270403T000000
DTEND:20270403T000000
SUMMARY:Rivier vs. Saint Joseph CT
DESCRIPTION:2027 Baseball (AD Council approved 2/20/26) - Great Northeast Athletic Conference
LOCATION:Nashua, NH
CATEGORIES:QuickScores; Baseball Game
TRANSP:0
DALARM:20270403T000000;PT10M;2;Rivier vs. Saint Joseph CT
END:VEVENT
BEGIN:VEVENT
DTSTART:20270403T000000
DTEND:20270403T000000
SUMMARY:Albertus Magnus vs. Colby Sawyer
DESCRIPTION:2027 Baseball (AD Council approved 2/20/26) - Great Northeast Athletic Conference
LOCATION:New Haven, CT
CATEGORIES:QuickScores; Baseball Game
TRANSP:0
DALARM:20270403T000000;PT10M;2;Albertus Magnus vs. Colby Sawyer
END:VEVENT
BEGIN:VEVENT
DTSTART:20270403T000000
DTEND:20270403T000000
SUMMARY:New England vs. Norwich
DESCRIPTION:2027 Baseball (AD Council approved 2/20/26) - Great Northeast Athletic Conference
LOCATION:Henniker NH
CATEGORIES:QuickScores; Baseball Game
TRANSP:0
DALARM:20270403T000000;PT10M;2;New England vs. Norwich
END:VEVENT
BEGIN:VEVENT
DTSTART:20270403T000000
DTEND:20270403T000000
SUMMARY:Lasell vs. Mitchell
DESCRIPTION:2027 Baseball (AD Council approved 2/20/26) - Great Northeast Athletic Conference
LOCATION:Lasell Newton
CATEGORIES:QuickScores; Baseball Game
TRANSP:0
DALARM:20270403T000000;PT10M;2;Lasell vs. Mitchell
END:VEVENT
BEGIN:VEVENT
DTSTART:20270403T000000
DTEND:20270403T000000
SUMMARY:Dean vs. Elms
DESCRIPTION:2027 Baseball (AD Council approved 2/20/26) - Great Northeast Athletic Conference
LOCATION:Franklin MA
CATEGORIES:QuickScores; Baseball Game
TRANSP:0
DALARM:20270403T000000;PT10M;2;Dean vs. Elms
END:VEVENT
BEGIN:VEVENT
DTSTART:20270404T000000
DTEND:20270404T000000
SUMMARY:Saint Joseph's ME vs. Rivier
DESCRIPTION:2027 Baseball (AD Council approved 2/20/26) - Great Northeast Athletic Conference
LOCATION:Standish ME
CATEGORIES:QuickScores; Baseball Game
TRANSP:0
DALARM:20270404T000000;PT10M;2;Saint Joseph's ME vs. Rivier
END:VEVENT
BEGIN:VEVENT
DTSTART:20270404T000000
DTEND:20270404T000000
SUMMARY:Colby Sawyer vs. Saint Joseph CT
DESCRIPTION:2027 Baseball (AD Council approved 2/20/26) - Great Northeast Athletic Conference
LOCATION:New London NH
CATEGORIES:QuickScores; Baseball Game
TRANSP:0
DALARM:20270404T000000;PT10M;2;Colby Sawyer vs. Saint Joseph CT
END:VEVENT
BEGIN:VEVENT
DTSTART:20270404T000000
DTEND:20270404T000000
SUMMARY:Norwich vs. Mitchell
DESCRIPTION:2027 Baseball (AD Council approved 2/20/26) - Great Northeast Athletic Conference
LOCATION:Northfield, VT
CATEGORIES:QuickScores; Baseball Game
TRANSP:0
DALARM:20270404T000000;PT10M;2;Norwich vs. Mitchell
END:VEVENT
BEGIN:VEVENT
DTSTART:20270404T000000
DTEND:20270404T000000
SUMMARY:Dean vs. Albertus Magnus
DESCRIPTION:2027 Baseball (AD Council approved 2/20/26) - Great Northeast Athletic Conference
LOCATION:Franklin MA
CATEGORIES:QuickScores; Baseball Game
TRANSP:0
DALARM:20270404T000000;PT10M;2;Dean vs. Albertus Magnus
END:VEVENT
BEGIN:VEVENT
DTSTART:20270404T000000
DTEND:20270404T000000
SUMMARY:Elms vs. Lasell
DESCRIPTION:2027 Baseball (AD Council approved 2/20/26) - Great Northeast Athletic Conference
LOCATION:Mackenzie Stadium Holyoke
CATEGORIES:QuickScores; Baseball Game
TRANSP:0
DALARM:20270404T000000;PT10M;2;Elms vs. Lasell
END:VEVENT
BEGIN:VEVENT
DTSTART:20270410T000000
DTEND:20270410T000000
SUMMARY:Rivier vs. Norwich
DESCRIPTION:2027 Baseball (AD Council approved 2/20/26) - Great Northeast Athletic Conference
LOCATION:Nashua, NH
CATEGORIES:QuickScores; Baseball Game
TRANSP:0
DALARM:20270410T000000;PT10M;2;Rivier vs. Norwich
END:VEVENT
BEGIN:VEVENT
DTSTART:20270410T000000
DTEND:20270410T000000
SUMMARY:Albertus Magnus vs. New England
DESCRIPTION:2027 Baseball (AD Council approved 2/20/26) - Great Northeast Athletic Conference
LOCATION:New Haven, CT
CATEGORIES:QuickScores; Baseball Game
TRANSP:0
DALARM:20270410T000000;PT10M;2;Albertus Magnus vs. New England
END:VEVENT
BEGIN:VEVENT
DTSTART:20270410T000000
DTEND:20270410T000000
SUMMARY:Lasell vs. Dean
DESCRIPTION:2027 Baseball (AD Council approved 2/20/26) - Great Northeast Athletic Conference
LOCATION:Lasell Newton
CATEGORIES:QuickScores; Baseball Game
TRANSP:0
DALARM:20270410T000000;PT10M;2;Lasell vs. Dean
END:VEVENT
BEGIN:VEVENT
DTSTART:20270410T000000
DTEND:20270410T000000
SUMMARY:Saint Joseph CT vs. Saint Joseph's ME
DESCRIPTION:2027 Baseball (AD Council approved 2/20/26) - Great Northeast Athletic Conference
LOCATION:W. Hartford, CT
CATEGORIES:QuickScores; Baseball Game
TRANSP:0
DALARM:20270410T000000;PT10M;2;Saint Joseph CT vs. Saint Joseph's ME
END:VEVENT
BEGIN:VEVENT
DTSTART:20270410T000000
DTEND:20270410T000000
SUMMARY:Mitchell vs. Elms
DESCRIPTION:2027 Baseball (AD Council approved 2/20/26) - Great Northeast Athletic Conference
LOCATION:Mitchell College New London CT
CATEGORIES:QuickScores; Baseball Game
TRANSP:0
DALARM:20270410T000000;PT10M;2;Mitchell vs. Elms
END:VEVENT
BEGIN:VEVENT
DTSTART:20270411T000000
DTEND:20270411T000000
SUMMARY:Dean vs. Rivier
DESCRIPTION:2027 Baseball (AD Council approved 2/20/26) - Great Northeast Athletic Conference
LOCATION:Franklin MA
CATEGORIES:QuickScores; Baseball Game
TRANSP:0
DALARM:20270411T000000;PT10M;2;Dean vs. Rivier
END:VEVENT
BEGIN:VEVENT
DTSTART:20270411T000000
DTEND:20270411T000000
SUMMARY:Norwich vs. Saint Joseph CT
DESCRIPTION:2027 Baseball (AD Council approved 2/20/26) - Great Northeast Athletic Conference
LOCATION:Northfield, VT
CATEGORIES:QuickScores; Baseball Game
TRANSP:0
DALARM:20270411T000000;PT10M;2;Norwich vs. Saint Joseph CT
END:VEVENT
BEGIN:VEVENT
DTSTART:20270411T000000
DTEND:20270411T000000
SUMMARY:Elms vs. New England
DESCRIPTION:2027 Baseball (AD Council approved 2/20/26) - Great Northeast Athletic Conference
LOCATION:Mackenzie Stadium Holyoke
CATEGORIES:QuickScores; Baseball Game
TRANSP:0
DALARM:20270411T000000;PT10M;2;Elms vs. New England
END:VEVENT
BEGIN:VEVENT
DTSTART:20270411T000000
DTEND:20270411T000000
SUMMARY:Colby Sawyer vs. Mitchell
DESCRIPTION:2027 Baseball (AD Council approved 2/20/26) - Great Northeast Athletic Conference
LOCATION:New London NH
CATEGORIES:QuickScores; Baseball Game
TRANSP:0
DALARM:20270411T000000;PT10M;2;Colby Sawyer vs. Mitchell
END:VEVENT
BEGIN:VEVENT
DTSTART:20270411T000000
DTEND:20270411T000000
SUMMARY:Saint Joseph's ME vs. Albertus Magnus
DESCRIPTION:2027 Baseball (AD Council approved 2/20/26) - Great Northeast Athletic Conference
LOCATION:Standish ME
CATEGORIES:QuickScores; Baseball Game
TRANSP:0
DALARM:20270411T000000;PT10M;2;Saint Joseph's ME vs. Albertus Magnus
END:VEVENT
BEGIN:VEVENT
DTSTART:20270417T000000
DTEND:20270417T000000
SUMMARY:Elms vs. Saint Joseph's ME
DESCRIPTION:2027 Baseball (AD Council approved 2/20/26) - Great Northeast Athletic Conference
LOCATION:Mackenzie Stadium Holyoke
CATEGORIES:QuickScores; Baseball Game
TRANSP:0
DALARM:20270417T000000;PT10M;2;Elms vs. Saint Joseph's ME
END:VEVENT
BEGIN:VEVENT
DTSTART:20270417T000000
DTEND:20270417T000000
SUMMARY:Albertus Magnus vs. Lasell
DESCRIPTION:2027 Baseball (AD Council approved 2/20/26) - Great Northeast Athletic Conference
LOCATION:New Haven, CT
CATEGORIES:QuickScores; Baseball Game
TRANSP:0
DALARM:20270417T000000;PT10M;2;Albertus Magnus vs. Lasell
END:VEVENT
BEGIN:VEVENT
DTSTART:20270417T000000
DTEND:20270417T000000
SUMMARY:Saint Joseph CT vs. Dean
DESCRIPTION:2027 Baseball (AD Council approved 2/20/26) - Great Northeast Athletic Conference
LOCATION:W. Hartford, CT
CATEGORIES:QuickScores; Baseball Game
TRANSP:0
DALARM:20270417T000000;PT10M;2;Saint Joseph CT vs. Dean
END:VEVENT
BEGIN:VEVENT
DTSTART:20270417T000000
DTEND:20270417T000000
SUMMARY:Colby Sawyer vs. Norwich
DESCRIPTION:2027 Baseball (AD Council approved 2/20/26) - Great Northeast Athletic Conference
LOCATION:New London NH
CATEGORIES:QuickScores; Baseball Game
TRANSP:0
DALARM:20270417T000000;PT10M;2;Colby Sawyer vs. Norwich
END:VEVENT
BEGIN:VEVENT
DTSTART:20270417T000000
DTEND:20270417T000000
SUMMARY:New England vs. Mitchell
DESCRIPTION:2027 Baseball (AD Council approved 2/20/26) - Great Northeast Athletic Conference
LOCATION:Henniker NH
CATEGORIES:QuickScores; Baseball Game
TRANSP:0
DALARM:20270417T000000;PT10M;2;New England vs. Mitchell
END:VEVENT
BEGIN:VEVENT
DTSTART:20270418T000000
DTEND:20270418T000000
SUMMARY:Norwich vs. Elms
DESCRIPTION:2027 Baseball (AD Council approved 2/20/26) - Great Northeast Athletic Conference
LOCATION:Northfield, VT
CATEGORIES:QuickScores; Baseball Game
TRANSP:0
DALARM:20270418T000000;PT10M;2;Norwich vs. Elms
END:VEVENT
BEGIN:VEVENT
DTSTART:20270418T000000
DTEND:20270418T000000
SUMMARY:Lasell vs. Saint Joseph's ME
DESCRIPTION:2027 Baseball (AD Council approved 2/20/26) - Great Northeast Athletic Conference
LOCATION:Lasell Newton
CATEGORIES:QuickScores; Baseball Game
TRANSP:0
DALARM:20270418T000000;PT10M;2;Lasell vs. Saint Joseph's ME
END:VEVENT
BEGIN:VEVENT
DTSTART:20270418T000000
DTEND:20270418T000000
SUMMARY:Saint Joseph CT vs. New England
DESCRIPTION:2027 Baseball (AD Council approved 2/20/26) - Great Northeast Athletic Conference
LOCATION:W. Hartford, CT
CATEGORIES:QuickScores; Baseball Game
TRANSP:0
DALARM:20270418T000000;PT10M;2;Saint Joseph CT vs. New England
END:VEVENT
BEGIN:VEVENT
DTSTART:20270418T000000
DTEND:20270418T000000
SUMMARY:Mitchell vs. Albertus Magnus
DESCRIPTION:2027 Baseball (AD Council approved 2/20/26) - Great Northeast Athletic Conference
LOCATION:Mitchell College New London CT
CATEGORIES:QuickScores; Baseball Game
TRANSP:0
DALARM:20270418T000000;PT10M;2;Mitchell vs. Albertus Magnus
END:VEVENT
BEGIN:VEVENT
DTSTART:20270418T000000
DTEND:20270418T000000
SUMMARY:Rivier vs. Colby Sawyer
DESCRIPTION:2027 Baseball (AD Council approved 2/20/26) - Great Northeast Athletic Conference
LOCATION:Nashua, NH
CATEGORIES:QuickScores; Baseball Game
TRANSP:0
DALARM:20270418T000000;PT10M;2;Rivier vs. Colby Sawyer
END:VEVENT
BEGIN:VEVENT
DTSTART:20270424T000000
DTEND:20270424T000000
SUMMARY:Lasell vs. Colby Sawyer
DESCRIPTION:2027 Baseball (AD Council approved 2/20/26) - Great Northeast Athletic Conference
LOCATION:Lasell Newton
CATEGORIES:QuickScores; Baseball Game
TRANSP:0
DALARM:20270424T000000;PT10M;2;Lasell vs. Colby Sawyer
END:VEVENT
BEGIN:VEVENT
DTSTART:20270424T000000
DTEND:20270424T000000
SUMMARY:Albertus Magnus vs. Rivier
DESCRIPTION:2027 Baseball (AD Council approved 2/20/26) - Great Northeast Athletic Conference
LOCATION:New Haven, CT
CATEGORIES:QuickScores; Baseball Game
TRANSP:0
DALARM:20270424T000000;PT10M;2;Albertus Magnus vs. Rivier
END:VEVENT
BEGIN:VEVENT
DTSTART:20270424T000000
DTEND:20270424T000000
SUMMARY:Mitchell vs. Saint Joseph CT
DESCRIPTION:2027 Baseball (AD Council approved 2/20/26) - Great Northeast Athletic Conference
LOCATION:Mitchell College New London CT
CATEGORIES:QuickScores; Baseball Game
TRANSP:0
DALARM:20270424T000000;PT10M;2;Mitchell vs. Saint Joseph CT
END:VEVENT
BEGIN:VEVENT
DTSTART:20270424T000000
DTEND:20270424T000000
SUMMARY:Saint Joseph's ME vs. Norwich
DESCRIPTION:2027 Baseball (AD Council approved 2/20/26) - Great Northeast Athletic Conference
LOCATION:Standish ME
CATEGORIES:QuickScores; Baseball Game
TRANSP:0
DALARM:20270424T000000;PT10M;2;Saint Joseph's ME vs. Norwich
END:VEVENT
BEGIN:VEVENT
DTSTART:20270424T000000
DTEND:20270424T000000
SUMMARY:Dean vs. New England
DESCRIPTION:2027 Baseball (AD Council approved 2/20/26) - Great Northeast Athletic Conference
LOCATION:Franklin MA
CATEGORIES:QuickScores; Baseball Game
TRANSP:0
DALARM:20270424T000000;PT10M;2;Dean vs. New England
END:VEVENT
BEGIN:VEVENT
DTSTART:20270425T000000
DTEND:20270425T000000
SUMMARY:Norwich vs. Albertus Magnus
DESCRIPTION:2027 Baseball (AD Council approved 2/20/26) - Great Northeast Athletic Conference
LOCATION:Northfield, VT
CATEGORIES:QuickScores; Baseball Game
TRANSP:0
DALARM:20270425T000000;PT10M;2;Norwich vs. Albertus Magnus
END:VEVENT
BEGIN:VEVENT
DTSTART:20270425T000000
DTEND:20270425T000000
SUMMARY:New England vs. Lasell
DESCRIPTION:2027 Baseball (AD Council approved 2/20/26) - Great Northeast Athletic Conference
LOCATION:Henniker NH
CATEGORIES:QuickScores; Baseball Game
TRANSP:0
DALARM:20270425T000000;PT10M;2;New England vs. Lasell
END:VEVENT
BEGIN:VEVENT
DTSTART:20270425T000000
DTEND:20270425T000000
SUMMARY:Saint Joseph's ME vs. Mitchell
DESCRIPTION:2027 Baseball (AD Council approved 2/20/26) - Great Northeast Athletic Conference
LOCATION:Standish ME
CATEGORIES:QuickScores; Baseball Game
TRANSP:0
DALARM:20270425T000000;PT10M;2;Saint Joseph's ME vs. Mitchell
END:VEVENT
BEGIN:VEVENT
DTSTART:20270425T000000
DTEND:20270425T000000
SUMMARY:Rivier vs. Elms
DESCRIPTION:2027 Baseball (AD Council approved 2/20/26) - Great Northeast Athletic Conference
LOCATION:Nashua, NH
CATEGORIES:QuickScores; Baseball Game
TRANSP:0
DALARM:20270425T000000;PT10M;2;Rivier vs. Elms
END:VEVENT
BEGIN:VEVENT
DTSTART:20270425T000000
DTEND:20270425T000000
SUMMARY:Colby Sawyer vs. Dean
DESCRIPTION:2027 Baseball (AD Council approved 2/20/26) - Great Northeast Athletic Conference
LOCATION:New London NH
CATEGORIES:QuickScores; Baseball Game
TRANSP:0
DALARM:20270425T000000;PT10M;2;Colby Sawyer vs. Dean
END:VEVENT
BEGIN:VEVENT
DTSTART:20270501T000000
DTEND:20270501T000000
SUMMARY:Lasell vs. Norwich
DESCRIPTION:2027 Baseball (AD Council approved 2/20/26) - Great Northeast Athletic Conference
LOCATION:Lasell Newton
CATEGORIES:QuickScores; Baseball Game
TRANSP:0
DALARM:20270501T000000;PT10M;2;Lasell vs. Norwich
END:VEVENT
BEGIN:VEVENT
DTSTART:20270501T000000
DTEND:20270501T000000
SUMMARY:Dean vs. Saint Joseph's ME
DESCRIPTION:2027 Baseball (AD Council approved 2/20/26) - Great Northeast Athletic Conference
LOCATION:Franklin MA
CATEGORIES:QuickScores; Baseball Game
TRANSP:0
DALARM:20270501T000000;PT10M;2;Dean vs. Saint Joseph's ME
END:VEVENT
BEGIN:VEVENT
DTSTART:20270501T000000
DTEND:20270501T000000
SUMMARY:Colby Sawyer vs. New England
DESCRIPTION:2027 Baseball (AD Council approved 2/20/26) - Great Northeast Athletic Conference
LOCATION:New London NH
CATEGORIES:QuickScores; Baseball Game
TRANSP:0
DALARM:20270501T000000;PT10M;2;Colby Sawyer vs. New England
END:VEVENT
BEGIN:VEVENT
DTSTART:20270501T000000
DTEND:20270501T000000
SUMMARY:Saint Joseph CT vs. Elms
DESCRIPTION:2027 Baseball (AD Council approved 2/20/26) - Great Northeast Athletic Conference
LOCATION:W. Hartford, CT
CATEGORIES:QuickScores; Baseball Game
TRANSP:0
DALARM:20270501T000000;PT10M;2;Saint Joseph CT vs. Elms
END:VEVENT
BEGIN:VEVENT
DTSTART:20270501T000000
DTEND:20270501T000000
SUMMARY:Mitchell vs. Rivier
DESCRIPTION:2027 Baseball (AD Council approved 2/20/26) - Great Northeast Athletic Conference
LOCATION:Mitchell College New London CT
CATEGORIES:QuickScores; Baseball Game
TRANSP:0
DALARM:20270501T000000;PT10M;2;Mitchell vs. Rivier
END:VEVENT
BEGIN:VEVENT
DTSTART:20270502T000000
DTEND:20270502T000000
SUMMARY:Rivier vs. Lasell
DESCRIPTION:2027 Baseball (AD Council approved 2/20/26) - Great Northeast Athletic Conference
LOCATION:Nashua, NH
CATEGORIES:QuickScores; Baseball Game
TRANSP:0
DALARM:20270502T000000;PT10M;2;Rivier vs. Lasell
END:VEVENT
BEGIN:VEVENT
DTSTART:20270502T000000
DTEND:20270502T000000
SUMMARY:Albertus Magnus vs. Saint Joseph CT
DESCRIPTION:2027 Baseball (AD Council approved 2/20/26) - Great Northeast Athletic Conference
LOCATION:New Haven, CT
CATEGORIES:QuickScores; Baseball Game
TRANSP:0
DALARM:20270502T000000;PT10M;2;Albertus Magnus vs. Saint Joseph CT
END:VEVENT
BEGIN:VEVENT
DTSTART:20270502T000000
DTEND:20270502T000000
SUMMARY:Elms vs. Colby Sawyer
DESCRIPTION:2027 Baseball (AD Council approved 2/20/26) - Great Northeast Athletic Conference
LOCATION:Mackenzie Stadium Holyoke
CATEGORIES:QuickScores; Baseball Game
TRANSP:0
DALARM:20270502T000000;PT10M;2;Elms vs. Colby Sawyer
END:VEVENT
BEGIN:VEVENT
DTSTART:20270502T000000
DTEND:20270502T000000
SUMMARY:Norwich vs. Dean
DESCRIPTION:2027 Baseball (AD Council approved 2/20/26) - Great Northeast Athletic Conference
LOCATION:Northfield, VT
CATEGORIES:QuickScores; Baseball Game
TRANSP:0
DALARM:20270502T000000;PT10M;2;Norwich vs. Dean
END:VEVENT
BEGIN:VEVENT
DTSTART:20270502T000000
DTEND:20270502T000000
SUMMARY:New England vs. Saint Joseph's ME
DESCRIPTION:2027 Baseball (AD Council approved 2/20/26) - Great Northeast Athletic Conference
LOCATION:Henniker NH
CATEGORIES:QuickScores; Baseball Game
TRANSP:0
DALARM:20270502T000000;PT10M;2;New England vs. Saint Joseph's ME
END:VEVENT
END:VCALENDAR
