BEGIN:VCALENDAR
VERSION:1.0
BEGIN:VEVENT
DTSTART:20260304T173000
DTEND:20260304T183000
SUMMARY:Preston Indians vs. CV Elite
DESCRIPTION:Spring Comp 5th Grade Boys - Smithfield Recreation
LOCATION:Multi-Purpose North Gym
CATEGORIES:QuickScores; Basketball - Youth Game
TRANSP:0
DALARM:20260304T153000;PT10M;2;Preston Indians vs. CV Elite
END:VEVENT
BEGIN:VEVENT
DTSTART:20260304T183000
DTEND:20260304T193000
SUMMARY:Preston Indians vs. Hornets
DESCRIPTION:Spring Comp 5th Grade Boys - Smithfield Recreation
LOCATION:Multi-Purpose North Gym
CATEGORIES:QuickScores; Basketball - Youth Game
TRANSP:0
DALARM:20260304T163000;PT10M;2;Preston Indians vs. Hornets
END:VEVENT
BEGIN:VEVENT
DTSTART:20260304T193000
DTEND:20260304T203000
SUMMARY:Hornets vs. CV Aggies
DESCRIPTION:Spring Comp 5th Grade Boys - Smithfield Recreation
LOCATION:Multi-Purpose North Gym
CATEGORIES:QuickScores; Basketball - Youth Game
TRANSP:0
DALARM:20260304T173000;PT10M;2;Hornets vs. CV Aggies
END:VEVENT
BEGIN:VEVENT
DTSTART:20260304T203000
DTEND:20260304T213000
SUMMARY:CV Aggies vs. CV Bulls
DESCRIPTION:Spring Comp 5th Grade Boys - Smithfield Recreation
LOCATION:Bobcat Gym
CATEGORIES:QuickScores; Basketball - Youth Game
TRANSP:0
DALARM:20260304T183000;PT10M;2;CV Aggies vs. CV Bulls
END:VEVENT
BEGIN:VEVENT
DTSTART:20260313T173000
DTEND:20260313T183000
SUMMARY:CV Aggies vs. Hornets
DESCRIPTION:Spring Comp 5th Grade Boys - Smithfield Recreation
LOCATION:Spectator Gym
CATEGORIES:QuickScores; Basketball - Youth Game
TRANSP:0
DALARM:20260313T153000;PT10M;2;CV Aggies vs. Hornets
END:VEVENT
BEGIN:VEVENT
DTSTART:20260313T173000
DTEND:20260313T183000
SUMMARY:CV Elite vs. CV Bulls
DESCRIPTION:Spring Comp 5th Grade Boys - Smithfield Recreation
LOCATION:Bobcat Gym
CATEGORIES:QuickScores; Basketball - Youth Game
TRANSP:0
DALARM:20260313T153000;PT10M;2;CV Elite vs. CV Bulls
END:VEVENT
BEGIN:VEVENT
DTSTART:20260313T183000
DTEND:20260313T193000
SUMMARY:CV Bulls vs. CV Aggies
DESCRIPTION:Spring Comp 5th Grade Boys - Smithfield Recreation
LOCATION:Spectator Gym
CATEGORIES:QuickScores; Basketball - Youth Game
TRANSP:0
DALARM:20260313T163000;PT10M;2;CV Bulls vs. CV Aggies
END:VEVENT
BEGIN:VEVENT
DTSTART:20260313T183000
DTEND:20260313T193000
SUMMARY:CV Elite vs. Preston Indians
DESCRIPTION:Spring Comp 5th Grade Boys - Smithfield Recreation
LOCATION:Bobcat Gym
CATEGORIES:QuickScores; Basketball - Youth Game
TRANSP:0
DALARM:20260313T163000;PT10M;2;CV Elite vs. Preston Indians
END:VEVENT
BEGIN:VEVENT
DTSTART:20260313T193000
DTEND:20260313T203000
SUMMARY:Chaos vs. Preston Indians
DESCRIPTION:Spring Comp 5th Grade Boys - Smithfield Recreation
LOCATION:Bobcat Gym
CATEGORIES:QuickScores; Basketball - Youth Game
TRANSP:0
DALARM:20260313T173000;PT10M;2;Chaos vs. Preston Indians
END:VEVENT
BEGIN:VEVENT
DTSTART:20260318T173000
DTEND:20260318T183000
SUMMARY:Chaos vs. Hornets
DESCRIPTION:Spring Comp 5th Grade Boys - Smithfield Recreation
LOCATION:Multi-Purpose North Gym
CATEGORIES:QuickScores; Basketball - Youth Game
TRANSP:0
DALARM:20260318T153000;PT10M;2;Chaos vs. Hornets
END:VEVENT
BEGIN:VEVENT
DTSTART:20260318T183000
DTEND:20260318T193000
SUMMARY:CV Bulls vs. Hornets
DESCRIPTION:Spring Comp 5th Grade Boys - Smithfield Recreation
LOCATION:Multi-Purpose North Gym
CATEGORIES:QuickScores; Basketball - Youth Game
TRANSP:0
DALARM:20260318T163000;PT10M;2;CV Bulls vs. Hornets
END:VEVENT
BEGIN:VEVENT
DTSTART:20260318T193000
DTEND:20260318T203000
SUMMARY:Chaos vs. CV Elite
DESCRIPTION:Spring Comp 5th Grade Boys - Smithfield Recreation
LOCATION:Multi-Purpose North Gym
CATEGORIES:QuickScores; Basketball - Youth Game
TRANSP:0
DALARM:20260318T173000;PT10M;2;Chaos vs. CV Elite
END:VEVENT
BEGIN:VEVENT
DTSTART:20260318T203000
DTEND:20260318T213000
SUMMARY:Preston Indians vs. CV Aggies
DESCRIPTION:Spring Comp 5th Grade Boys - Smithfield Recreation
LOCATION:Bobcat Gym
CATEGORIES:QuickScores; Basketball - Youth Game
TRANSP:0
DALARM:20260318T183000;PT10M;2;Preston Indians vs. CV Aggies
END:VEVENT
BEGIN:VEVENT
DTSTART:20260318T203000
DTEND:20260318T213000
SUMMARY:CV Bulls vs. CV Elite
DESCRIPTION:Spring Comp 5th Grade Boys - Smithfield Recreation
LOCATION:Spectator Gym
CATEGORIES:QuickScores; Basketball - Youth Game
TRANSP:0
DALARM:20260318T183000;PT10M;2;CV Bulls vs. CV Elite
END:VEVENT
BEGIN:VEVENT
DTSTART:20260325T203000
DTEND:20260325T213000
SUMMARY:Hornets vs. Chaos
DESCRIPTION:Spring Comp 5th Grade Boys - Smithfield Recreation
LOCATION:Multi-Purpose North Gym
CATEGORIES:QuickScores; Basketball - Youth Game
TRANSP:0
DALARM:20260325T183000;PT10M;2;Hornets vs. Chaos
END:VEVENT
BEGIN:VEVENT
DTSTART:20260327T173000
DTEND:20260327T183000
SUMMARY:Hornets vs. Preston Indians
DESCRIPTION:Spring Comp 5th Grade Boys - Smithfield Recreation
LOCATION:Bobcat Gym
CATEGORIES:QuickScores; Basketball - Youth Game
TRANSP:0
DALARM:20260327T153000;PT10M;2;Hornets vs. Preston Indians
END:VEVENT
BEGIN:VEVENT
DTSTART:20260327T173000
DTEND:20260327T183000
SUMMARY:CV Elite vs. CV Aggies
DESCRIPTION:Spring Comp 5th Grade Boys - Smithfield Recreation
LOCATION:Spectator Gym
CATEGORIES:QuickScores; Basketball - Youth Game
TRANSP:0
DALARM:20260327T153000;PT10M;2;CV Elite vs. CV Aggies
END:VEVENT
BEGIN:VEVENT
DTSTART:20260327T183000
DTEND:20260327T193000
SUMMARY:Preston Indians vs. CV Bulls
DESCRIPTION:Spring Comp 5th Grade Boys - Smithfield Recreation
LOCATION:Bobcat Gym
CATEGORIES:QuickScores; Basketball - Youth Game
TRANSP:0
DALARM:20260327T163000;PT10M;2;Preston Indians vs. CV Bulls
END:VEVENT
BEGIN:VEVENT
DTSTART:20260327T183000
DTEND:20260327T193000
SUMMARY:CV Aggies vs. Chaos
DESCRIPTION:Spring Comp 5th Grade Boys - Smithfield Recreation
LOCATION:Spectator Gym
CATEGORIES:QuickScores; Basketball - Youth Game
TRANSP:0
DALARM:20260327T163000;PT10M;2;CV Aggies vs. Chaos
END:VEVENT
BEGIN:VEVENT
DTSTART:20260327T193000
DTEND:20260327T203000
SUMMARY:Hornets vs. CV Elite
DESCRIPTION:Spring Comp 5th Grade Boys - Smithfield Recreation
LOCATION:Spectator Gym
CATEGORIES:QuickScores; Basketball - Youth Game
TRANSP:0
DALARM:20260327T173000;PT10M;2;Hornets vs. CV Elite
END:VEVENT
BEGIN:VEVENT
DTSTART:20260327T193000
DTEND:20260327T203000
SUMMARY:CV Bulls vs. Chaos
DESCRIPTION:Spring Comp 5th Grade Boys - Smithfield Recreation
LOCATION:Bobcat Gym
CATEGORIES:QuickScores; Basketball - Youth Game
TRANSP:0
DALARM:20260327T173000;PT10M;2;CV Bulls vs. Chaos
END:VEVENT
BEGIN:VEVENT
DTSTART:20260408T173000
DTEND:20260408T183000
SUMMARY:[4] CV Bulls vs. [5] CV Aggies
DESCRIPTION:Spring Comp 5th Grade Boys - Smithfield Recreation
LOCATION:Spectator Gym
CATEGORIES:QuickScores; Basketball - Youth Game
TRANSP:0
DALARM:20260408T153000;PT10M;2;[4] CV Bulls vs. [5] CV Aggies
END:VEVENT
BEGIN:VEVENT
DTSTART:20260408T173000
DTEND:20260408T183000
SUMMARY:[3] CV Elite vs. [6] Hornets
DESCRIPTION:Spring Comp 5th Grade Boys - Smithfield Recreation
LOCATION:Bobcat Gym
CATEGORIES:QuickScores; Basketball - Youth Game
TRANSP:0
DALARM:20260408T153000;PT10M;2;[3] CV Elite vs. [6] Hornets
END:VEVENT
BEGIN:VEVENT
DTSTART:20260408T183000
DTEND:20260408T193000
SUMMARY:[1] Chaos vs. [4] CV Bulls
DESCRIPTION:Spring Comp 5th Grade Boys - Smithfield Recreation
LOCATION:Spectator Gym
CATEGORIES:QuickScores; Basketball - Youth Game
TRANSP:0
DALARM:20260408T163000;PT10M;2;[1] Chaos vs. [4] CV Bulls
END:VEVENT
BEGIN:VEVENT
DTSTART:20260408T193000
DTEND:20260408T203000
SUMMARY:[2] Preston Indians vs. [3] CV Elite
DESCRIPTION:Spring Comp 5th Grade Boys - Smithfield Recreation
LOCATION:Multi-Purpose North Gym
CATEGORIES:QuickScores; Basketball - Youth Game
TRANSP:0
DALARM:20260408T173000;PT10M;2;[2] Preston Indians vs. [3] CV Elite
END:VEVENT
BEGIN:VEVENT
DTSTART:20260408T203000
DTEND:20260408T213000
SUMMARY:[1] Chaos vs. [2] Preston Indians
DESCRIPTION:Spring Comp 5th Grade Boys - Smithfield Recreation
LOCATION:Multi-Purpose North Gym
CATEGORIES:QuickScores; Basketball - Youth Game
TRANSP:0
DALARM:20260408T183000;PT10M;2;[1] Chaos vs. [2] Preston Indians
END:VEVENT
END:VCALENDAR
