BEGIN:VCALENDAR
VERSION:1.0
BEGIN:VEVENT
DTSTART:20260418T090000
DTEND:20260418T100000
SUMMARY:VR533000 vs. VR533011
DESCRIPTION:U8C - Lorain County Soccer League
LOCATION:VR B
CATEGORIES:QuickScores; Soccer - Youth Game
TRANSP:0
DALARM:20260418T070000;PT10M;2;VR533000 vs. VR533011
END:VEVENT
BEGIN:VEVENT
DTSTART:20260418T150000
DTEND:20260418T160000
SUMMARY:CO216801 vs. FS229010
DESCRIPTION:U8C - Lorain County Soccer League
LOCATION:CO 2
CATEGORIES:QuickScores; Soccer - Youth Game
TRANSP:0
DALARM:20260418T130000;PT10M;2;CO216801 vs. FS229010
END:VEVENT
BEGIN:VEVENT
DTSTART:20260418T150000
DTEND:20260418T160000
SUMMARY:ED710111 vs. AM286012
DESCRIPTION:U8C - Lorain County Soccer League
LOCATION:ED 1
CATEGORIES:QuickScores; Soccer - Youth Game
TRANSP:0
DALARM:20260418T130000;PT10M;2;ED710111 vs. AM286012
END:VEVENT
BEGIN:VEVENT
DTSTART:20260425T090000
DTEND:20260425T100000
SUMMARY:VR533000 vs. LA123015
DESCRIPTION:U8C - Lorain County Soccer League
LOCATION:VR B
CATEGORIES:QuickScores; Soccer - Youth Game
TRANSP:0
DALARM:20260425T070000;PT10M;2;VR533000 vs. LA123015
END:VEVENT
BEGIN:VEVENT
DTSTART:20260425T090000
DTEND:20260425T100000
SUMMARY:ED710111 vs. FS229010
DESCRIPTION:U8C - Lorain County Soccer League
LOCATION:ED 1
CATEGORIES:QuickScores; Soccer - Youth Game
TRANSP:0
DALARM:20260425T070000;PT10M;2;ED710111 vs. FS229010
END:VEVENT
BEGIN:VEVENT
DTSTART:20260425T101500
DTEND:20260425T111500
SUMMARY:MV039011 vs. WE287012
DESCRIPTION:U8C - Lorain County Soccer League
LOCATION:MV J
CATEGORIES:QuickScores; Soccer - Youth Game
TRANSP:0
DALARM:20260425T081500;PT10M;2;MV039011 vs. WE287012
END:VEVENT
BEGIN:VEVENT
DTSTART:20260425T113000
DTEND:20260425T123000
SUMMARY:VR533011 vs. AM286012
DESCRIPTION:U8C - Lorain County Soccer League
LOCATION:VR H
CATEGORIES:QuickScores; Soccer - Youth Game
TRANSP:0
DALARM:20260425T093000;PT10M;2;VR533011 vs. AM286012
END:VEVENT
BEGIN:VEVENT
DTSTART:20260502T090000
DTEND:20260502T100000
SUMMARY:ED710111 vs. VR533000
DESCRIPTION:U8C - Lorain County Soccer League
LOCATION:ED 1
CATEGORIES:QuickScores; Soccer - Youth Game
TRANSP:0
DALARM:20260502T070000;PT10M;2;ED710111 vs. VR533000
END:VEVENT
BEGIN:VEVENT
DTSTART:20260502T090000
DTEND:20260502T100000
SUMMARY:WE287012 vs. LA123015
DESCRIPTION:U8C - Lorain County Soccer League
LOCATION:WE2
CATEGORIES:QuickScores; Soccer - Youth Game
TRANSP:0
DALARM:20260502T070000;PT10M;2;WE287012 vs. LA123015
END:VEVENT
BEGIN:VEVENT
DTSTART:20260502T101500
DTEND:20260502T111500
SUMMARY:MV039011 vs. VR533011
DESCRIPTION:U8C - Lorain County Soccer League
LOCATION:MVK
CATEGORIES:QuickScores; Soccer - Youth Game
TRANSP:0
DALARM:20260502T081500;PT10M;2;MV039011 vs. VR533011
END:VEVENT
BEGIN:VEVENT
DTSTART:20260502T124500
DTEND:20260502T134500
SUMMARY:CO216801 vs. AM286012
DESCRIPTION:U8C - Lorain County Soccer League
LOCATION:CO 2
CATEGORIES:QuickScores; Soccer - Youth Game
TRANSP:0
DALARM:20260502T104500;PT10M;2;CO216801 vs. AM286012
END:VEVENT
BEGIN:VEVENT
DTSTART:20260509T090000
DTEND:20260509T100000
SUMMARY:AM286012 vs. LA123015
DESCRIPTION:U8C - Lorain County Soccer League
LOCATION:AM 1
CATEGORIES:QuickScores; Soccer - Youth Game
TRANSP:0
DALARM:20260509T070000;PT10M;2;AM286012 vs. LA123015
END:VEVENT
BEGIN:VEVENT
DTSTART:20260509T090000
DTEND:20260509T100000
SUMMARY:ED710111 vs. CO216801
DESCRIPTION:U8C - Lorain County Soccer League
LOCATION:ED 1
CATEGORIES:QuickScores; Soccer - Youth Game
TRANSP:0
DALARM:20260509T070000;PT10M;2;ED710111 vs. CO216801
END:VEVENT
BEGIN:VEVENT
DTSTART:20260509T101500
DTEND:20260509T111500
SUMMARY:VR533000 vs. WE287012
DESCRIPTION:U8C - Lorain County Soccer League
LOCATION:VR B
CATEGORIES:QuickScores; Soccer - Youth Game
TRANSP:0
DALARM:20260509T081500;PT10M;2;VR533000 vs. WE287012
END:VEVENT
BEGIN:VEVENT
DTSTART:20260509T113000
DTEND:20260509T123000
SUMMARY:VR533011 vs. FS229010
DESCRIPTION:U8C - Lorain County Soccer League
LOCATION:VR B
CATEGORIES:QuickScores; Soccer - Youth Game
TRANSP:0
DALARM:20260509T093000;PT10M;2;VR533011 vs. FS229010
END:VEVENT
BEGIN:VEVENT
DTSTART:20260512T181500
DTEND:20260512T191500
SUMMARY:WE287012 vs. CO216801
DESCRIPTION:U8C - Lorain County Soccer League
LOCATION:WE2
CATEGORIES:QuickScores; Soccer - Youth Game
TRANSP:0
DALARM:20260512T161500;PT10M;2;WE287012 vs. CO216801
END:VEVENT
BEGIN:VEVENT
DTSTART:20260512T181500
DTEND:20260512T191500
SUMMARY:AM286012 vs. VR533000
DESCRIPTION:U8C - Lorain County Soccer League
LOCATION:AM 1
CATEGORIES:QuickScores; Soccer - Youth Game
TRANSP:0
DALARM:20260512T161500;PT10M;2;AM286012 vs. VR533000
END:VEVENT
BEGIN:VEVENT
DTSTART:20260514T181500
DTEND:20260514T191500
SUMMARY:LA123015 vs. VR533011
DESCRIPTION:U8C - Lorain County Soccer League
LOCATION:LA 2
CATEGORIES:QuickScores; Soccer - Youth Game
TRANSP:0
DALARM:20260514T161500;PT10M;2;LA123015 vs. VR533011
END:VEVENT
BEGIN:VEVENT
DTSTART:20260516T101500
DTEND:20260516T111500
SUMMARY:WE287012 vs. VR533011
DESCRIPTION:U8C - Lorain County Soccer League
LOCATION:WE2
CATEGORIES:QuickScores; Soccer - Youth Game
TRANSP:0
DALARM:20260516T081500;PT10M;2;WE287012 vs. VR533011
END:VEVENT
BEGIN:VEVENT
DTSTART:20260516T133000
DTEND:20260516T143000
SUMMARY:CO216801 vs. VR533000
DESCRIPTION:U8C - Lorain County Soccer League
LOCATION:CO 2
CATEGORIES:QuickScores; Soccer - Youth Game
TRANSP:0
DALARM:20260516T113000;PT10M;2;CO216801 vs. VR533000
END:VEVENT
BEGIN:VEVENT
DTSTART:20260516T153000
DTEND:20260516T163000
SUMMARY:MV039011 vs. ED710111
DESCRIPTION:U8C - Lorain County Soccer League
LOCATION:MVK
CATEGORIES:QuickScores; Soccer - Youth Game
TRANSP:0
DALARM:20260516T133000;PT10M;2;MV039011 vs. ED710111
END:VEVENT
BEGIN:VEVENT
DTSTART:20260519T181500
DTEND:20260519T191500
SUMMARY:LA123015 vs. ED710111
DESCRIPTION:U8C - Lorain County Soccer League
LOCATION:LA 2
CATEGORIES:QuickScores; Soccer - Youth Game
TRANSP:0
DALARM:20260519T161500;PT10M;2;LA123015 vs. ED710111
END:VEVENT
BEGIN:VEVENT
DTSTART:20260520T181500
DTEND:20260520T191500
SUMMARY:FS229010 vs. MV039011
DESCRIPTION:U8C - Lorain County Soccer League
LOCATION:FS 1
CATEGORIES:QuickScores; Soccer - Youth Game
TRANSP:0
DALARM:20260520T161500;PT10M;2;FS229010 vs. MV039011
END:VEVENT
BEGIN:VEVENT
DTSTART:20260523T090000
DTEND:20260523T100000
SUMMARY:AM286012 vs. WE287012
DESCRIPTION:U8C - Lorain County Soccer League
LOCATION:AM 1
CATEGORIES:QuickScores; Soccer - Youth Game
TRANSP:0
DALARM:20260523T070000;PT10M;2;AM286012 vs. WE287012
END:VEVENT
BEGIN:VEVENT
DTSTART:20260523T101500
DTEND:20260523T111500
SUMMARY:VR533000 vs. MV039011
DESCRIPTION:U8C - Lorain County Soccer League
LOCATION:VR B
CATEGORIES:QuickScores; Soccer - Youth Game
TRANSP:0
DALARM:20260523T081500;PT10M;2;VR533000 vs. MV039011
END:VEVENT
BEGIN:VEVENT
DTSTART:20260526T181500
DTEND:20260526T191500
SUMMARY:FS229010 vs. AM286012
DESCRIPTION:U8C - Lorain County Soccer League
LOCATION:FS 1
CATEGORIES:QuickScores; Soccer - Youth Game
TRANSP:0
DALARM:20260526T161500;PT10M;2;FS229010 vs. AM286012
END:VEVENT
BEGIN:VEVENT
DTSTART:20260527T181500
DTEND:20260527T191500
SUMMARY:MV039011 vs. LA123015
DESCRIPTION:U8C - Lorain County Soccer League
LOCATION:MVK
CATEGORIES:QuickScores; Soccer - Youth Game
TRANSP:0
DALARM:20260527T161500;PT10M;2;MV039011 vs. LA123015
END:VEVENT
BEGIN:VEVENT
DTSTART:20260530T101500
DTEND:20260530T111500
SUMMARY:WE287012 vs. ED710111
DESCRIPTION:U8C - Lorain County Soccer League
LOCATION:WE2
CATEGORIES:QuickScores; Soccer - Youth Game
TRANSP:0
DALARM:20260530T081500;PT10M;2;WE287012 vs. ED710111
END:VEVENT
BEGIN:VEVENT
DTSTART:20260530T101500
DTEND:20260530T111500
SUMMARY:VR533011 vs. CO216801
DESCRIPTION:U8C - Lorain County Soccer League
LOCATION:VR B
CATEGORIES:QuickScores; Soccer - Youth Game
TRANSP:0
DALARM:20260530T081500;PT10M;2;VR533011 vs. CO216801
END:VEVENT
BEGIN:VEVENT
DTSTART:20260530T113000
DTEND:20260530T123000
SUMMARY:FS229010 vs. VR533000
DESCRIPTION:U8C - Lorain County Soccer League
LOCATION:FS 1
CATEGORIES:QuickScores; Soccer - Youth Game
TRANSP:0
DALARM:20260530T093000;PT10M;2;FS229010 vs. VR533000
END:VEVENT
BEGIN:VEVENT
DTSTART:20260601T181500
DTEND:20260601T191500
SUMMARY:LA123015 vs. FS229010
DESCRIPTION:U8C - Lorain County Soccer League
LOCATION:LA 2
CATEGORIES:QuickScores; Soccer - Youth Game
TRANSP:0
DALARM:20260601T161500;PT10M;2;LA123015 vs. FS229010
END:VEVENT
BEGIN:VEVENT
DTSTART:20260606T090000
DTEND:20260606T100000
SUMMARY:LA123015 vs. CO216801
DESCRIPTION:U8C - Lorain County Soccer League
LOCATION:LA 2
CATEGORIES:QuickScores; Soccer - Youth Game
TRANSP:0
DALARM:20260606T070000;PT10M;2;LA123015 vs. CO216801
END:VEVENT
BEGIN:VEVENT
DTSTART:20260606T090000
DTEND:20260606T100000
SUMMARY:AM286012 vs. MV039011
DESCRIPTION:U8C - Lorain County Soccer League
LOCATION:AM 1
CATEGORIES:QuickScores; Soccer - Youth Game
TRANSP:0
DALARM:20260606T070000;PT10M;2;AM286012 vs. MV039011
END:VEVENT
BEGIN:VEVENT
DTSTART:20260606T090000
DTEND:20260606T100000
SUMMARY:VR533011 vs. ED710111
DESCRIPTION:U8C - Lorain County Soccer League
LOCATION:VR H
CATEGORIES:QuickScores; Soccer - Youth Game
TRANSP:0
DALARM:20260606T070000;PT10M;2;VR533011 vs. ED710111
END:VEVENT
BEGIN:VEVENT
DTSTART:20260606T150000
DTEND:20260606T160000
SUMMARY:FS229010 vs. WE287012
DESCRIPTION:U8C - Lorain County Soccer League
LOCATION:FS 1
CATEGORIES:QuickScores; Soccer - Youth Game
TRANSP:0
DALARM:20260606T130000;PT10M;2;FS229010 vs. WE287012
END:VEVENT
BEGIN:VEVENT
DTSTART:20260610T181500
DTEND:20260610T191500
SUMMARY:CO216801 vs. MV039011
DESCRIPTION:U8C - Lorain County Soccer League
LOCATION:CO 2
CATEGORIES:QuickScores; Soccer - Youth Game
TRANSP:0
DALARM:20260610T161500;PT10M;2;CO216801 vs. MV039011
END:VEVENT
END:VCALENDAR
