BEGIN:VCALENDAR
VERSION:1.0
BEGIN:VEVENT
DTSTART:20260503T090000
DTEND:20260503T100000
SUMMARY:Critical Hits vs. Bad News
DESCRIPTION:Divisions 1 & 2 - RCSL
LOCATION:Hank Soar 2
CATEGORIES:QuickScores; Softball - Adult Game
TRANSP:0
DALARM:20260503T070000;PT10M;2;Critical Hits vs. Bad News
END:VEVENT
BEGIN:VEVENT
DTSTART:20260503T090000
DTEND:20260503T100000
SUMMARY:Big Ol' Hitties vs. Wingmen
DESCRIPTION:Divisions 1 & 2 - RCSL
LOCATION:Hank Soar 3
CATEGORIES:QuickScores; Softball - Adult Game
TRANSP:0
DALARM:20260503T070000;PT10M;2;Big Ol' Hitties vs. Wingmen
END:VEVENT
BEGIN:VEVENT
DTSTART:20260503T100000
DTEND:20260503T110000
SUMMARY:Wingmen vs. Spartans
DESCRIPTION:Divisions 1 & 2 - RCSL
LOCATION:Hank Soar 3
CATEGORIES:QuickScores; Softball - Adult Game
TRANSP:0
DALARM:20260503T080000;PT10M;2;Wingmen vs. Spartans
END:VEVENT
BEGIN:VEVENT
DTSTART:20260503T100000
DTEND:20260503T110000
SUMMARY:Critical Hits vs. Renegades
DESCRIPTION:Divisions 1 & 2 - RCSL
LOCATION:Hank Soar 2
CATEGORIES:QuickScores; Softball - Adult Game
TRANSP:0
DALARM:20260503T080000;PT10M;2;Critical Hits vs. Renegades
END:VEVENT
BEGIN:VEVENT
DTSTART:20260503T110000
DTEND:20260503T120000
SUMMARY:Spartans vs. Riptide
DESCRIPTION:Divisions 1 & 2 - RCSL
LOCATION:Hank Soar 3
CATEGORIES:QuickScores; Softball - Adult Game
TRANSP:0
DALARM:20260503T090000;PT10M;2;Spartans vs. Riptide
END:VEVENT
BEGIN:VEVENT
DTSTART:20260503T110000
DTEND:20260503T120000
SUMMARY:Big Ol' Hitties vs. Bad News
DESCRIPTION:Divisions 1 & 2 - RCSL
LOCATION:Hank Soar 2
CATEGORIES:QuickScores; Softball - Adult Game
TRANSP:0
DALARM:20260503T090000;PT10M;2;Big Ol' Hitties vs. Bad News
END:VEVENT
BEGIN:VEVENT
DTSTART:20260503T120000
DTEND:20260503T130000
SUMMARY:Riptide vs. Cruisers
DESCRIPTION:Divisions 1 & 2 - RCSL
LOCATION:Hank Soar 3
CATEGORIES:QuickScores; Softball - Adult Game
TRANSP:0
DALARM:20260503T100000;PT10M;2;Riptide vs. Cruisers
END:VEVENT
BEGIN:VEVENT
DTSTART:20260503T120000
DTEND:20260503T130000
SUMMARY:Hustlers vs. Renegades
DESCRIPTION:Divisions 1 & 2 - RCSL
LOCATION:Hank Soar 2
CATEGORIES:QuickScores; Softball - Adult Game
TRANSP:0
DALARM:20260503T100000;PT10M;2;Hustlers vs. Renegades
END:VEVENT
BEGIN:VEVENT
DTSTART:20260503T130000
DTEND:20260503T140000
SUMMARY:Cruisers vs. Hustlers
DESCRIPTION:Divisions 1 & 2 - RCSL
LOCATION:Hank Soar 2
CATEGORIES:QuickScores; Softball - Adult Game
TRANSP:0
DALARM:20260503T110000;PT10M;2;Cruisers vs. Hustlers
END:VEVENT
BEGIN:VEVENT
DTSTART:20260517T090000
DTEND:20260517T100000
SUMMARY:Critical Hits vs. Cruisers
DESCRIPTION:Divisions 1 & 2 - RCSL
LOCATION:Hank Soar 1
CATEGORIES:QuickScores; Softball - Adult Game
TRANSP:0
DALARM:20260517T070000;PT10M;2;Critical Hits vs. Cruisers
END:VEVENT
BEGIN:VEVENT
DTSTART:20260517T090000
DTEND:20260517T100000
SUMMARY:Spartans vs. Bad News
DESCRIPTION:Divisions 1 & 2 - RCSL
LOCATION:Hank Soar 2
CATEGORIES:QuickScores; Softball - Adult Game
TRANSP:0
DALARM:20260517T070000;PT10M;2;Spartans vs. Bad News
END:VEVENT
BEGIN:VEVENT
DTSTART:20260517T100000
DTEND:20260517T110000
SUMMARY:Critical Hits vs. Spartans
DESCRIPTION:Divisions 1 & 2 - RCSL
LOCATION:Hank Soar 1
CATEGORIES:QuickScores; Softball - Adult Game
TRANSP:0
DALARM:20260517T080000;PT10M;2;Critical Hits vs. Spartans
END:VEVENT
BEGIN:VEVENT
DTSTART:20260517T100000
DTEND:20260517T110000
SUMMARY:Cruisers vs. Big Ol' Hitties
DESCRIPTION:Divisions 1 & 2 - RCSL
LOCATION:Hank Soar 2
CATEGORIES:QuickScores; Softball - Adult Game
TRANSP:0
DALARM:20260517T080000;PT10M;2;Cruisers vs. Big Ol' Hitties
END:VEVENT
BEGIN:VEVENT
DTSTART:20260517T110000
DTEND:20260517T120000
SUMMARY:Renegades vs. Hustlers
DESCRIPTION:Divisions 1 & 2 - RCSL
LOCATION:Hank Soar 1
CATEGORIES:QuickScores; Softball - Adult Game
TRANSP:0
DALARM:20260517T090000;PT10M;2;Renegades vs. Hustlers
END:VEVENT
BEGIN:VEVENT
DTSTART:20260517T110000
DTEND:20260517T120000
SUMMARY:Wingmen vs. Bad News
DESCRIPTION:Divisions 1 & 2 - RCSL
LOCATION:Hank Soar 2
CATEGORIES:QuickScores; Softball - Adult Game
TRANSP:0
DALARM:20260517T090000;PT10M;2;Wingmen vs. Bad News
END:VEVENT
BEGIN:VEVENT
DTSTART:20260517T120000
DTEND:20260517T130000
SUMMARY:Big Ol' Hitties vs. Wingmen
DESCRIPTION:Divisions 1 & 2 - RCSL
LOCATION:Hank Soar 1
CATEGORIES:QuickScores; Softball - Adult Game
TRANSP:0
DALARM:20260517T100000;PT10M;2;Big Ol' Hitties vs. Wingmen
END:VEVENT
BEGIN:VEVENT
DTSTART:20260517T120000
DTEND:20260517T130000
SUMMARY:Renegades vs. Riptide
DESCRIPTION:Divisions 1 & 2 - RCSL
LOCATION:Hank Soar 2
CATEGORIES:QuickScores; Softball - Adult Game
TRANSP:0
DALARM:20260517T100000;PT10M;2;Renegades vs. Riptide
END:VEVENT
BEGIN:VEVENT
DTSTART:20260517T130000
DTEND:20260517T140000
SUMMARY:Hustlers vs. Riptide
DESCRIPTION:Divisions 1 & 2 - RCSL
LOCATION:Hank Soar 2
CATEGORIES:QuickScores; Softball - Adult Game
TRANSP:0
DALARM:20260517T110000;PT10M;2;Hustlers vs. Riptide
END:VEVENT
BEGIN:VEVENT
DTSTART:20260531T090000
DTEND:20260531T100000
SUMMARY:Wingmen vs. Critical Hits
DESCRIPTION:Divisions 1 & 2 - RCSL
LOCATION:Hank Soar 2
CATEGORIES:QuickScores; Softball - Adult Game
TRANSP:0
DALARM:20260531T070000;PT10M;2;Wingmen vs. Critical Hits
END:VEVENT
BEGIN:VEVENT
DTSTART:20260531T090000
DTEND:20260531T100000
SUMMARY:Big Ol' Hitties vs. Renegades
DESCRIPTION:Divisions 1 & 2 - RCSL
LOCATION:Hank Soar 3
CATEGORIES:QuickScores; Softball - Adult Game
TRANSP:0
DALARM:20260531T070000;PT10M;2;Big Ol' Hitties vs. Renegades
END:VEVENT
BEGIN:VEVENT
DTSTART:20260531T100000
DTEND:20260531T110000
SUMMARY:Renegades vs. Bad News
DESCRIPTION:Divisions 1 & 2 - RCSL
LOCATION:Hank Soar 2
CATEGORIES:QuickScores; Softball - Adult Game
TRANSP:0
DALARM:20260531T080000;PT10M;2;Renegades vs. Bad News
END:VEVENT
BEGIN:VEVENT
DTSTART:20260531T100000
DTEND:20260531T110000
SUMMARY:Big Ol' Hitties vs. Critical Hits
DESCRIPTION:Divisions 1 & 2 - RCSL
LOCATION:Hank Soar 3
CATEGORIES:QuickScores; Softball - Adult Game
TRANSP:0
DALARM:20260531T080000;PT10M;2;Big Ol' Hitties vs. Critical Hits
END:VEVENT
BEGIN:VEVENT
DTSTART:20260531T110000
DTEND:20260531T120000
SUMMARY:Cruisers vs. Riptide
DESCRIPTION:Divisions 1 & 2 - RCSL
LOCATION:Hank Soar 3
CATEGORIES:QuickScores; Softball - Adult Game
TRANSP:0
DALARM:20260531T090000;PT10M;2;Cruisers vs. Riptide
END:VEVENT
BEGIN:VEVENT
DTSTART:20260531T110000
DTEND:20260531T120000
SUMMARY:Wingmen vs. Spartans
DESCRIPTION:Divisions 1 & 2 - RCSL
LOCATION:Hank Soar 2
CATEGORIES:QuickScores; Softball - Adult Game
TRANSP:0
DALARM:20260531T090000;PT10M;2;Wingmen vs. Spartans
END:VEVENT
BEGIN:VEVENT
DTSTART:20260531T120000
DTEND:20260531T130000
SUMMARY:Cruisers vs. Bad News
DESCRIPTION:Divisions 1 & 2 - RCSL
LOCATION:Hank Soar 3
CATEGORIES:QuickScores; Softball - Adult Game
TRANSP:0
DALARM:20260531T100000;PT10M;2;Cruisers vs. Bad News
END:VEVENT
BEGIN:VEVENT
DTSTART:20260531T120000
DTEND:20260531T130000
SUMMARY:Riptide vs. Hustlers
DESCRIPTION:Divisions 1 & 2 - RCSL
LOCATION:Hank Soar 2
CATEGORIES:QuickScores; Softball - Adult Game
TRANSP:0
DALARM:20260531T100000;PT10M;2;Riptide vs. Hustlers
END:VEVENT
BEGIN:VEVENT
DTSTART:20260531T130000
DTEND:20260531T140000
SUMMARY:Hustlers vs. Spartans
DESCRIPTION:Divisions 1 & 2 - RCSL
LOCATION:Hank Soar 2
CATEGORIES:QuickScores; Softball - Adult Game
TRANSP:0
DALARM:20260531T110000;PT10M;2;Hustlers vs. Spartans
END:VEVENT
BEGIN:VEVENT
DTSTART:20260607T090000
DTEND:20260607T100000
SUMMARY:Big Ol' Hitties vs. Hustlers
DESCRIPTION:Divisions 1 & 2 - RCSL
LOCATION:Hank Soar 1
CATEGORIES:QuickScores; Softball - Adult Game
TRANSP:0
DALARM:20260607T070000;PT10M;2;Big Ol' Hitties vs. Hustlers
END:VEVENT
BEGIN:VEVENT
DTSTART:20260607T090000
DTEND:20260607T100000
SUMMARY:Cruisers vs. Renegades
DESCRIPTION:Divisions 1 & 2 - RCSL
LOCATION:Hank Soar 2
CATEGORIES:QuickScores; Softball - Adult Game
TRANSP:0
DALARM:20260607T070000;PT10M;2;Cruisers vs. Renegades
END:VEVENT
BEGIN:VEVENT
DTSTART:20260607T100000
DTEND:20260607T110000
SUMMARY:Riptide vs. Cruisers
DESCRIPTION:Divisions 1 & 2 - RCSL
LOCATION:Hank Soar 2
CATEGORIES:QuickScores; Softball - Adult Game
TRANSP:0
DALARM:20260607T080000;PT10M;2;Riptide vs. Cruisers
END:VEVENT
BEGIN:VEVENT
DTSTART:20260607T100000
DTEND:20260607T110000
SUMMARY:Hustlers vs. Renegades
DESCRIPTION:Divisions 1 & 2 - RCSL
LOCATION:Hank Soar 1
CATEGORIES:QuickScores; Softball - Adult Game
TRANSP:0
DALARM:20260607T080000;PT10M;2;Hustlers vs. Renegades
END:VEVENT
BEGIN:VEVENT
DTSTART:20260607T110000
DTEND:20260607T120000
SUMMARY:Riptide vs. Critical Hits
DESCRIPTION:Divisions 1 & 2 - RCSL
LOCATION:Hank Soar 2
CATEGORIES:QuickScores; Softball - Adult Game
TRANSP:0
DALARM:20260607T090000;PT10M;2;Riptide vs. Critical Hits
END:VEVENT
BEGIN:VEVENT
DTSTART:20260607T110000
DTEND:20260607T120000
SUMMARY:Big Ol' Hitties vs. Wingmen
DESCRIPTION:Divisions 1 & 2 - RCSL
LOCATION:Hank Soar 1
CATEGORIES:QuickScores; Softball - Adult Game
TRANSP:0
DALARM:20260607T090000;PT10M;2;Big Ol' Hitties vs. Wingmen
END:VEVENT
BEGIN:VEVENT
DTSTART:20260607T120000
DTEND:20260607T130000
SUMMARY:Spartans vs. Critical Hits
DESCRIPTION:Divisions 1 & 2 - RCSL
LOCATION:Hank Soar 2
CATEGORIES:QuickScores; Softball - Adult Game
TRANSP:0
DALARM:20260607T100000;PT10M;2;Spartans vs. Critical Hits
END:VEVENT
BEGIN:VEVENT
DTSTART:20260607T120000
DTEND:20260607T130000
SUMMARY:Bad News vs. Wingmen
DESCRIPTION:Divisions 1 & 2 - RCSL
LOCATION:Hank Soar 1
CATEGORIES:QuickScores; Softball - Adult Game
TRANSP:0
DALARM:20260607T100000;PT10M;2;Bad News vs. Wingmen
END:VEVENT
BEGIN:VEVENT
DTSTART:20260607T130000
DTEND:20260607T140000
SUMMARY:Bad News vs. Spartans
DESCRIPTION:Divisions 1 & 2 - RCSL
LOCATION:Hank Soar 2
CATEGORIES:QuickScores; Softball - Adult Game
TRANSP:0
DALARM:20260607T110000;PT10M;2;Bad News vs. Spartans
END:VEVENT
BEGIN:VEVENT
DTSTART:20260614T090000
DTEND:20260614T100000
SUMMARY:Bad News vs. Critical Hits
DESCRIPTION:Divisions 1 & 2 - RCSL
LOCATION:Hank Soar 3
CATEGORIES:QuickScores; Softball - Adult Game
TRANSP:0
DALARM:20260614T070000;PT10M;2;Bad News vs. Critical Hits
END:VEVENT
BEGIN:VEVENT
DTSTART:20260614T090000
DTEND:20260614T100000
SUMMARY:Spartans vs. Big Ol' Hitties
DESCRIPTION:Divisions 1 & 2 - RCSL
LOCATION:Hank Soar 2
CATEGORIES:QuickScores; Softball - Adult Game
TRANSP:0
DALARM:20260614T070000;PT10M;2;Spartans vs. Big Ol' Hitties
END:VEVENT
BEGIN:VEVENT
DTSTART:20260614T100000
DTEND:20260614T110000
SUMMARY:Bad News vs. Big Ol' Hitties
DESCRIPTION:Divisions 1 & 2 - RCSL
LOCATION:Hank Soar 3
CATEGORIES:QuickScores; Softball - Adult Game
TRANSP:0
DALARM:20260614T080000;PT10M;2;Bad News vs. Big Ol' Hitties
END:VEVENT
BEGIN:VEVENT
DTSTART:20260614T100000
DTEND:20260614T110000
SUMMARY:Spartans vs. Wingmen
DESCRIPTION:Divisions 1 & 2 - RCSL
LOCATION:Hank Soar 2
CATEGORIES:QuickScores; Softball - Adult Game
TRANSP:0
DALARM:20260614T080000;PT10M;2;Spartans vs. Wingmen
END:VEVENT
BEGIN:VEVENT
DTSTART:20260614T110000
DTEND:20260614T120000
SUMMARY:Critical Hits vs. Wingmen
DESCRIPTION:Divisions 1 & 2 - RCSL
LOCATION:Hank Soar 2
CATEGORIES:QuickScores; Softball - Adult Game
TRANSP:0
DALARM:20260614T090000;PT10M;2;Critical Hits vs. Wingmen
END:VEVENT
BEGIN:VEVENT
DTSTART:20260614T110000
DTEND:20260614T120000
SUMMARY:Renegades vs. Cruisers
DESCRIPTION:Divisions 1 & 2 - RCSL
LOCATION:Hank Soar 3
CATEGORIES:QuickScores; Softball - Adult Game
TRANSP:0
DALARM:20260614T090000;PT10M;2;Renegades vs. Cruisers
END:VEVENT
BEGIN:VEVENT
DTSTART:20260614T120000
DTEND:20260614T130000
SUMMARY:Riptide vs. Renegades
DESCRIPTION:Divisions 1 & 2 - RCSL
LOCATION:Hank Soar 3
CATEGORIES:QuickScores; Softball - Adult Game
TRANSP:0
DALARM:20260614T100000;PT10M;2;Riptide vs. Renegades
END:VEVENT
BEGIN:VEVENT
DTSTART:20260614T120000
DTEND:20260614T130000
SUMMARY:Hustlers vs. Cruisers
DESCRIPTION:Divisions 1 & 2 - RCSL
LOCATION:Hank Soar 2
CATEGORIES:QuickScores; Softball - Adult Game
TRANSP:0
DALARM:20260614T100000;PT10M;2;Hustlers vs. Cruisers
END:VEVENT
BEGIN:VEVENT
DTSTART:20260614T130000
DTEND:20260614T140000
SUMMARY:Riptide vs. Hustlers
DESCRIPTION:Divisions 1 & 2 - RCSL
LOCATION:Hank Soar 2
CATEGORIES:QuickScores; Softball - Adult Game
TRANSP:0
DALARM:20260614T110000;PT10M;2;Riptide vs. Hustlers
END:VEVENT
BEGIN:VEVENT
DTSTART:20260628T090000
DTEND:20260628T100000
SUMMARY:Riptide vs. Wingmen
DESCRIPTION:Divisions 1 & 2 - RCSL
LOCATION:Hank Soar 1
CATEGORIES:QuickScores; Softball - Adult Game
TRANSP:0
DALARM:20260628T070000;PT10M;2;Riptide vs. Wingmen
END:VEVENT
BEGIN:VEVENT
DTSTART:20260628T090000
DTEND:20260628T100000
SUMMARY:Bad News vs. Hustlers
DESCRIPTION:Divisions 1 & 2 - RCSL
LOCATION:Hank Soar 2
CATEGORIES:QuickScores; Softball - Adult Game
TRANSP:0
DALARM:20260628T070000;PT10M;2;Bad News vs. Hustlers
END:VEVENT
BEGIN:VEVENT
DTSTART:20260628T100000
DTEND:20260628T110000
SUMMARY:Hustlers vs. Cruisers
DESCRIPTION:Divisions 1 & 2 - RCSL
LOCATION:Hank Soar 1
CATEGORIES:QuickScores; Softball - Adult Game
TRANSP:0
DALARM:20260628T080000;PT10M;2;Hustlers vs. Cruisers
END:VEVENT
BEGIN:VEVENT
DTSTART:20260628T100000
DTEND:20260628T110000
SUMMARY:Bad News vs. Wingmen
DESCRIPTION:Divisions 1 & 2 - RCSL
LOCATION:Hank Soar 2
CATEGORIES:QuickScores; Softball - Adult Game
TRANSP:0
DALARM:20260628T080000;PT10M;2;Bad News vs. Wingmen
END:VEVENT
BEGIN:VEVENT
DTSTART:20260628T110000
DTEND:20260628T120000
SUMMARY:Renegades vs. Riptide
DESCRIPTION:Divisions 1 & 2 - RCSL
LOCATION:Hank Soar 1
CATEGORIES:QuickScores; Softball - Adult Game
TRANSP:0
DALARM:20260628T090000;PT10M;2;Renegades vs. Riptide
END:VEVENT
BEGIN:VEVENT
DTSTART:20260628T110000
DTEND:20260628T120000
SUMMARY:Critical Hits vs. Spartans
DESCRIPTION:Divisions 1 & 2 - RCSL
LOCATION:Hank Soar 2
CATEGORIES:QuickScores; Softball - Adult Game
TRANSP:0
DALARM:20260628T090000;PT10M;2;Critical Hits vs. Spartans
END:VEVENT
BEGIN:VEVENT
DTSTART:20260628T120000
DTEND:20260628T130000
SUMMARY:Spartans vs. Big Ol' Hitties
DESCRIPTION:Divisions 1 & 2 - RCSL
LOCATION:Hank Soar 2
CATEGORIES:QuickScores; Softball - Adult Game
TRANSP:0
DALARM:20260628T100000;PT10M;2;Spartans vs. Big Ol' Hitties
END:VEVENT
BEGIN:VEVENT
DTSTART:20260628T120000
DTEND:20260628T130000
SUMMARY:Cruisers vs. Renegades
DESCRIPTION:Divisions 1 & 2 - RCSL
LOCATION:Hank Soar 1
CATEGORIES:QuickScores; Softball - Adult Game
TRANSP:0
DALARM:20260628T100000;PT10M;2;Cruisers vs. Renegades
END:VEVENT
BEGIN:VEVENT
DTSTART:20260628T130000
DTEND:20260628T140000
SUMMARY:Critical Hits vs. Big Ol' Hitties
DESCRIPTION:Divisions 1 & 2 - RCSL
LOCATION:Hank Soar 2
CATEGORIES:QuickScores; Softball - Adult Game
TRANSP:0
DALARM:20260628T110000;PT10M;2;Critical Hits vs. Big Ol' Hitties
END:VEVENT
BEGIN:VEVENT
DTSTART:20260712T090000
DTEND:20260712T100000
SUMMARY:Big Ol' Hitties vs. Critical Hits
DESCRIPTION:Divisions 1 & 2 - RCSL
LOCATION:Hank Soar 2
CATEGORIES:QuickScores; Softball - Adult Game
TRANSP:0
DALARM:20260712T070000;PT10M;2;Big Ol' Hitties vs. Critical Hits
END:VEVENT
BEGIN:VEVENT
DTSTART:20260712T090000
DTEND:20260712T100000
SUMMARY:Spartans vs. Bad News
DESCRIPTION:Divisions 1 & 2 - RCSL
LOCATION:Hank Soar 3
CATEGORIES:QuickScores; Softball - Adult Game
TRANSP:0
DALARM:20260712T070000;PT10M;2;Spartans vs. Bad News
END:VEVENT
BEGIN:VEVENT
DTSTART:20260712T100000
DTEND:20260712T110000
SUMMARY:Riptide vs. Big Ol' Hitties
DESCRIPTION:Divisions 1 & 2 - RCSL
LOCATION:Hank Soar 2
CATEGORIES:QuickScores; Softball - Adult Game
TRANSP:0
DALARM:20260712T080000;PT10M;2;Riptide vs. Big Ol' Hitties
END:VEVENT
BEGIN:VEVENT
DTSTART:20260712T100000
DTEND:20260712T110000
SUMMARY:Bad News vs. Critical Hits
DESCRIPTION:Divisions 1 & 2 - RCSL
LOCATION:Hank Soar 3
CATEGORIES:QuickScores; Softball - Adult Game
TRANSP:0
DALARM:20260712T080000;PT10M;2;Bad News vs. Critical Hits
END:VEVENT
BEGIN:VEVENT
DTSTART:20260712T110000
DTEND:20260712T120000
SUMMARY:Wingmen vs. Spartans
DESCRIPTION:Divisions 1 & 2 - RCSL
LOCATION:Hank Soar 2
CATEGORIES:QuickScores; Softball - Adult Game
TRANSP:0
DALARM:20260712T090000;PT10M;2;Wingmen vs. Spartans
END:VEVENT
BEGIN:VEVENT
DTSTART:20260712T110000
DTEND:20260712T120000
SUMMARY:Cruisers vs. Hustlers
DESCRIPTION:Divisions 1 & 2 - RCSL
LOCATION:Hank Soar 3
CATEGORIES:QuickScores; Softball - Adult Game
TRANSP:0
DALARM:20260712T090000;PT10M;2;Cruisers vs. Hustlers
END:VEVENT
BEGIN:VEVENT
DTSTART:20260712T120000
DTEND:20260712T130000
SUMMARY:Riptide vs. Renegades
DESCRIPTION:Divisions 1 & 2 - RCSL
LOCATION:Hank Soar 2
CATEGORIES:QuickScores; Softball - Adult Game
TRANSP:0
DALARM:20260712T100000;PT10M;2;Riptide vs. Renegades
END:VEVENT
BEGIN:VEVENT
DTSTART:20260712T120000
DTEND:20260712T130000
SUMMARY:Wingmen vs. Hustlers
DESCRIPTION:Divisions 1 & 2 - RCSL
LOCATION:Hank Soar 3
CATEGORIES:QuickScores; Softball - Adult Game
TRANSP:0
DALARM:20260712T100000;PT10M;2;Wingmen vs. Hustlers
END:VEVENT
BEGIN:VEVENT
DTSTART:20260712T130000
DTEND:20260712T140000
SUMMARY:Renegades vs. Cruisers
DESCRIPTION:Divisions 1 & 2 - RCSL
LOCATION:Hank Soar 2
CATEGORIES:QuickScores; Softball - Adult Game
TRANSP:0
DALARM:20260712T110000;PT10M;2;Renegades vs. Cruisers
END:VEVENT
BEGIN:VEVENT
DTSTART:20260719T090000
DTEND:20260719T100000
SUMMARY:Cruisers vs. Renegades
DESCRIPTION:Divisions 1 & 2 - RCSL
LOCATION:Hank Soar 1
CATEGORIES:QuickScores; Softball - Adult Game
TRANSP:0
DALARM:20260719T070000;PT10M;2;Cruisers vs. Renegades
END:VEVENT
BEGIN:VEVENT
DTSTART:20260719T090000
DTEND:20260719T100000
SUMMARY:Hustlers vs. Riptide
DESCRIPTION:Divisions 1 & 2 - RCSL
LOCATION:Hank Soar 2
CATEGORIES:QuickScores; Softball - Adult Game
TRANSP:0
DALARM:20260719T070000;PT10M;2;Hustlers vs. Riptide
END:VEVENT
BEGIN:VEVENT
DTSTART:20260719T100000
DTEND:20260719T110000
SUMMARY:Cruisers vs. Spartans
DESCRIPTION:Divisions 1 & 2 - RCSL
LOCATION:Hank Soar 1
CATEGORIES:QuickScores; Softball - Adult Game
TRANSP:0
DALARM:20260719T080000;PT10M;2;Cruisers vs. Spartans
END:VEVENT
BEGIN:VEVENT
DTSTART:20260719T100000
DTEND:20260719T110000
SUMMARY:Bad News vs. Riptide
DESCRIPTION:Divisions 1 & 2 - RCSL
LOCATION:Hank Soar 2
CATEGORIES:QuickScores; Softball - Adult Game
TRANSP:0
DALARM:20260719T080000;PT10M;2;Bad News vs. Riptide
END:VEVENT
BEGIN:VEVENT
DTSTART:20260719T110000
DTEND:20260719T120000
SUMMARY:Renegades vs. Hustlers
DESCRIPTION:Divisions 1 & 2 - RCSL
LOCATION:Hank Soar 1
CATEGORIES:QuickScores; Softball - Adult Game
TRANSP:0
DALARM:20260719T090000;PT10M;2;Renegades vs. Hustlers
END:VEVENT
BEGIN:VEVENT
DTSTART:20260719T110000
DTEND:20260719T120000
SUMMARY:Critical Hits vs. Bad News
DESCRIPTION:Divisions 1 & 2 - RCSL
LOCATION:Hank Soar 2
CATEGORIES:QuickScores; Softball - Adult Game
TRANSP:0
DALARM:20260719T090000;PT10M;2;Critical Hits vs. Bad News
END:VEVENT
BEGIN:VEVENT
DTSTART:20260719T120000
DTEND:20260719T130000
SUMMARY:Critical Hits vs. Wingmen
DESCRIPTION:Divisions 1 & 2 - RCSL
LOCATION:Hank Soar 2
CATEGORIES:QuickScores; Softball - Adult Game
TRANSP:0
DALARM:20260719T100000;PT10M;2;Critical Hits vs. Wingmen
END:VEVENT
BEGIN:VEVENT
DTSTART:20260719T120000
DTEND:20260719T130000
SUMMARY:Spartans vs. Big Ol' Hitties
DESCRIPTION:Divisions 1 & 2 - RCSL
LOCATION:Hank Soar 1
CATEGORIES:QuickScores; Softball - Adult Game
TRANSP:0
DALARM:20260719T100000;PT10M;2;Spartans vs. Big Ol' Hitties
END:VEVENT
BEGIN:VEVENT
DTSTART:20260719T130000
DTEND:20260719T140000
SUMMARY:Wingmen vs. Big Ol' Hitties
DESCRIPTION:Divisions 1 & 2 - RCSL
LOCATION:Hank Soar 2
CATEGORIES:QuickScores; Softball - Adult Game
TRANSP:0
DALARM:20260719T110000;PT10M;2;Wingmen vs. Big Ol' Hitties
END:VEVENT
BEGIN:VEVENT
DTSTART:20260726T090000
DTEND:20260726T100000
SUMMARY:Hustlers vs. Cruisers
DESCRIPTION:Divisions 1 & 2 - RCSL
LOCATION:Hank Soar 2
CATEGORIES:QuickScores; Softball - Adult Game
TRANSP:0
DALARM:20260726T070000;PT10M;2;Hustlers vs. Cruisers
END:VEVENT
BEGIN:VEVENT
DTSTART:20260726T090000
DTEND:20260726T100000
SUMMARY:Big Ol' Hitties vs. Critical Hits
DESCRIPTION:Divisions 1 & 2 - RCSL
LOCATION:Hank Soar 3
CATEGORIES:QuickScores; Softball - Adult Game
TRANSP:0
DALARM:20260726T070000;PT10M;2;Big Ol' Hitties vs. Critical Hits
END:VEVENT
BEGIN:VEVENT
DTSTART:20260726T100000
DTEND:20260726T110000
SUMMARY:Hustlers vs. Critical Hits
DESCRIPTION:Divisions 1 & 2 - RCSL
LOCATION:Hank Soar 2
CATEGORIES:QuickScores; Softball - Adult Game
TRANSP:0
DALARM:20260726T080000;PT10M;2;Hustlers vs. Critical Hits
END:VEVENT
BEGIN:VEVENT
DTSTART:20260726T100000
DTEND:20260726T110000
SUMMARY:Wingmen vs. Big Ol' Hitties
DESCRIPTION:Divisions 1 & 2 - RCSL
LOCATION:Hank Soar 3
CATEGORIES:QuickScores; Softball - Adult Game
TRANSP:0
DALARM:20260726T080000;PT10M;2;Wingmen vs. Big Ol' Hitties
END:VEVENT
BEGIN:VEVENT
DTSTART:20260726T110000
DTEND:20260726T120000
SUMMARY:Wingmen vs. Bad News
DESCRIPTION:Divisions 1 & 2 - RCSL
LOCATION:Hank Soar 3
CATEGORIES:QuickScores; Softball - Adult Game
TRANSP:0
DALARM:20260726T090000;PT10M;2;Wingmen vs. Bad News
END:VEVENT
BEGIN:VEVENT
DTSTART:20260726T110000
DTEND:20260726T120000
SUMMARY:Cruisers vs. Riptide
DESCRIPTION:Divisions 1 & 2 - RCSL
LOCATION:Hank Soar 2
CATEGORIES:QuickScores; Softball - Adult Game
TRANSP:0
DALARM:20260726T090000;PT10M;2;Cruisers vs. Riptide
END:VEVENT
BEGIN:VEVENT
DTSTART:20260726T120000
DTEND:20260726T130000
SUMMARY:Renegades vs. Riptide
DESCRIPTION:Divisions 1 & 2 - RCSL
LOCATION:Hank Soar 2
CATEGORIES:QuickScores; Softball - Adult Game
TRANSP:0
DALARM:20260726T100000;PT10M;2;Renegades vs. Riptide
END:VEVENT
BEGIN:VEVENT
DTSTART:20260726T120000
DTEND:20260726T130000
SUMMARY:Bad News vs. Spartans
DESCRIPTION:Divisions 1 & 2 - RCSL
LOCATION:Hank Soar 3
CATEGORIES:QuickScores; Softball - Adult Game
TRANSP:0
DALARM:20260726T100000;PT10M;2;Bad News vs. Spartans
END:VEVENT
BEGIN:VEVENT
DTSTART:20260726T130000
DTEND:20260726T140000
SUMMARY:Spartans vs. Renegades
DESCRIPTION:Divisions 1 & 2 - RCSL
LOCATION:Hank Soar 2
CATEGORIES:QuickScores; Softball - Adult Game
TRANSP:0
DALARM:20260726T110000;PT10M;2;Spartans vs. Renegades
END:VEVENT
BEGIN:VEVENT
DTSTART:20260802T090000
DTEND:20260802T100000
SUMMARY:Renegades vs. Wingmen
DESCRIPTION:Divisions 1 & 2 - RCSL
LOCATION:Hank Soar 2
CATEGORIES:QuickScores; Softball - Adult Game
TRANSP:0
DALARM:20260802T070000;PT10M;2;Renegades vs. Wingmen
END:VEVENT
BEGIN:VEVENT
DTSTART:20260802T090000
DTEND:20260802T100000
SUMMARY:Hustlers vs. Riptide
DESCRIPTION:Divisions 1 & 2 - RCSL
LOCATION:Hank Soar 1
CATEGORIES:QuickScores; Softball - Adult Game
TRANSP:0
DALARM:20260802T070000;PT10M;2;Hustlers vs. Riptide
END:VEVENT
BEGIN:VEVENT
DTSTART:20260802T100000
DTEND:20260802T110000
SUMMARY:Riptide vs. Cruisers
DESCRIPTION:Divisions 1 & 2 - RCSL
LOCATION:Hank Soar 2
CATEGORIES:QuickScores; Softball - Adult Game
TRANSP:0
DALARM:20260802T080000;PT10M;2;Riptide vs. Cruisers
END:VEVENT
BEGIN:VEVENT
DTSTART:20260802T100000
DTEND:20260802T110000
SUMMARY:Renegades vs. Hustlers
DESCRIPTION:Divisions 1 & 2 - RCSL
LOCATION:Hank Soar 1
CATEGORIES:QuickScores; Softball - Adult Game
TRANSP:0
DALARM:20260802T080000;PT10M;2;Renegades vs. Hustlers
END:VEVENT
BEGIN:VEVENT
DTSTART:20260802T110000
DTEND:20260802T120000
SUMMARY:Spartans vs. Critical Hits
DESCRIPTION:Divisions 1 & 2 - RCSL
LOCATION:Hank Soar 1
CATEGORIES:QuickScores; Softball - Adult Game
TRANSP:0
DALARM:20260802T090000;PT10M;2;Spartans vs. Critical Hits
END:VEVENT
BEGIN:VEVENT
DTSTART:20260802T110000
DTEND:20260802T120000
SUMMARY:Wingmen vs. Cruisers
DESCRIPTION:Divisions 1 & 2 - RCSL
LOCATION:Hank Soar 2
CATEGORIES:QuickScores; Softball - Adult Game
TRANSP:0
DALARM:20260802T090000;PT10M;2;Wingmen vs. Cruisers
END:VEVENT
BEGIN:VEVENT
DTSTART:20260802T120000
DTEND:20260802T130000
SUMMARY:Big Ol' Hitties vs. Spartans
DESCRIPTION:Divisions 1 & 2 - RCSL
LOCATION:Hank Soar 2
CATEGORIES:QuickScores; Softball - Adult Game
TRANSP:0
DALARM:20260802T100000;PT10M;2;Big Ol' Hitties vs. Spartans
END:VEVENT
BEGIN:VEVENT
DTSTART:20260802T120000
DTEND:20260802T130000
SUMMARY:Critical Hits vs. Bad News
DESCRIPTION:Divisions 1 & 2 - RCSL
LOCATION:Hank Soar 1
CATEGORIES:QuickScores; Softball - Adult Game
TRANSP:0
DALARM:20260802T100000;PT10M;2;Critical Hits vs. Bad News
END:VEVENT
BEGIN:VEVENT
DTSTART:20260802T130000
DTEND:20260802T140000
SUMMARY:Bad News vs. Big Ol' Hitties
DESCRIPTION:Divisions 1 & 2 - RCSL
LOCATION:Hank Soar 2
CATEGORIES:QuickScores; Softball - Adult Game
TRANSP:0
DALARM:20260802T110000;PT10M;2;Bad News vs. Big Ol' Hitties
END:VEVENT
BEGIN:VEVENT
DTSTART:20260809T090000
DTEND:20260809T100000
SUMMARY:Critical Hits vs. Wingmen
DESCRIPTION:Divisions 1 & 2 - RCSL
LOCATION:Hank Soar 3
CATEGORIES:QuickScores; Softball - Adult Game
TRANSP:0
DALARM:20260809T070000;PT10M;2;Critical Hits vs. Wingmen
END:VEVENT
BEGIN:VEVENT
DTSTART:20260809T090000
DTEND:20260809T100000
SUMMARY:Spartans vs. Bad News
DESCRIPTION:Divisions 1 & 2 - RCSL
LOCATION:Hank Soar 2
CATEGORIES:QuickScores; Softball - Adult Game
TRANSP:0
DALARM:20260809T070000;PT10M;2;Spartans vs. Bad News
END:VEVENT
BEGIN:VEVENT
DTSTART:20260809T100000
DTEND:20260809T110000
SUMMARY:Bad News vs. Big Ol' Hitties
DESCRIPTION:Divisions 1 & 2 - RCSL
LOCATION:Hank Soar 3
CATEGORIES:QuickScores; Softball - Adult Game
TRANSP:0
DALARM:20260809T080000;PT10M;2;Bad News vs. Big Ol' Hitties
END:VEVENT
BEGIN:VEVENT
DTSTART:20260809T100000
DTEND:20260809T110000
SUMMARY:Wingmen vs. Spartans
DESCRIPTION:Divisions 1 & 2 - RCSL
LOCATION:Hank Soar 2
CATEGORIES:QuickScores; Softball - Adult Game
TRANSP:0
DALARM:20260809T080000;PT10M;2;Wingmen vs. Spartans
END:VEVENT
BEGIN:VEVENT
DTSTART:20260809T110000
DTEND:20260809T120000
SUMMARY:Big Ol' Hitties vs. Critical Hits
DESCRIPTION:Divisions 1 & 2 - RCSL
LOCATION:Hank Soar 3
CATEGORIES:QuickScores; Softball - Adult Game
TRANSP:0
DALARM:20260809T090000;PT10M;2;Big Ol' Hitties vs. Critical Hits
END:VEVENT
BEGIN:VEVENT
DTSTART:20260809T110000
DTEND:20260809T120000
SUMMARY:Hustlers vs. Cruisers
DESCRIPTION:Divisions 1 & 2 - RCSL
LOCATION:Hank Soar 2
CATEGORIES:QuickScores; Softball - Adult Game
TRANSP:0
DALARM:20260809T090000;PT10M;2;Hustlers vs. Cruisers
END:VEVENT
BEGIN:VEVENT
DTSTART:20260809T120000
DTEND:20260809T130000
SUMMARY:Renegades vs. Hustlers
DESCRIPTION:Divisions 1 & 2 - RCSL
LOCATION:Hank Soar 3
CATEGORIES:QuickScores; Softball - Adult Game
TRANSP:0
DALARM:20260809T100000;PT10M;2;Renegades vs. Hustlers
END:VEVENT
BEGIN:VEVENT
DTSTART:20260809T120000
DTEND:20260809T130000
SUMMARY:Cruisers vs. Riptide
DESCRIPTION:Divisions 1 & 2 - RCSL
LOCATION:Hank Soar 2
CATEGORIES:QuickScores; Softball - Adult Game
TRANSP:0
DALARM:20260809T100000;PT10M;2;Cruisers vs. Riptide
END:VEVENT
BEGIN:VEVENT
DTSTART:20260809T130000
DTEND:20260809T140000
SUMMARY:Riptide vs. Renegades
DESCRIPTION:Divisions 1 & 2 - RCSL
LOCATION:Hank Soar 3
CATEGORIES:QuickScores; Softball - Adult Game
TRANSP:0
DALARM:20260809T110000;PT10M;2;Riptide vs. Renegades
END:VEVENT
END:VCALENDAR
