BEGIN:VCALENDAR
VERSION:1.0
BEGIN:VEVENT
DTSTART:20260217T174000
DTEND:20260217T182000
SUMMARY:Merrifield/Scognamiglio vs. DeBrower/Johnson
DESCRIPTION:LSL Tuesday Night High Intermediate League - Late Winter 26 - Paddle Up Pickleball Club
LOCATION:Court 7
CATEGORIES:QuickScores; Pickleball Game
TRANSP:0
DALARM:20260217T154000;PT10M;2;Merrifield/Scognamiglio vs. DeBrower/Johnson
END:VEVENT
BEGIN:VEVENT
DTSTART:20260217T174000
DTEND:20260217T182000
SUMMARY:Raines/Shingler vs. Kaus/Albrecht
DESCRIPTION:LSL Tuesday Night High Intermediate League - Late Winter 26 - Paddle Up Pickleball Club
LOCATION:Court 4
CATEGORIES:QuickScores; Pickleball Game
TRANSP:0
DALARM:20260217T154000;PT10M;2;Raines/Shingler vs. Kaus/Albrecht
END:VEVENT
BEGIN:VEVENT
DTSTART:20260217T182000
DTEND:20260217T190000
SUMMARY:Merrifield/Scognamiglio vs. Presley/Eddy
DESCRIPTION:LSL Tuesday Night High Intermediate League - Late Winter 26 - Paddle Up Pickleball Club
LOCATION:Court 7
CATEGORIES:QuickScores; Pickleball Game
TRANSP:0
DALARM:20260217T162000;PT10M;2;Merrifield/Scognamiglio vs. Presley/Eddy
END:VEVENT
BEGIN:VEVENT
DTSTART:20260217T182000
DTEND:20260217T190000
SUMMARY:Bodmer/Sigman vs. Raines/Shingler
DESCRIPTION:LSL Tuesday Night High Intermediate League - Late Winter 26 - Paddle Up Pickleball Club
LOCATION:Court 8
CATEGORIES:QuickScores; Pickleball Game
TRANSP:0
DALARM:20260217T162000;PT10M;2;Bodmer/Sigman vs. Raines/Shingler
END:VEVENT
BEGIN:VEVENT
DTSTART:20260217T182000
DTEND:20260217T190000
SUMMARY:Kaus/Albrecht vs. DeBrower/Johnson
DESCRIPTION:LSL Tuesday Night High Intermediate League - Late Winter 26 - Paddle Up Pickleball Club
LOCATION:Court 4
CATEGORIES:QuickScores; Pickleball Game
TRANSP:0
DALARM:20260217T162000;PT10M;2;Kaus/Albrecht vs. DeBrower/Johnson
END:VEVENT
BEGIN:VEVENT
DTSTART:20260217T190000
DTEND:20260217T194000
SUMMARY:Guion/Yates vs. Presley/Eddy
DESCRIPTION:LSL Tuesday Night High Intermediate League - Late Winter 26 - Paddle Up Pickleball Club
LOCATION:Court 7
CATEGORIES:QuickScores; Pickleball Game
TRANSP:0
DALARM:20260217T170000;PT10M;2;Guion/Yates vs. Presley/Eddy
END:VEVENT
BEGIN:VEVENT
DTSTART:20260217T190000
DTEND:20260217T194000
SUMMARY:Sims/Newman vs. Bodmer/Sigman
DESCRIPTION:LSL Tuesday Night High Intermediate League - Late Winter 26 - Paddle Up Pickleball Club
LOCATION:Court 8
CATEGORIES:QuickScores; Pickleball Game
TRANSP:0
DALARM:20260217T170000;PT10M;2;Sims/Newman vs. Bodmer/Sigman
END:VEVENT
BEGIN:VEVENT
DTSTART:20260217T194000
DTEND:20260217T202000
SUMMARY:Harvatin/Harvatin vs. Roppa/Brengarth
DESCRIPTION:LSL Tuesday Night High Intermediate League - Late Winter 26 - Paddle Up Pickleball Club
LOCATION:Court 7
CATEGORIES:QuickScores; Pickleball Game
TRANSP:0
DALARM:20260217T174000;PT10M;2;Harvatin/Harvatin vs. Roppa/Brengarth
END:VEVENT
BEGIN:VEVENT
DTSTART:20260217T194000
DTEND:20260217T202000
SUMMARY:Guion/Yates vs. Sims/Newman
DESCRIPTION:LSL Tuesday Night High Intermediate League - Late Winter 26 - Paddle Up Pickleball Club
LOCATION:Court 8
CATEGORIES:QuickScores; Pickleball Game
TRANSP:0
DALARM:20260217T174000;PT10M;2;Guion/Yates vs. Sims/Newman
END:VEVENT
BEGIN:VEVENT
DTSTART:20260217T202000
DTEND:20260217T210000
SUMMARY:Stone/Bischoff vs. Switzer/Lanteigne
DESCRIPTION:LSL Tuesday Night High Intermediate League - Late Winter 26 - Paddle Up Pickleball Club
LOCATION:Court 7
CATEGORIES:QuickScores; Pickleball Game
TRANSP:0
DALARM:20260217T182000;PT10M;2;Stone/Bischoff vs. Switzer/Lanteigne
END:VEVENT
BEGIN:VEVENT
DTSTART:20260217T210000
DTEND:20260217T214000
SUMMARY:Harvatin/Harvatin vs. Switzer/Lanteigne
DESCRIPTION:LSL Tuesday Night High Intermediate League - Late Winter 26 - Paddle Up Pickleball Club
LOCATION:Court 7
CATEGORIES:QuickScores; Pickleball Game
TRANSP:0
DALARM:20260217T190000;PT10M;2;Harvatin/Harvatin vs. Switzer/Lanteigne
END:VEVENT
BEGIN:VEVENT
DTSTART:20260217T210000
DTEND:20260217T214000
SUMMARY:Stone/Bischoff vs. Roppa/Brengarth
DESCRIPTION:LSL Tuesday Night High Intermediate League - Late Winter 26 - Paddle Up Pickleball Club
LOCATION:Court 8
CATEGORIES:QuickScores; Pickleball Game
TRANSP:0
DALARM:20260217T190000;PT10M;2;Stone/Bischoff vs. Roppa/Brengarth
END:VEVENT
BEGIN:VEVENT
DTSTART:20260224T174000
DTEND:20260224T182000
SUMMARY:Kaus/Albrecht vs. Guion/Yates
DESCRIPTION:LSL Tuesday Night High Intermediate League - Late Winter 26 - Paddle Up Pickleball Club
LOCATION:Court 7
CATEGORIES:QuickScores; Pickleball Game
TRANSP:0
DALARM:20260224T154000;PT10M;2;Kaus/Albrecht vs. Guion/Yates
END:VEVENT
BEGIN:VEVENT
DTSTART:20260224T174000
DTEND:20260224T182000
SUMMARY:Stone/Bischoff vs. Bodmer/Sigman
DESCRIPTION:LSL Tuesday Night High Intermediate League - Late Winter 26 - Paddle Up Pickleball Club
LOCATION:Court 4
CATEGORIES:QuickScores; Pickleball Game
TRANSP:0
DALARM:20260224T154000;PT10M;2;Stone/Bischoff vs. Bodmer/Sigman
END:VEVENT
BEGIN:VEVENT
DTSTART:20260224T182000
DTEND:20260224T190000
SUMMARY:Stone/Bischoff vs. Guion/Yates
DESCRIPTION:LSL Tuesday Night High Intermediate League - Late Winter 26 - Paddle Up Pickleball Club
LOCATION:Court 4
CATEGORIES:QuickScores; Pickleball Game
TRANSP:0
DALARM:20260224T162000;PT10M;2;Stone/Bischoff vs. Guion/Yates
END:VEVENT
BEGIN:VEVENT
DTSTART:20260224T182000
DTEND:20260224T190000
SUMMARY:Bodmer/Sigman vs. DeBrower/Johnson
DESCRIPTION:LSL Tuesday Night High Intermediate League - Late Winter 26 - Paddle Up Pickleball Club
LOCATION:Court 8
CATEGORIES:QuickScores; Pickleball Game
TRANSP:0
DALARM:20260224T162000;PT10M;2;Bodmer/Sigman vs. DeBrower/Johnson
END:VEVENT
BEGIN:VEVENT
DTSTART:20260224T182000
DTEND:20260224T190000
SUMMARY:Kaus/Albrecht vs. Roppa/Brengarth
DESCRIPTION:LSL Tuesday Night High Intermediate League - Late Winter 26 - Paddle Up Pickleball Club
LOCATION:Court 7
CATEGORIES:QuickScores; Pickleball Game
TRANSP:0
DALARM:20260224T162000;PT10M;2;Kaus/Albrecht vs. Roppa/Brengarth
END:VEVENT
BEGIN:VEVENT
DTSTART:20260224T190000
DTEND:20260224T194000
SUMMARY:Sims/Newman vs. Roppa/Brengarth
DESCRIPTION:LSL Tuesday Night High Intermediate League - Late Winter 26 - Paddle Up Pickleball Club
LOCATION:Court 7
CATEGORIES:QuickScores; Pickleball Game
TRANSP:0
DALARM:20260224T170000;PT10M;2;Sims/Newman vs. Roppa/Brengarth
END:VEVENT
BEGIN:VEVENT
DTSTART:20260224T190000
DTEND:20260224T194000
SUMMARY:DeBrower/Johnson vs. Harvatin/Harvatin
DESCRIPTION:LSL Tuesday Night High Intermediate League - Late Winter 26 - Paddle Up Pickleball Club
LOCATION:Court 8
CATEGORIES:QuickScores; Pickleball Game
TRANSP:0
DALARM:20260224T170000;PT10M;2;DeBrower/Johnson vs. Harvatin/Harvatin
END:VEVENT
BEGIN:VEVENT
DTSTART:20260224T194000
DTEND:20260224T202000
SUMMARY:Harvatin/Harvatin vs. Merrifield/Scognamiglio
DESCRIPTION:LSL Tuesday Night High Intermediate League - Late Winter 26 - Paddle Up Pickleball Club
LOCATION:Court 8
CATEGORIES:QuickScores; Pickleball Game
TRANSP:0
DALARM:20260224T174000;PT10M;2;Harvatin/Harvatin vs. Merrifield/Scognamiglio
END:VEVENT
BEGIN:VEVENT
DTSTART:20260224T194000
DTEND:20260224T202000
SUMMARY:Sims/Newman vs. Switzer/Lanteigne
DESCRIPTION:LSL Tuesday Night High Intermediate League - Late Winter 26 - Paddle Up Pickleball Club
LOCATION:Court 7
CATEGORIES:QuickScores; Pickleball Game
TRANSP:0
DALARM:20260224T174000;PT10M;2;Sims/Newman vs. Switzer/Lanteigne
END:VEVENT
BEGIN:VEVENT
DTSTART:20260224T202000
DTEND:20260224T210000
SUMMARY:Raines/Shingler vs. Presley/Eddy
DESCRIPTION:LSL Tuesday Night High Intermediate League - Late Winter 26 - Paddle Up Pickleball Club
LOCATION:Court 7
CATEGORIES:QuickScores; Pickleball Game
TRANSP:0
DALARM:20260224T182000;PT10M;2;Raines/Shingler vs. Presley/Eddy
END:VEVENT
BEGIN:VEVENT
DTSTART:20260224T210000
DTEND:20260224T214000
SUMMARY:Merrifield/Scognamiglio vs. Raines/Shingler
DESCRIPTION:LSL Tuesday Night High Intermediate League - Late Winter 26 - Paddle Up Pickleball Club
LOCATION:Court 8
CATEGORIES:QuickScores; Pickleball Game
TRANSP:0
DALARM:20260224T190000;PT10M;2;Merrifield/Scognamiglio vs. Raines/Shingler
END:VEVENT
BEGIN:VEVENT
DTSTART:20260224T210000
DTEND:20260224T214000
SUMMARY:Switzer/Lanteigne vs. Presley/Eddy
DESCRIPTION:LSL Tuesday Night High Intermediate League - Late Winter 26 - Paddle Up Pickleball Club
LOCATION:Court 7
CATEGORIES:QuickScores; Pickleball Game
TRANSP:0
DALARM:20260224T190000;PT10M;2;Switzer/Lanteigne vs. Presley/Eddy
END:VEVENT
BEGIN:VEVENT
DTSTART:20260303T174000
DTEND:20260303T182000
SUMMARY:Raines/Shingler vs. Harvatin/Harvatin
DESCRIPTION:LSL Tuesday Night High Intermediate League - Late Winter 26 - Paddle Up Pickleball Club
LOCATION:Court 4
CATEGORIES:QuickScores; Pickleball Game
TRANSP:0
DALARM:20260303T154000;PT10M;2;Raines/Shingler vs. Harvatin/Harvatin
END:VEVENT
BEGIN:VEVENT
DTSTART:20260303T174000
DTEND:20260303T182000
SUMMARY:Kaus/Albrecht vs. Stone/Bischoff
DESCRIPTION:LSL Tuesday Night High Intermediate League - Late Winter 26 - Paddle Up Pickleball Club
LOCATION:Court 7
CATEGORIES:QuickScores; Pickleball Game
TRANSP:0
DALARM:20260303T154000;PT10M;2;Kaus/Albrecht vs. Stone/Bischoff
END:VEVENT
BEGIN:VEVENT
DTSTART:20260303T182000
DTEND:20260303T190000
SUMMARY:Sims/Newman vs. Stone/Bischoff
DESCRIPTION:LSL Tuesday Night High Intermediate League - Late Winter 26 - Paddle Up Pickleball Club
LOCATION:Court 7
CATEGORIES:QuickScores; Pickleball Game
TRANSP:0
DALARM:20260303T162000;PT10M;2;Sims/Newman vs. Stone/Bischoff
END:VEVENT
BEGIN:VEVENT
DTSTART:20260303T182000
DTEND:20260303T190000
SUMMARY:Switzer/Lanteigne vs. Raines/Shingler
DESCRIPTION:LSL Tuesday Night High Intermediate League - Late Winter 26 - Paddle Up Pickleball Club
LOCATION:Court 8
CATEGORIES:QuickScores; Pickleball Game
TRANSP:0
DALARM:20260303T162000;PT10M;2;Switzer/Lanteigne vs. Raines/Shingler
END:VEVENT
BEGIN:VEVENT
DTSTART:20260303T182000
DTEND:20260303T190000
SUMMARY:Kaus/Albrecht vs. Harvatin/Harvatin
DESCRIPTION:LSL Tuesday Night High Intermediate League - Late Winter 26 - Paddle Up Pickleball Club
LOCATION:Court 4
CATEGORIES:QuickScores; Pickleball Game
TRANSP:0
DALARM:20260303T162000;PT10M;2;Kaus/Albrecht vs. Harvatin/Harvatin
END:VEVENT
BEGIN:VEVENT
DTSTART:20260303T190000
DTEND:20260303T194000
SUMMARY:Merrifield/Scognamiglio vs. Sims/Newman
DESCRIPTION:LSL Tuesday Night High Intermediate League - Late Winter 26 - Paddle Up Pickleball Club
LOCATION:Court 7
CATEGORIES:QuickScores; Pickleball Game
TRANSP:0
DALARM:20260303T170000;PT10M;2;Merrifield/Scognamiglio vs. Sims/Newman
END:VEVENT
BEGIN:VEVENT
DTSTART:20260303T190000
DTEND:20260303T194000
SUMMARY:Switzer/Lanteigne vs. Bodmer/Sigman
DESCRIPTION:LSL Tuesday Night High Intermediate League - Late Winter 26 - Paddle Up Pickleball Club
LOCATION:Court 8
CATEGORIES:QuickScores; Pickleball Game
TRANSP:0
DALARM:20260303T170000;PT10M;2;Switzer/Lanteigne vs. Bodmer/Sigman
END:VEVENT
BEGIN:VEVENT
DTSTART:20260303T194000
DTEND:20260303T202000
SUMMARY:Merrifield/Scognamiglio vs. Guion/Yates
DESCRIPTION:LSL Tuesday Night High Intermediate League - Late Winter 26 - Paddle Up Pickleball Club
LOCATION:Court 7
CATEGORIES:QuickScores; Pickleball Game
TRANSP:0
DALARM:20260303T174000;PT10M;2;Merrifield/Scognamiglio vs. Guion/Yates
END:VEVENT
BEGIN:VEVENT
DTSTART:20260303T194000
DTEND:20260303T202000
SUMMARY:Bodmer/Sigman vs. Roppa/Brengarth
DESCRIPTION:LSL Tuesday Night High Intermediate League - Late Winter 26 - Paddle Up Pickleball Club
LOCATION:Court 8
CATEGORIES:QuickScores; Pickleball Game
TRANSP:0
DALARM:20260303T174000;PT10M;2;Bodmer/Sigman vs. Roppa/Brengarth
END:VEVENT
BEGIN:VEVENT
DTSTART:20260303T202000
DTEND:20260303T210000
SUMMARY:DeBrower/Johnson vs. Presley/Eddy
DESCRIPTION:LSL Tuesday Night High Intermediate League - Late Winter 26 - Paddle Up Pickleball Club
LOCATION:Court 7
CATEGORIES:QuickScores; Pickleball Game
TRANSP:0
DALARM:20260303T182000;PT10M;2;DeBrower/Johnson vs. Presley/Eddy
END:VEVENT
BEGIN:VEVENT
DTSTART:20260303T210000
DTEND:20260303T214000
SUMMARY:Roppa/Brengarth vs. DeBrower/Johnson
DESCRIPTION:LSL Tuesday Night High Intermediate League - Late Winter 26 - Paddle Up Pickleball Club
LOCATION:Court 8
CATEGORIES:QuickScores; Pickleball Game
TRANSP:0
DALARM:20260303T190000;PT10M;2;Roppa/Brengarth vs. DeBrower/Johnson
END:VEVENT
BEGIN:VEVENT
DTSTART:20260303T210000
DTEND:20260303T214000
SUMMARY:Guion/Yates vs. Presley/Eddy
DESCRIPTION:LSL Tuesday Night High Intermediate League - Late Winter 26 - Paddle Up Pickleball Club
LOCATION:Court 7
CATEGORIES:QuickScores; Pickleball Game
TRANSP:0
DALARM:20260303T190000;PT10M;2;Guion/Yates vs. Presley/Eddy
END:VEVENT
BEGIN:VEVENT
DTSTART:20260310T174000
DTEND:20260310T182000
SUMMARY:Kaus/Albrecht vs. Merrifield/Scognamiglio
DESCRIPTION:LSL Tuesday Night High Intermediate League - Late Winter 26 - Paddle Up Pickleball Club
LOCATION:Court 4
CATEGORIES:QuickScores; Pickleball Game
TRANSP:0
DALARM:20260310T154000;PT10M;2;Kaus/Albrecht vs. Merrifield/Scognamiglio
END:VEVENT
BEGIN:VEVENT
DTSTART:20260310T174000
DTEND:20260310T182000
SUMMARY:Raines/Shingler vs. Stone/Bischoff
DESCRIPTION:LSL Tuesday Night High Intermediate League - Late Winter 26 - Paddle Up Pickleball Club
LOCATION:Court 7
CATEGORIES:QuickScores; Pickleball Game
TRANSP:0
DALARM:20260310T154000;PT10M;2;Raines/Shingler vs. Stone/Bischoff
END:VEVENT
BEGIN:VEVENT
DTSTART:20260310T182000
DTEND:20260310T190000
SUMMARY:Switzer/Lanteigne vs. Kaus/Albrecht
DESCRIPTION:LSL Tuesday Night High Intermediate League - Late Winter 26 - Paddle Up Pickleball Club
LOCATION:Court 8
CATEGORIES:QuickScores; Pickleball Game
TRANSP:0
DALARM:20260310T162000;PT10M;2;Switzer/Lanteigne vs. Kaus/Albrecht
END:VEVENT
BEGIN:VEVENT
DTSTART:20260310T182000
DTEND:20260310T190000
SUMMARY:Stone/Bischoff vs. Merrifield/Scognamiglio
DESCRIPTION:LSL Tuesday Night High Intermediate League - Late Winter 26 - Paddle Up Pickleball Club
LOCATION:Court 4
CATEGORIES:QuickScores; Pickleball Game
TRANSP:0
DALARM:20260310T162000;PT10M;2;Stone/Bischoff vs. Merrifield/Scognamiglio
END:VEVENT
BEGIN:VEVENT
DTSTART:20260310T182000
DTEND:20260310T190000
SUMMARY:Roppa/Brengarth vs. Raines/Shingler
DESCRIPTION:LSL Tuesday Night High Intermediate League - Late Winter 26 - Paddle Up Pickleball Club
LOCATION:Court 7
CATEGORIES:QuickScores; Pickleball Game
TRANSP:0
DALARM:20260310T162000;PT10M;2;Roppa/Brengarth vs. Raines/Shingler
END:VEVENT
BEGIN:VEVENT
DTSTART:20260310T190000
DTEND:20260310T194000
SUMMARY:Presley/Eddy vs. Roppa/Brengarth
DESCRIPTION:LSL Tuesday Night High Intermediate League - Late Winter 26 - Paddle Up Pickleball Club
LOCATION:Court 7
CATEGORIES:QuickScores; Pickleball Game
TRANSP:0
DALARM:20260310T170000;PT10M;2;Presley/Eddy vs. Roppa/Brengarth
END:VEVENT
BEGIN:VEVENT
DTSTART:20260310T190000
DTEND:20260310T194000
SUMMARY:DeBrower/Johnson vs. Switzer/Lanteigne
DESCRIPTION:LSL Tuesday Night High Intermediate League - Late Winter 26 - Paddle Up Pickleball Club
LOCATION:Court 8
CATEGORIES:QuickScores; Pickleball Game
TRANSP:0
DALARM:20260310T170000;PT10M;2;DeBrower/Johnson vs. Switzer/Lanteigne
END:VEVENT
BEGIN:VEVENT
DTSTART:20260310T194000
DTEND:20260310T202000
SUMMARY:Guion/Yates vs. DeBrower/Johnson
DESCRIPTION:LSL Tuesday Night High Intermediate League - Late Winter 26 - Paddle Up Pickleball Club
LOCATION:Court 8
CATEGORIES:QuickScores; Pickleball Game
TRANSP:0
DALARM:20260310T174000;PT10M;2;Guion/Yates vs. DeBrower/Johnson
END:VEVENT
BEGIN:VEVENT
DTSTART:20260310T194000
DTEND:20260310T202000
SUMMARY:Presley/Eddy vs. Bodmer/Sigman
DESCRIPTION:LSL Tuesday Night High Intermediate League - Late Winter 26 - Paddle Up Pickleball Club
LOCATION:Court 7
CATEGORIES:QuickScores; Pickleball Game
TRANSP:0
DALARM:20260310T174000;PT10M;2;Presley/Eddy vs. Bodmer/Sigman
END:VEVENT
BEGIN:VEVENT
DTSTART:20260310T202000
DTEND:20260310T210000
SUMMARY:Harvatin/Harvatin vs. Sims/Newman
DESCRIPTION:LSL Tuesday Night High Intermediate League - Late Winter 26 - Paddle Up Pickleball Club
LOCATION:Court 7
CATEGORIES:QuickScores; Pickleball Game
TRANSP:0
DALARM:20260310T182000;PT10M;2;Harvatin/Harvatin vs. Sims/Newman
END:VEVENT
BEGIN:VEVENT
DTSTART:20260310T210000
DTEND:20260310T214000
SUMMARY:Bodmer/Sigman vs. Harvatin/Harvatin
DESCRIPTION:LSL Tuesday Night High Intermediate League - Late Winter 26 - Paddle Up Pickleball Club
LOCATION:Court 7
CATEGORIES:QuickScores; Pickleball Game
TRANSP:0
DALARM:20260310T190000;PT10M;2;Bodmer/Sigman vs. Harvatin/Harvatin
END:VEVENT
BEGIN:VEVENT
DTSTART:20260310T210000
DTEND:20260310T214000
SUMMARY:Sims/Newman vs. Guion/Yates
DESCRIPTION:LSL Tuesday Night High Intermediate League - Late Winter 26 - Paddle Up Pickleball Club
LOCATION:Court 8
CATEGORIES:QuickScores; Pickleball Game
TRANSP:0
DALARM:20260310T190000;PT10M;2;Sims/Newman vs. Guion/Yates
END:VEVENT
BEGIN:VEVENT
DTSTART:20260317T174000
DTEND:20260317T182000
SUMMARY:Bodmer/Sigman vs. Merrifield/Scognamiglio
DESCRIPTION:LSL Tuesday Night High Intermediate League - Late Winter 26 - Paddle Up Pickleball Club
LOCATION:Court 7
CATEGORIES:QuickScores; Pickleball Game
TRANSP:0
DALARM:20260317T154000;PT10M;2;Bodmer/Sigman vs. Merrifield/Scognamiglio
END:VEVENT
BEGIN:VEVENT
DTSTART:20260317T174000
DTEND:20260317T182000
SUMMARY:Guion/Yates vs. Kaus/Albrecht
DESCRIPTION:LSL Tuesday Night High Intermediate League - Late Winter 26 - Paddle Up Pickleball Club
LOCATION:Court 4
CATEGORIES:QuickScores; Pickleball Game
TRANSP:0
DALARM:20260317T154000;PT10M;2;Guion/Yates vs. Kaus/Albrecht
END:VEVENT
BEGIN:VEVENT
DTSTART:20260317T182000
DTEND:20260317T190000
SUMMARY:Presley/Eddy vs. Kaus/Albrecht
DESCRIPTION:LSL Tuesday Night High Intermediate League - Late Winter 26 - Paddle Up Pickleball Club
LOCATION:Court 8
CATEGORIES:QuickScores; Pickleball Game
TRANSP:0
DALARM:20260317T162000;PT10M;2;Presley/Eddy vs. Kaus/Albrecht
END:VEVENT
BEGIN:VEVENT
DTSTART:20260317T182000
DTEND:20260317T190000
SUMMARY:Switzer/Lanteigne vs. Merrifield/Scognamiglio
DESCRIPTION:LSL Tuesday Night High Intermediate League - Late Winter 26 - Paddle Up Pickleball Club
LOCATION:Court 7
CATEGORIES:QuickScores; Pickleball Game
TRANSP:0
DALARM:20260317T162000;PT10M;2;Switzer/Lanteigne vs. Merrifield/Scognamiglio
END:VEVENT
BEGIN:VEVENT
DTSTART:20260317T182000
DTEND:20260317T190000
SUMMARY:Guion/Yates vs. Bodmer/Sigman
DESCRIPTION:LSL Tuesday Night High Intermediate League - Late Winter 26 - Paddle Up Pickleball Club
LOCATION:Court 4
CATEGORIES:QuickScores; Pickleball Game
TRANSP:0
DALARM:20260317T162000;PT10M;2;Guion/Yates vs. Bodmer/Sigman
END:VEVENT
BEGIN:VEVENT
DTSTART:20260317T190000
DTEND:20260317T194000
SUMMARY:Presley/Eddy vs. Harvatin/Harvatin
DESCRIPTION:LSL Tuesday Night High Intermediate League - Late Winter 26 - Paddle Up Pickleball Club
LOCATION:Court 8
CATEGORIES:QuickScores; Pickleball Game
TRANSP:0
DALARM:20260317T170000;PT10M;2;Presley/Eddy vs. Harvatin/Harvatin
END:VEVENT
BEGIN:VEVENT
DTSTART:20260317T190000
DTEND:20260317T194000
SUMMARY:Roppa/Brengarth vs. Switzer/Lanteigne
DESCRIPTION:LSL Tuesday Night High Intermediate League - Late Winter 26 - Paddle Up Pickleball Club
LOCATION:Court 7
CATEGORIES:QuickScores; Pickleball Game
TRANSP:0
DALARM:20260317T170000;PT10M;2;Roppa/Brengarth vs. Switzer/Lanteigne
END:VEVENT
BEGIN:VEVENT
DTSTART:20260317T194000
DTEND:20260317T202000
SUMMARY:Harvatin/Harvatin vs. Stone/Bischoff
DESCRIPTION:LSL Tuesday Night High Intermediate League - Late Winter 26 - Paddle Up Pickleball Club
LOCATION:Court 8
CATEGORIES:QuickScores; Pickleball Game
TRANSP:0
DALARM:20260317T174000;PT10M;2;Harvatin/Harvatin vs. Stone/Bischoff
END:VEVENT
BEGIN:VEVENT
DTSTART:20260317T194000
DTEND:20260317T202000
SUMMARY:Roppa/Brengarth vs. Sims/Newman
DESCRIPTION:LSL Tuesday Night High Intermediate League - Late Winter 26 - Paddle Up Pickleball Club
LOCATION:Court 7
CATEGORIES:QuickScores; Pickleball Game
TRANSP:0
DALARM:20260317T174000;PT10M;2;Roppa/Brengarth vs. Sims/Newman
END:VEVENT
BEGIN:VEVENT
DTSTART:20260317T202000
DTEND:20260317T210000
SUMMARY:DeBrower/Johnson vs. Raines/Shingler
DESCRIPTION:LSL Tuesday Night High Intermediate League - Late Winter 26 - Paddle Up Pickleball Club
LOCATION:Court 7
CATEGORIES:QuickScores; Pickleball Game
TRANSP:0
DALARM:20260317T182000;PT10M;2;DeBrower/Johnson vs. Raines/Shingler
END:VEVENT
BEGIN:VEVENT
DTSTART:20260317T210000
DTEND:20260317T214000
SUMMARY:DeBrower/Johnson vs. Stone/Bischoff
DESCRIPTION:LSL Tuesday Night High Intermediate League - Late Winter 26 - Paddle Up Pickleball Club
LOCATION:Court 8
CATEGORIES:QuickScores; Pickleball Game
TRANSP:0
DALARM:20260317T190000;PT10M;2;DeBrower/Johnson vs. Stone/Bischoff
END:VEVENT
BEGIN:VEVENT
DTSTART:20260317T210000
DTEND:20260317T214000
SUMMARY:Raines/Shingler vs. Sims/Newman
DESCRIPTION:LSL Tuesday Night High Intermediate League - Late Winter 26 - Paddle Up Pickleball Club
LOCATION:Court 7
CATEGORIES:QuickScores; Pickleball Game
TRANSP:0
DALARM:20260317T190000;PT10M;2;Raines/Shingler vs. Sims/Newman
END:VEVENT
BEGIN:VEVENT
DTSTART:20260324T180000
DTEND:20260324T183000
SUMMARY:[6] Stone/Bischoff vs. [11] Raines/Shingler
DESCRIPTION:LSL Tuesday Night High Intermediate League - Late Winter 26 - Paddle Up Pickleball Club
LOCATION:Court 5
CATEGORIES:QuickScores; Pickleball Game
TRANSP:0
DALARM:20260324T160000;PT10M;2;[6] Stone/Bischoff vs. [11] Raines/Shingler
END:VEVENT
BEGIN:VEVENT
DTSTART:20260324T180000
DTEND:20260324T183000
SUMMARY:[7] Guion/Yates vs. [10] Roppa/Brengarth
DESCRIPTION:LSL Tuesday Night High Intermediate League - Late Winter 26 - Paddle Up Pickleball Club
LOCATION:Court 4
CATEGORIES:QuickScores; Pickleball Game
TRANSP:0
DALARM:20260324T160000;PT10M;2;[7] Guion/Yates vs. [10] Roppa/Brengarth
END:VEVENT
BEGIN:VEVENT
DTSTART:20260324T180000
DTEND:20260324T183000
SUMMARY:[8] Merrifield/Scognamiglio vs. [9] Switzer/Lanteigne
DESCRIPTION:LSL Tuesday Night High Intermediate League - Late Winter 26 - Paddle Up Pickleball Club
LOCATION:Court 3
CATEGORIES:QuickScores; Pickleball Game
TRANSP:0
DALARM:20260324T160000;PT10M;2;[8] Merrifield/Scognamiglio vs. [9] Switzer/Lanteigne
END:VEVENT
BEGIN:VEVENT
DTSTART:20260324T183000
DTEND:20260324T190000
SUMMARY:[2] Harvatin/Harvatin vs. Winner of Game 2
DESCRIPTION:LSL Tuesday Night High Intermediate League - Late Winter 26 - Paddle Up Pickleball Club
LOCATION:Court 4
CATEGORIES:QuickScores; Pickleball Game
TRANSP:0
DALARM:20260324T163000;PT10M;2;[2] Harvatin/Harvatin vs. Winner of Game 2
END:VEVENT
BEGIN:VEVENT
DTSTART:20260324T183000
DTEND:20260324T190000
SUMMARY:[3] DeBrower/Johnson vs. Winner of Game 3
DESCRIPTION:LSL Tuesday Night High Intermediate League - Late Winter 26 - Paddle Up Pickleball Club
LOCATION:Court 5
CATEGORIES:QuickScores; Pickleball Game
TRANSP:0
DALARM:20260324T163000;PT10M;2;[3] DeBrower/Johnson vs. Winner of Game 3
END:VEVENT
BEGIN:VEVENT
DTSTART:20260324T190000
DTEND:20260324T193000
SUMMARY:[1] Presley/Eddy vs. Winner of Game 1
DESCRIPTION:LSL Tuesday Night High Intermediate League - Late Winter 26 - Paddle Up Pickleball Club
LOCATION:Court 4
CATEGORIES:QuickScores; Pickleball Game
TRANSP:0
DALARM:20260324T170000;PT10M;2;[1] Presley/Eddy vs. Winner of Game 1
END:VEVENT
BEGIN:VEVENT
DTSTART:20260324T193000
DTEND:20260324T200000
SUMMARY:[4] Kaus/Albrecht vs. [5] Sims/Newman
DESCRIPTION:LSL Tuesday Night High Intermediate League - Late Winter 26 - Paddle Up Pickleball Club
LOCATION:Court 4
CATEGORIES:QuickScores; Pickleball Game
TRANSP:0
DALARM:20260324T173000;PT10M;2;[4] Kaus/Albrecht vs. [5] Sims/Newman
END:VEVENT
BEGIN:VEVENT
DTSTART:20260324T193000
DTEND:20260324T200000
SUMMARY:Winner of Game 6 vs. Winner of Game 7
DESCRIPTION:LSL Tuesday Night High Intermediate League - Late Winter 26 - Paddle Up Pickleball Club
LOCATION:Court 5
CATEGORIES:QuickScores; Pickleball Game
TRANSP:0
DALARM:20260324T173000;PT10M;2;Winner of Game 6 vs. Winner of Game 7
END:VEVENT
BEGIN:VEVENT
DTSTART:20260324T200000
DTEND:20260324T203000
SUMMARY:Winner of Game 5 vs. Winner of Game 4
DESCRIPTION:LSL Tuesday Night High Intermediate League - Late Winter 26 - Paddle Up Pickleball Club
LOCATION:Court 4
CATEGORIES:QuickScores; Pickleball Game
TRANSP:0
DALARM:20260324T180000;PT10M;2;Winner of Game 5 vs. Winner of Game 4
END:VEVENT
BEGIN:VEVENT
DTSTART:20260324T203000
DTEND:20260324T210000
SUMMARY:Winner of Game 8 vs. Winner of Game 9
DESCRIPTION:LSL Tuesday Night High Intermediate League - Late Winter 26 - Paddle Up Pickleball Club
LOCATION:Court 4
CATEGORIES:QuickScores; Pickleball Game
TRANSP:0
DALARM:20260324T183000;PT10M;2;Winner of Game 8 vs. Winner of Game 9
END:VEVENT
END:VCALENDAR
