BEGIN:VCALENDAR
VERSION:1.0
BEGIN:VEVENT
DTSTART:20260213T170000
DTEND:20260213T174500
SUMMARY:Magic U10B Green vs. CCSC U10B Navy
DESCRIPTION:U10 Boys Y - Dakota United Soccer Club
LOCATION:SANFORD 1 - Fort Abraham Lincoln Foundation
CATEGORIES:QuickScores; Soccer - Youth Game
TRANSP:0
DALARM:20260213T150000;PT10M;2;Magic U10B Green vs. CCSC U10B Navy
END:VEVENT
BEGIN:VEVENT
DTSTART:20260214T123000
DTEND:20260214T131500
SUMMARY:Magic U10B Green vs. MC Legends U10B Red
DESCRIPTION:U10 Boys Y - Dakota United Soccer Club
LOCATION:SANFORD 2 - Bismarck Mandan CVB
CATEGORIES:QuickScores; Soccer - Youth Game
TRANSP:0
DALARM:20260214T103000;PT10M;2;Magic U10B Green vs. MC Legends U10B Red
END:VEVENT
BEGIN:VEVENT
DTSTART:20260214T131500
DTEND:20260214T140000
SUMMARY:CCSC U10B Navy vs. WUFC U10B
DESCRIPTION:U10 Boys Y - Dakota United Soccer Club
LOCATION:SANFORD 1 - Fort Abraham Lincoln Foundation
CATEGORIES:QuickScores; Soccer - Youth Game
TRANSP:0
DALARM:20260214T111500;PT10M;2;CCSC U10B Navy vs. WUFC U10B
END:VEVENT
BEGIN:VEVENT
DTSTART:20260214T200000
DTEND:20260214T204500
SUMMARY:CCSC U10B Navy vs. MC Legends U10B Red
DESCRIPTION:U10 Boys Y - Dakota United Soccer Club
LOCATION:SANFORD 2 - Bismarck Mandan CVB
CATEGORIES:QuickScores; Soccer - Youth Game
TRANSP:0
DALARM:20260214T180000;PT10M;2;CCSC U10B Navy vs. MC Legends U10B Red
END:VEVENT
BEGIN:VEVENT
DTSTART:20260214T204500
DTEND:20260214T213000
SUMMARY:WUFC U10B vs. Magic U10B Green
DESCRIPTION:U10 Boys Y - Dakota United Soccer Club
LOCATION:SANFORD 2 - Bismarck Mandan CVB
CATEGORIES:QuickScores; Soccer - Youth Game
TRANSP:0
DALARM:20260214T184500;PT10M;2;WUFC U10B vs. Magic U10B Green
END:VEVENT
BEGIN:VEVENT
DTSTART:20260215T084500
DTEND:20260215T093000
SUMMARY:MC Legends U10B Red vs. WUFC U10B
DESCRIPTION:U10 Boys Y - Dakota United Soccer Club
LOCATION:SANFORD 1 - Fort Abraham Lincoln Foundation
CATEGORIES:QuickScores; Soccer - Youth Game
TRANSP:0
DALARM:20260215T064500;PT10M;2;MC Legends U10B Red vs. WUFC U10B
END:VEVENT
BEGIN:VEVENT
DTSTART:20260215T153000
DTEND:20260215T161500
SUMMARY:[1] MC Legends U10B Red vs. [2] WUFC U10B
DESCRIPTION:U10 Boys Y - Dakota United Soccer Club
LOCATION:SANFORD 2 - Bismarck Mandan CVB
CATEGORIES:QuickScores; Soccer - Youth Game
TRANSP:0
DALARM:20260215T133000;PT10M;2;[1] MC Legends U10B Red vs. [2] WUFC U10B
END:VEVENT
END:VCALENDAR
