BEGIN:VCALENDAR
VERSION:1.0
BEGIN:VEVENT
DTSTART:20260213T191500
DTEND:20260213T200000
SUMMARY:CCSC U17B vs. Magic U17B Black
DESCRIPTION:U16/17 Boys - Dakota United Soccer Club
LOCATION:DOME 2 - Bismarck Mandan CVB
CATEGORIES:QuickScores; Soccer - Youth Game
TRANSP:0
DALARM:20260213T171500;PT10M;2;CCSC U17B vs. Magic U17B Black
END:VEVENT
BEGIN:VEVENT
DTSTART:20260214T101500
DTEND:20260214T110000
SUMMARY:WUFC U15/16B Orange vs. CCSC U17B
DESCRIPTION:U16/17 Boys - Dakota United Soccer Club
LOCATION:DOME 2 - Bismarck Mandan CVB
CATEGORIES:QuickScores; Soccer - Youth Game
TRANSP:0
DALARM:20260214T081500;PT10M;2;WUFC U15/16B Orange vs. CCSC U17B
END:VEVENT
BEGIN:VEVENT
DTSTART:20260214T123000
DTEND:20260214T131500
SUMMARY:MC Legends U16B Red vs. Magic U17B Black
DESCRIPTION:U16/17 Boys - Dakota United Soccer Club
LOCATION:DOME 2 - Bismarck Mandan CVB
CATEGORIES:QuickScores; Soccer - Youth Game
TRANSP:0
DALARM:20260214T103000;PT10M;2;MC Legends U16B Red vs. Magic U17B Black
END:VEVENT
BEGIN:VEVENT
DTSTART:20260214T204500
DTEND:20260214T213000
SUMMARY:CCSC U17B vs. MC Legends U16B Red
DESCRIPTION:U16/17 Boys - Dakota United Soccer Club
LOCATION:DOME 2 - Bismarck Mandan CVB
CATEGORIES:QuickScores; Soccer - Youth Game
TRANSP:0
DALARM:20260214T184500;PT10M;2;CCSC U17B vs. MC Legends U16B Red
END:VEVENT
BEGIN:VEVENT
DTSTART:20260214T221500
DTEND:20260214T230000
SUMMARY:Magic U17B Black vs. WUFC U15/16B Orange
DESCRIPTION:U16/17 Boys - Dakota United Soccer Club
LOCATION:DOME 3 - Basin Electric
CATEGORIES:QuickScores; Soccer - Youth Game
TRANSP:0
DALARM:20260214T201500;PT10M;2;Magic U17B Black vs. WUFC U15/16B Orange
END:VEVENT
BEGIN:VEVENT
DTSTART:20260215T110000
DTEND:20260215T114500
SUMMARY:MC Legends U16B Red vs. WUFC U15/16B Orange
DESCRIPTION:U16/17 Boys - Dakota United Soccer Club
LOCATION:DOME 2 - Bismarck Mandan CVB
CATEGORIES:QuickScores; Soccer - Youth Game
TRANSP:0
DALARM:20260215T090000;PT10M;2;MC Legends U16B Red vs. WUFC U15/16B Orange
END:VEVENT
BEGIN:VEVENT
DTSTART:20260215T161500
DTEND:20260215T170000
SUMMARY:[1] WUFC U15/16B Orange vs. [2] Magic U17B Black
DESCRIPTION:U16/17 Boys - Dakota United Soccer Club
LOCATION:DOME 2 - Bismarck Mandan CVB
CATEGORIES:QuickScores; Soccer - Youth Game
TRANSP:0
DALARM:20260215T141500;PT10M;2;[1] WUFC U15/16B Orange vs. [2] Magic U17B Black
END:VEVENT
END:VCALENDAR
