BEGIN:VCALENDAR
VERSION:1.0
BEGIN:VEVENT
DTSTART:20260227T183000
DTEND:20260227T193000
SUMMARY:TEAM 02 - FREDERICK (GOLD) vs. TEAM 04 - LAMA (ROYAL)
DESCRIPTION:7 & 8 COED NORTH - City of Peoria Sports
LOCATION:Paloma Flag Football Field 2
CATEGORIES:QuickScores; Flag Football - Youth Game
TRANSP:0
DALARM:20260227T163000;PT10M;2;TEAM 02 - FREDERICK (GOLD) vs. TEAM 04 - LAMA (ROYAL)
END:VEVENT
BEGIN:VEVENT
DTSTART:20260227T183000
DTEND:20260227T193000
SUMMARY:TEAM 01 - JONES (RED) vs. TEAM 03 - TOONE (NEON GREEN)
DESCRIPTION:7 & 8 COED NORTH - City of Peoria Sports
LOCATION:Paloma Flag Football Field 1
CATEGORIES:QuickScores; Flag Football - Youth Game
TRANSP:0
DALARM:20260227T163000;PT10M;2;TEAM 01 - JONES (RED) vs. TEAM 03 - TOONE (NEON GREEN)
END:VEVENT
BEGIN:VEVENT
DTSTART:20260306T183000
DTEND:20260306T193000
SUMMARY:TEAM 02 - FREDERICK (GOLD) vs. TEAM 01 - JONES (RED)
DESCRIPTION:7 & 8 COED NORTH - City of Peoria Sports
LOCATION:Paloma Flag Football Field 2
CATEGORIES:QuickScores; Flag Football - Youth Game
TRANSP:0
DALARM:20260306T163000;PT10M;2;TEAM 02 - FREDERICK (GOLD) vs. TEAM 01 - JONES (RED)
END:VEVENT
BEGIN:VEVENT
DTSTART:20260306T183000
DTEND:20260306T193000
SUMMARY:TEAM 03 - TOONE (NEON GREEN) vs. TEAM 04 - LAMA (ROYAL)
DESCRIPTION:7 & 8 COED NORTH - City of Peoria Sports
LOCATION:Paloma Flag Football Field 1
CATEGORIES:QuickScores; Flag Football - Youth Game
TRANSP:0
DALARM:20260306T163000;PT10M;2;TEAM 03 - TOONE (NEON GREEN) vs. TEAM 04 - LAMA (ROYAL)
END:VEVENT
BEGIN:VEVENT
DTSTART:20260313T183000
DTEND:20260313T193000
SUMMARY:TEAM 04 - LAMA (ROYAL) vs. TEAM 01 - JONES (RED)
DESCRIPTION:7 & 8 COED NORTH - City of Peoria Sports
LOCATION:Paloma Flag Football Field 1
CATEGORIES:QuickScores; Flag Football - Youth Game
TRANSP:0
DALARM:20260313T163000;PT10M;2;TEAM 04 - LAMA (ROYAL) vs. TEAM 01 - JONES (RED)
END:VEVENT
BEGIN:VEVENT
DTSTART:20260313T183000
DTEND:20260313T193000
SUMMARY:TEAM 02 - FREDERICK (GOLD) vs. TEAM 03 - TOONE (NEON GREEN)
DESCRIPTION:7 & 8 COED NORTH - City of Peoria Sports
LOCATION:Paloma Flag Football Field 2
CATEGORIES:QuickScores; Flag Football - Youth Game
TRANSP:0
DALARM:20260313T163000;PT10M;2;TEAM 02 - FREDERICK (GOLD) vs. TEAM 03 - TOONE (NEON GREEN)
END:VEVENT
BEGIN:VEVENT
DTSTART:20260320T173000
DTEND:20260320T183000
SUMMARY:TEAM 04 - LAMA (ROYAL) vs. TEAM 02 - FREDERICK (GOLD)
DESCRIPTION:7 & 8 COED NORTH - City of Peoria Sports
LOCATION:Paloma Flag Football Field 1
CATEGORIES:QuickScores; Flag Football - Youth Game
TRANSP:0
DALARM:20260320T153000;PT10M;2;TEAM 04 - LAMA (ROYAL) vs. TEAM 02 - FREDERICK (GOLD)
END:VEVENT
BEGIN:VEVENT
DTSTART:20260320T173000
DTEND:20260320T183000
SUMMARY:TEAM 03 - TOONE (NEON GREEN) vs. TEAM 01 - JONES (RED)
DESCRIPTION:7 & 8 COED NORTH - City of Peoria Sports
LOCATION:Paloma Flag Football Field 2
CATEGORIES:QuickScores; Flag Football - Youth Game
TRANSP:0
DALARM:20260320T153000;PT10M;2;TEAM 03 - TOONE (NEON GREEN) vs. TEAM 01 - JONES (RED)
END:VEVENT
BEGIN:VEVENT
DTSTART:20260327T173000
DTEND:20260327T183000
SUMMARY:TEAM 01 - JONES (RED) vs. TEAM 02 - FREDERICK (GOLD)
DESCRIPTION:7 & 8 COED NORTH - City of Peoria Sports
LOCATION:Paloma Flag Football Field 1
CATEGORIES:QuickScores; Flag Football - Youth Game
TRANSP:0
DALARM:20260327T153000;PT10M;2;TEAM 01 - JONES (RED) vs. TEAM 02 - FREDERICK (GOLD)
END:VEVENT
BEGIN:VEVENT
DTSTART:20260327T173000
DTEND:20260327T183000
SUMMARY:TEAM 04 - LAMA (ROYAL) vs. TEAM 03 - TOONE (NEON GREEN)
DESCRIPTION:7 & 8 COED NORTH - City of Peoria Sports
LOCATION:Paloma Flag Football Field 2
CATEGORIES:QuickScores; Flag Football - Youth Game
TRANSP:0
DALARM:20260327T153000;PT10M;2;TEAM 04 - LAMA (ROYAL) vs. TEAM 03 - TOONE (NEON GREEN)
END:VEVENT
BEGIN:VEVENT
DTSTART:20260403T173000
DTEND:20260403T183000
SUMMARY:TEAM 01 - JONES (RED) vs. TEAM 04 - LAMA (ROYAL)
DESCRIPTION:7 & 8 COED NORTH - City of Peoria Sports
LOCATION:Paloma Flag Football Field 2
CATEGORIES:QuickScores; Flag Football - Youth Game
TRANSP:0
DALARM:20260403T153000;PT10M;2;TEAM 01 - JONES (RED) vs. TEAM 04 - LAMA (ROYAL)
END:VEVENT
BEGIN:VEVENT
DTSTART:20260403T173000
DTEND:20260403T183000
SUMMARY:TEAM 03 - TOONE (NEON GREEN) vs. TEAM 02 - FREDERICK (GOLD)
DESCRIPTION:7 & 8 COED NORTH - City of Peoria Sports
LOCATION:Paloma Flag Football Field 1
CATEGORIES:QuickScores; Flag Football - Youth Game
TRANSP:0
DALARM:20260403T153000;PT10M;2;TEAM 03 - TOONE (NEON GREEN) vs. TEAM 02 - FREDERICK (GOLD)
END:VEVENT
END:VCALENDAR
