BEGIN:VCALENDAR
VERSION:1.0
BEGIN:VEVENT
DTSTART:20260227T173000
DTEND:20260227T183000
SUMMARY:TEAM 04 - ESTRADA (SILVER) vs. TEAM 03 - SILVA (BLACK)
DESCRIPTION:5 & 6 COED - City of Peoria Sports
LOCATION:Paloma Flag Football Field 2
CATEGORIES:QuickScores; Flag Football - Youth Game
TRANSP:0
DALARM:20260227T153000;PT10M;2;TEAM 04 - ESTRADA (SILVER) vs. TEAM 03 - SILVA (BLACK)
END:VEVENT
BEGIN:VEVENT
DTSTART:20260227T173000
DTEND:20260227T183000
SUMMARY:TEAM 01 - PHILBROOK (RED) vs. TEAM 02 - REISCHL (GOLD)
DESCRIPTION:5 & 6 COED - City of Peoria Sports
LOCATION:Paloma Flag Football Field 1
CATEGORIES:QuickScores; Flag Football - Youth Game
TRANSP:0
DALARM:20260227T153000;PT10M;2;TEAM 01 - PHILBROOK (RED) vs. TEAM 02 - REISCHL (GOLD)
END:VEVENT
BEGIN:VEVENT
DTSTART:20260306T173000
DTEND:20260306T183000
SUMMARY:TEAM 04 - ESTRADA (SILVER) vs. TEAM 01 - PHILBROOK (RED)
DESCRIPTION:5 & 6 COED - City of Peoria Sports
LOCATION:Paloma Flag Football Field 2
CATEGORIES:QuickScores; Flag Football - Youth Game
TRANSP:0
DALARM:20260306T153000;PT10M;2;TEAM 04 - ESTRADA (SILVER) vs. TEAM 01 - PHILBROOK (RED)
END:VEVENT
BEGIN:VEVENT
DTSTART:20260306T173000
DTEND:20260306T183000
SUMMARY:TEAM 02 - REISCHL (GOLD) vs. TEAM 03 - SILVA (BLACK)
DESCRIPTION:5 & 6 COED - City of Peoria Sports
LOCATION:Paloma Flag Football Field 1
CATEGORIES:QuickScores; Flag Football - Youth Game
TRANSP:0
DALARM:20260306T153000;PT10M;2;TEAM 02 - REISCHL (GOLD) vs. TEAM 03 - SILVA (BLACK)
END:VEVENT
BEGIN:VEVENT
DTSTART:20260313T173000
DTEND:20260313T183000
SUMMARY:TEAM 03 - SILVA (BLACK) vs. TEAM 01 - PHILBROOK (RED)
DESCRIPTION:5 & 6 COED - City of Peoria Sports
LOCATION:Paloma Flag Football Field 1
CATEGORIES:QuickScores; Flag Football - Youth Game
TRANSP:0
DALARM:20260313T153000;PT10M;2;TEAM 03 - SILVA (BLACK) vs. TEAM 01 - PHILBROOK (RED)
END:VEVENT
BEGIN:VEVENT
DTSTART:20260313T173000
DTEND:20260313T183000
SUMMARY:TEAM 04 - ESTRADA (SILVER) vs. TEAM 02 - REISCHL (GOLD)
DESCRIPTION:5 & 6 COED - City of Peoria Sports
LOCATION:Paloma Flag Football Field 2
CATEGORIES:QuickScores; Flag Football - Youth Game
TRANSP:0
DALARM:20260313T153000;PT10M;2;TEAM 04 - ESTRADA (SILVER) vs. TEAM 02 - REISCHL (GOLD)
END:VEVENT
BEGIN:VEVENT
DTSTART:20260320T173000
DTEND:20260320T183000
SUMMARY:TEAM 03 - SILVA (BLACK) vs. TEAM 04 - ESTRADA (SILVER)
DESCRIPTION:5 & 6 COED - City of Peoria Sports
LOCATION:Rio Vista Flag Football Field 1
CATEGORIES:QuickScores; Flag Football - Youth Game
TRANSP:0
DALARM:20260320T153000;PT10M;2;TEAM 03 - SILVA (BLACK) vs. TEAM 04 - ESTRADA (SILVER)
END:VEVENT
BEGIN:VEVENT
DTSTART:20260320T173000
DTEND:20260320T183000
SUMMARY:TEAM 02 - REISCHL (GOLD) vs. TEAM 01 - PHILBROOK (RED)
DESCRIPTION:5 & 6 COED - City of Peoria Sports
LOCATION:Rio Vista Flag Football Field 2
CATEGORIES:QuickScores; Flag Football - Youth Game
TRANSP:0
DALARM:20260320T153000;PT10M;2;TEAM 02 - REISCHL (GOLD) vs. TEAM 01 - PHILBROOK (RED)
END:VEVENT
BEGIN:VEVENT
DTSTART:20260327T173000
DTEND:20260327T183000
SUMMARY:TEAM 01 - PHILBROOK (RED) vs. TEAM 04 - ESTRADA (SILVER)
DESCRIPTION:5 & 6 COED - City of Peoria Sports
LOCATION:Rio Vista Flag Football Field 1
CATEGORIES:QuickScores; Flag Football - Youth Game
TRANSP:0
DALARM:20260327T153000;PT10M;2;TEAM 01 - PHILBROOK (RED) vs. TEAM 04 - ESTRADA (SILVER)
END:VEVENT
BEGIN:VEVENT
DTSTART:20260327T173000
DTEND:20260327T183000
SUMMARY:TEAM 03 - SILVA (BLACK) vs. TEAM 02 - REISCHL (GOLD)
DESCRIPTION:5 & 6 COED - City of Peoria Sports
LOCATION:Rio Vista Flag Football Field 2
CATEGORIES:QuickScores; Flag Football - Youth Game
TRANSP:0
DALARM:20260327T153000;PT10M;2;TEAM 03 - SILVA (BLACK) vs. TEAM 02 - REISCHL (GOLD)
END:VEVENT
BEGIN:VEVENT
DTSTART:20260403T173000
DTEND:20260403T183000
SUMMARY:TEAM 01 - PHILBROOK (RED) vs. TEAM 03 - SILVA (BLACK)
DESCRIPTION:5 & 6 COED - City of Peoria Sports
LOCATION:Rio Vista Flag Football Field 2
CATEGORIES:QuickScores; Flag Football - Youth Game
TRANSP:0
DALARM:20260403T153000;PT10M;2;TEAM 01 - PHILBROOK (RED) vs. TEAM 03 - SILVA (BLACK)
END:VEVENT
BEGIN:VEVENT
DTSTART:20260403T173000
DTEND:20260403T183000
SUMMARY:TEAM 02 - REISCHL (GOLD) vs. TEAM 04 - ESTRADA (SILVER)
DESCRIPTION:5 & 6 COED - City of Peoria Sports
LOCATION:Rio Vista Flag Football Field 1
CATEGORIES:QuickScores; Flag Football - Youth Game
TRANSP:0
DALARM:20260403T153000;PT10M;2;TEAM 02 - REISCHL (GOLD) vs. TEAM 04 - ESTRADA (SILVER)
END:VEVENT
END:VCALENDAR
