BEGIN:VCALENDAR
VERSION:1.0
BEGIN:VEVENT
DTSTART:20260127T093000
DTEND:20260127T110000
SUMMARY:Handeland Flooring vs. Ancient Mariners 75
DESCRIPTION:Men 75 AAA - International Senior Softball Association<br>ISSA
LOCATION:GSC 1
CATEGORIES:QuickScores; Softball Game
TRANSP:0
DALARM:20260127T073000;PT10M;2;Handeland Flooring vs. Ancient Mariners 75
END:VEVENT
BEGIN:VEVENT
DTSTART:20260127T093000
DTEND:20260127T110000
SUMMARY:Mid State Seniors 75s vs. CC Medical Services
DESCRIPTION:Men 75 AAA - International Senior Softball Association<br>ISSA
LOCATION:GSC 2
CATEGORIES:QuickScores; Softball Game
TRANSP:0
DALARM:20260127T073000;PT10M;2;Mid State Seniors 75s vs. CC Medical Services
END:VEVENT
BEGIN:VEVENT
DTSTART:20260127T110000
DTEND:20260127T123000
SUMMARY:Dayton Legends vs. Handeland Flooring
DESCRIPTION:Men 75 AAA - International Senior Softball Association<br>ISSA
LOCATION:GSC 1
CATEGORIES:QuickScores; Softball Game
TRANSP:0
DALARM:20260127T090000;PT10M;2;Dayton Legends vs. Handeland Flooring
END:VEVENT
BEGIN:VEVENT
DTSTART:20260127T110000
DTEND:20260127T123000
SUMMARY:CC Medical Services vs. Spring Ford AA
DESCRIPTION:Men 75 AAA - International Senior Softball Association<br>ISSA
LOCATION:GSC 2
CATEGORIES:QuickScores; Softball Game
TRANSP:0
DALARM:20260127T090000;PT10M;2;CC Medical Services vs. Spring Ford AA
END:VEVENT
BEGIN:VEVENT
DTSTART:20260127T123000
DTEND:20260127T140000
SUMMARY:Spring Ford AA vs. Mid State Seniors 75s
DESCRIPTION:Men 75 AAA - International Senior Softball Association<br>ISSA
LOCATION:GSC 2
CATEGORIES:QuickScores; Softball Game
TRANSP:0
DALARM:20260127T103000;PT10M;2;Spring Ford AA vs. Mid State Seniors 75s
END:VEVENT
BEGIN:VEVENT
DTSTART:20260127T140000
DTEND:20260127T153000
SUMMARY:Ancient Mariners 75 vs. Dayton Legends
DESCRIPTION:Men 75 AAA - International Senior Softball Association<br>ISSA
LOCATION:GSC 2
CATEGORIES:QuickScores; Softball Game
TRANSP:0
DALARM:20260127T120000;PT10M;2;Ancient Mariners 75 vs. Dayton Legends
END:VEVENT
BEGIN:VEVENT
DTSTART:20260128T100000
DTEND:20260128T113000
SUMMARY:[B2] Spring Ford AA vs. [A3] Ancient Mariners 75
DESCRIPTION:Men 75 AAA - International Senior Softball Association<br>ISSA
LOCATION:GSC 2
CATEGORIES:QuickScores; Softball Game
TRANSP:0
DALARM:20260128T080000;PT10M;2;[B2] Spring Ford AA vs. [A3] Ancient Mariners 75
END:VEVENT
BEGIN:VEVENT
DTSTART:20260128T100000
DTEND:20260128T113000
SUMMARY:[A2] Dayton Legends vs. [B3] CC Medical Services
DESCRIPTION:Men 75 AAA - International Senior Softball Association<br>ISSA
LOCATION:GSC 3
CATEGORIES:QuickScores; Softball Game
TRANSP:0
DALARM:20260128T080000;PT10M;2;[A2] Dayton Legends vs. [B3] CC Medical Services
END:VEVENT
BEGIN:VEVENT
DTSTART:20260128T113000
DTEND:20260128T130000
SUMMARY:[B1] Mid State Seniors 75s vs. [A2] Dayton Legends
DESCRIPTION:Men 75 AAA - International Senior Softball Association<br>ISSA
LOCATION:GSC 3
CATEGORIES:QuickScores; Softball Game
TRANSP:0
DALARM:20260128T093000;PT10M;2;[B1] Mid State Seniors 75s vs. [A2] Dayton Legends
END:VEVENT
BEGIN:VEVENT
DTSTART:20260128T113000
DTEND:20260128T130000
SUMMARY:[A1] Handeland Flooring vs. [B2] Spring Ford AA
DESCRIPTION:Men 75 AAA - International Senior Softball Association<br>ISSA
LOCATION:GSC 2
CATEGORIES:QuickScores; Softball Game
TRANSP:0
DALARM:20260128T093000;PT10M;2;[A1] Handeland Flooring vs. [B2] Spring Ford AA
END:VEVENT
BEGIN:VEVENT
DTSTART:20260128T143000
DTEND:20260128T160000
SUMMARY:[B1] Mid State Seniors 75s vs. [A3] Ancient Mariners 75
DESCRIPTION:Men 75 AAA - International Senior Softball Association<br>ISSA
LOCATION:GSC 3
CATEGORIES:QuickScores; Softball Game
TRANSP:0
DALARM:20260128T123000;PT10M;2;[B1] Mid State Seniors 75s vs. [A3] Ancient Mariners 75
END:VEVENT
BEGIN:VEVENT
DTSTART:20260128T143000
DTEND:20260128T160000
SUMMARY:[B2] Spring Ford AA vs. [B3] CC Medical Services
DESCRIPTION:Men 75 AAA - International Senior Softball Association<br>ISSA
LOCATION:GSC 1
CATEGORIES:QuickScores; Softball Game
TRANSP:0
DALARM:20260128T123000;PT10M;2;[B2] Spring Ford AA vs. [B3] CC Medical Services
END:VEVENT
BEGIN:VEVENT
DTSTART:20260128T160000
DTEND:20260128T173000
SUMMARY:[A1] Handeland Flooring vs. [A2] Dayton Legends
DESCRIPTION:Men 75 AAA - International Senior Softball Association<br>ISSA
LOCATION:GSC 3
CATEGORIES:QuickScores; Softball Game
TRANSP:0
DALARM:20260128T140000;PT10M;2;[A1] Handeland Flooring vs. [A2] Dayton Legends
END:VEVENT
BEGIN:VEVENT
DTSTART:20260129T083000
DTEND:20260129T100000
SUMMARY:[B1] Mid State Seniors 75s vs. [B3] CC Medical Services
DESCRIPTION:Men 75 AAA - International Senior Softball Association<br>ISSA
LOCATION:GSC 1
CATEGORIES:QuickScores; Softball Game
TRANSP:0
DALARM:20260129T063000;PT10M;2;[B1] Mid State Seniors 75s vs. [B3] CC Medical Services
END:VEVENT
BEGIN:VEVENT
DTSTART:20260129T100000
DTEND:20260129T113000
SUMMARY:[A2] Dayton Legends vs. [B1] Mid State Seniors 75s
DESCRIPTION:Men 75 AAA - International Senior Softball Association<br>ISSA
LOCATION:GSC 1
CATEGORIES:QuickScores; Softball Game
TRANSP:0
DALARM:20260129T080000;PT10M;2;[A2] Dayton Legends vs. [B1] Mid State Seniors 75s
END:VEVENT
BEGIN:VEVENT
DTSTART:20260129T113000
DTEND:20260129T130000
SUMMARY:[A1] Handeland Flooring vs. [A2] Dayton Legends
DESCRIPTION:Men 75 AAA - International Senior Softball Association<br>ISSA
LOCATION:GSC 1
CATEGORIES:QuickScores; Softball Game
TRANSP:0
DALARM:20260129T093000;PT10M;2;[A1] Handeland Flooring vs. [A2] Dayton Legends
END:VEVENT
END:VCALENDAR
