BEGIN:VCALENDAR
VERSION:1.0
BEGIN:VEVENT
DTSTART:20260110T100000
DTEND:20260110T103000
SUMMARY:Practice: Falcons vs. Blue Jays
DESCRIPTION:Practice --- 1st Grade Boys - Little Jammers - Northbrook Park District
LOCATION:Greenbriar Gym- West Court
CATEGORIES:QuickScores; Basketball - Youth Game
TRANSP:0
DALARM:20260110T080000;PT10M;2;Practice: Falcons vs. Blue Jays
END:VEVENT
BEGIN:VEVENT
DTSTART:20260110T103000
DTEND:20260110T110000
SUMMARY:Practice: Eagles vs. Ravens
DESCRIPTION:Practice --- 1st Grade Boys - Little Jammers - Northbrook Park District
LOCATION:Greenbriar Gym- West Court
CATEGORIES:QuickScores; Basketball - Youth Game
TRANSP:0
DALARM:20260110T083000;PT10M;2;Practice: Eagles vs. Ravens
END:VEVENT
BEGIN:VEVENT
DTSTART:20260110T110000
DTEND:20260110T113000
SUMMARY:Practice: Cardinals vs. Seahawks
DESCRIPTION:Practice --- 1st Grade Boys - Little Jammers - Northbrook Park District
LOCATION:Greenbriar Gym- West Court
CATEGORIES:QuickScores; Basketball - Youth Game
TRANSP:0
DALARM:20260110T090000;PT10M;2;Practice: Cardinals vs. Seahawks
END:VEVENT
BEGIN:VEVENT
DTSTART:20260117T090000
DTEND:20260117T100000
SUMMARY:Falcons vs. Seahawks
DESCRIPTION:1st Grade Boys - Little Jammers - Northbrook Park District
LOCATION:Greenbriar Gym- West Court
CATEGORIES:QuickScores; Basketball - Youth Game
TRANSP:0
DALARM:20260117T070000;PT10M;2;Falcons vs. Seahawks
END:VEVENT
BEGIN:VEVENT
DTSTART:20260117T101500
DTEND:20260117T111500
SUMMARY:Blue Jays vs. Ravens
DESCRIPTION:1st Grade Boys - Little Jammers - Northbrook Park District
LOCATION:Greenbriar Gym- West Court
CATEGORIES:QuickScores; Basketball - Youth Game
TRANSP:0
DALARM:20260117T081500;PT10M;2;Blue Jays vs. Ravens
END:VEVENT
BEGIN:VEVENT
DTSTART:20260117T113000
DTEND:20260117T123000
SUMMARY:Cardinals vs. Eagles
DESCRIPTION:1st Grade Boys - Little Jammers - Northbrook Park District
LOCATION:Greenbriar Gym- West Court
CATEGORIES:QuickScores; Basketball - Youth Game
TRANSP:0
DALARM:20260117T093000;PT10M;2;Cardinals vs. Eagles
END:VEVENT
BEGIN:VEVENT
DTSTART:20260124T090000
DTEND:20260124T100000
SUMMARY:Seahawks vs. Blue Jays
DESCRIPTION:1st Grade Boys - Little Jammers - Northbrook Park District
LOCATION:Greenbriar Gym- West Court
CATEGORIES:QuickScores; Basketball - Youth Game
TRANSP:0
DALARM:20260124T070000;PT10M;2;Seahawks vs. Blue Jays
END:VEVENT
BEGIN:VEVENT
DTSTART:20260124T101500
DTEND:20260124T111500
SUMMARY:Eagles vs. Falcons
DESCRIPTION:1st Grade Boys - Little Jammers - Northbrook Park District
LOCATION:Greenbriar Gym- West Court
CATEGORIES:QuickScores; Basketball - Youth Game
TRANSP:0
DALARM:20260124T081500;PT10M;2;Eagles vs. Falcons
END:VEVENT
BEGIN:VEVENT
DTSTART:20260124T113000
DTEND:20260124T123000
SUMMARY:Cardinals vs. Ravens
DESCRIPTION:1st Grade Boys - Little Jammers - Northbrook Park District
LOCATION:Greenbriar Gym- West Court
CATEGORIES:QuickScores; Basketball - Youth Game
TRANSP:0
DALARM:20260124T093000;PT10M;2;Cardinals vs. Ravens
END:VEVENT
BEGIN:VEVENT
DTSTART:20260131T090000
DTEND:20260131T100000
SUMMARY:Blue Jays vs. Eagles
DESCRIPTION:Picture Day --- 1st Grade Boys - Little Jammers - Northbrook Park District
LOCATION:Greenbriar Gym- West Court
CATEGORIES:QuickScores; Basketball - Youth Game
TRANSP:0
DALARM:20260131T070000;PT10M;2;Blue Jays vs. Eagles
END:VEVENT
BEGIN:VEVENT
DTSTART:20260131T101500
DTEND:20260131T111500
SUMMARY:Falcons vs. Cardinals
DESCRIPTION:Picture Day --- 1st Grade Boys - Little Jammers - Northbrook Park District
LOCATION:Greenbriar Gym- West Court
CATEGORIES:QuickScores; Basketball - Youth Game
TRANSP:0
DALARM:20260131T081500;PT10M;2;Falcons vs. Cardinals
END:VEVENT
BEGIN:VEVENT
DTSTART:20260131T113000
DTEND:20260131T123000
SUMMARY:Seahawks vs. Ravens
DESCRIPTION:Picture Day --- 1st Grade Boys - Little Jammers - Northbrook Park District
LOCATION:Greenbriar Gym- West Court
CATEGORIES:QuickScores; Basketball - Youth Game
TRANSP:0
DALARM:20260131T093000;PT10M;2;Seahawks vs. Ravens
END:VEVENT
BEGIN:VEVENT
DTSTART:20260207T090000
DTEND:20260207T100000
SUMMARY:Eagles vs. Seahawks
DESCRIPTION:1st Grade Boys - Little Jammers - Northbrook Park District
LOCATION:Greenbriar Gym- West Court
CATEGORIES:QuickScores; Basketball - Youth Game
TRANSP:0
DALARM:20260207T070000;PT10M;2;Eagles vs. Seahawks
END:VEVENT
BEGIN:VEVENT
DTSTART:20260207T101500
DTEND:20260207T111500
SUMMARY:Cardinals vs. Blue Jays
DESCRIPTION:1st Grade Boys - Little Jammers - Northbrook Park District
LOCATION:Greenbriar Gym- West Court
CATEGORIES:QuickScores; Basketball - Youth Game
TRANSP:0
DALARM:20260207T081500;PT10M;2;Cardinals vs. Blue Jays
END:VEVENT
BEGIN:VEVENT
DTSTART:20260207T113000
DTEND:20260207T123000
SUMMARY:Ravens vs. Falcons
DESCRIPTION:1st Grade Boys - Little Jammers - Northbrook Park District
LOCATION:Greenbriar Gym- West Court
CATEGORIES:QuickScores; Basketball - Youth Game
TRANSP:0
DALARM:20260207T093000;PT10M;2;Ravens vs. Falcons
END:VEVENT
BEGIN:VEVENT
DTSTART:20260214T090000
DTEND:20260214T100000
SUMMARY:Seahawks vs. Cardinals
DESCRIPTION:1st Grade Boys - Little Jammers - Northbrook Park District
LOCATION:Greenbriar Gym- West Court
CATEGORIES:QuickScores; Basketball - Youth Game
TRANSP:0
DALARM:20260214T070000;PT10M;2;Seahawks vs. Cardinals
END:VEVENT
BEGIN:VEVENT
DTSTART:20260214T101500
DTEND:20260214T111500
SUMMARY:Ravens vs. Eagles
DESCRIPTION:1st Grade Boys - Little Jammers - Northbrook Park District
LOCATION:Greenbriar Gym- West Court
CATEGORIES:QuickScores; Basketball - Youth Game
TRANSP:0
DALARM:20260214T081500;PT10M;2;Ravens vs. Eagles
END:VEVENT
BEGIN:VEVENT
DTSTART:20260214T113000
DTEND:20260214T123000
SUMMARY:Blue Jays vs. Falcons
DESCRIPTION:1st Grade Boys - Little Jammers - Northbrook Park District
LOCATION:Greenbriar Gym- West Court
CATEGORIES:QuickScores; Basketball - Youth Game
TRANSP:0
DALARM:20260214T093000;PT10M;2;Blue Jays vs. Falcons
END:VEVENT
BEGIN:VEVENT
DTSTART:20260221T090000
DTEND:20260221T100000
SUMMARY:Eagles vs. Cardinals
DESCRIPTION:1st Grade Boys - Little Jammers - Northbrook Park District
LOCATION:Greenbriar Gym- West Court
CATEGORIES:QuickScores; Basketball - Youth Game
TRANSP:0
DALARM:20260221T070000;PT10M;2;Eagles vs. Cardinals
END:VEVENT
BEGIN:VEVENT
DTSTART:20260221T101500
DTEND:20260221T111500
SUMMARY:Seahawks vs. Falcons
DESCRIPTION:1st Grade Boys - Little Jammers - Northbrook Park District
LOCATION:Greenbriar Gym- West Court
CATEGORIES:QuickScores; Basketball - Youth Game
TRANSP:0
DALARM:20260221T081500;PT10M;2;Seahawks vs. Falcons
END:VEVENT
BEGIN:VEVENT
DTSTART:20260221T113000
DTEND:20260221T123000
SUMMARY:Ravens vs. Blue Jays
DESCRIPTION:1st Grade Boys - Little Jammers - Northbrook Park District
LOCATION:Greenbriar Gym- West Court
CATEGORIES:QuickScores; Basketball - Youth Game
TRANSP:0
DALARM:20260221T093000;PT10M;2;Ravens vs. Blue Jays
END:VEVENT
BEGIN:VEVENT
DTSTART:20260228T090000
DTEND:20260228T100000
SUMMARY:Ravens vs. Cardinals
DESCRIPTION:1st Grade Boys - Little Jammers - Northbrook Park District
LOCATION:Greenbriar Gym- West Court
CATEGORIES:QuickScores; Basketball - Youth Game
TRANSP:0
DALARM:20260228T070000;PT10M;2;Ravens vs. Cardinals
END:VEVENT
BEGIN:VEVENT
DTSTART:20260228T101500
DTEND:20260228T111500
SUMMARY:Blue Jays vs. Seahawks
DESCRIPTION:1st Grade Boys - Little Jammers - Northbrook Park District
LOCATION:Greenbriar Gym- West Court
CATEGORIES:QuickScores; Basketball - Youth Game
TRANSP:0
DALARM:20260228T081500;PT10M;2;Blue Jays vs. Seahawks
END:VEVENT
BEGIN:VEVENT
DTSTART:20260228T113000
DTEND:20260228T123000
SUMMARY:Falcons vs. Eagles
DESCRIPTION:1st Grade Boys - Little Jammers - Northbrook Park District
LOCATION:Greenbriar Gym- West Court
CATEGORIES:QuickScores; Basketball - Youth Game
TRANSP:0
DALARM:20260228T093000;PT10M;2;Falcons vs. Eagles
END:VEVENT
END:VCALENDAR
