BEGIN:VCALENDAR
VERSION:1.0
BEGIN:VEVENT
DTSTART:20260110T100000
DTEND:20260110T110000
SUMMARY:Bloomingdale 1 (Ashfaq) vs. Bloomingdale 3 (Vallas)
DESCRIPTION:3rd/4th Grade Boys - Giannis Division - Intervillage Leagues
LOCATION:Bloomingdale - Johnston Recreation Center
CATEGORIES:QuickScores; Basketball - Youth Game
TRANSP:0
DALARM:20260110T080000;PT10M;2;Bloomingdale 1 (Ashfaq) vs. Bloomingdale 3 (Vallas)
END:VEVENT
BEGIN:VEVENT
DTSTART:20260110T110000
DTEND:20260110T120000
SUMMARY:Bloomingdale 2 (Manning) vs. Roselle 3 (Szymanek)
DESCRIPTION:3rd/4th Grade Boys - Giannis Division - Intervillage Leagues
LOCATION:Bloomingdale - Johnston Recreation Center
CATEGORIES:QuickScores; Basketball - Youth Game
TRANSP:0
DALARM:20260110T090000;PT10M;2;Bloomingdale 2 (Manning) vs. Roselle 3 (Szymanek)
END:VEVENT
BEGIN:VEVENT
DTSTART:20260110T180000
DTEND:20260110T190000
SUMMARY:Roselle 4 (Callan) vs. Bville Hawks
DESCRIPTION:3rd/4th Grade Boys - Giannis Division - Intervillage Leagues
LOCATION:Clauss Recreation Center - Court 1
CATEGORIES:QuickScores; Basketball - Youth Game
TRANSP:0
DALARM:20260110T160000;PT10M;2;Roselle 4 (Callan) vs. Bville Hawks
END:VEVENT
BEGIN:VEVENT
DTSTART:20260117T090000
DTEND:20260117T100000
SUMMARY:Bloomingdale 3 (Vallas) vs. Roselle 3 (Szymanek)
DESCRIPTION:3rd/4th Grade Boys - Giannis Division - Intervillage Leagues
LOCATION:Bloomingdale - Johnston Recreation Center
CATEGORIES:QuickScores; Basketball - Youth Game
TRANSP:0
DALARM:20260117T070000;PT10M;2;Bloomingdale 3 (Vallas) vs. Roselle 3 (Szymanek)
END:VEVENT
BEGIN:VEVENT
DTSTART:20260117T120000
DTEND:20260117T130000
SUMMARY:Bloomingdale 1 (Ashfaq) vs. Bville Hawks
DESCRIPTION:Game time changed from 11:00 on 1/16. --- 3rd/4th Grade Boys - Giannis Division - Intervillage Leagues
LOCATION:Bloomingdale - Johnston Recreation Center
CATEGORIES:QuickScores; Basketball - Youth Game
TRANSP:0
DALARM:20260117T100000;PT10M;2;Bloomingdale 1 (Ashfaq) vs. Bville Hawks
END:VEVENT
BEGIN:VEVENT
DTSTART:20260124T100000
DTEND:20260124T110000
SUMMARY:Bloomingdale 2 (Manning) vs. Bloomingdale 1 (Ashfaq)
DESCRIPTION:3rd/4th Grade Boys - Giannis Division - Intervillage Leagues
LOCATION:Bloomingdale - Johnston Recreation Center
CATEGORIES:QuickScores; Basketball - Youth Game
TRANSP:0
DALARM:20260124T080000;PT10M;2;Bloomingdale 2 (Manning) vs. Bloomingdale 1 (Ashfaq)
END:VEVENT
BEGIN:VEVENT
DTSTART:20260124T153000
DTEND:20260124T163000
SUMMARY:Roselle 4 (Callan) vs. Bloomingdale 3 (Vallas)
DESCRIPTION:3rd/4th Grade Boys - Giannis Division - Intervillage Leagues
LOCATION:Clauss Recreation Center - Court 1
CATEGORIES:QuickScores; Basketball - Youth Game
TRANSP:0
DALARM:20260124T133000;PT10M;2;Roselle 4 (Callan) vs. Bloomingdale 3 (Vallas)
END:VEVENT
BEGIN:VEVENT
DTSTART:20260130T180000
DTEND:20260130T190000
SUMMARY:AYS 1 Rosenberg vs. Bville Hawks
DESCRIPTION:6 PM Addison Trail HS Fieldhouse Court 3 --- 3rd/4th Grade Boys - Giannis Division - Intervillage Leagues
LOCATION:Addison Trail High School - Fieldhouse
CATEGORIES:QuickScores; Basketball - Youth Game
TRANSP:0
DALARM:20260130T160000;PT10M;2;AYS 1 Rosenberg vs. Bville Hawks
END:VEVENT
BEGIN:VEVENT
DTSTART:20260131T100000
DTEND:20260131T110000
SUMMARY:Bloomingdale 1 (Ashfaq) vs. Roselle 4 (Callan)
DESCRIPTION:3rd/4th Grade Boys - Giannis Division - Intervillage Leagues
LOCATION:Bloomingdale - Johnston Recreation Center
CATEGORIES:QuickScores; Basketball - Youth Game
TRANSP:0
DALARM:20260131T080000;PT10M;2;Bloomingdale 1 (Ashfaq) vs. Roselle 4 (Callan)
END:VEVENT
BEGIN:VEVENT
DTSTART:20260131T110000
DTEND:20260131T120000
SUMMARY:Bloomingdale 2 (Manning) vs. Bville Bulls (Leon)
DESCRIPTION:3rd/4th Grade Boys - Giannis Division - Intervillage Leagues
LOCATION:Bloomingdale - Johnston Recreation Center
CATEGORIES:QuickScores; Basketball - Youth Game
TRANSP:0
DALARM:20260131T090000;PT10M;2;Bloomingdale 2 (Manning) vs. Bville Bulls (Leon)
END:VEVENT
BEGIN:VEVENT
DTSTART:20260131T120000
DTEND:20260131T130000
SUMMARY:Bloomingdale 3 (Vallas) vs. Schaumburg
DESCRIPTION:3rd/4th Grade Boys - Giannis Division - Intervillage Leagues
LOCATION:Bloomingdale - Johnston Recreation Center
CATEGORIES:QuickScores; Basketball - Youth Game
TRANSP:0
DALARM:20260131T100000;PT10M;2;Bloomingdale 3 (Vallas) vs. Schaumburg
END:VEVENT
BEGIN:VEVENT
DTSTART:20260131T180000
DTEND:20260131T190000
SUMMARY:Roselle 3 (Szymanek) vs. Bville Hawks
DESCRIPTION:3rd/4th Grade Boys - Giannis Division - Intervillage Leagues
LOCATION:Clauss Recreation Center - Court 1
CATEGORIES:QuickScores; Basketball - Youth Game
TRANSP:0
DALARM:20260131T160000;PT10M;2;Roselle 3 (Szymanek) vs. Bville Hawks
END:VEVENT
BEGIN:VEVENT
DTSTART:20260201T114500
DTEND:20260201T124500
SUMMARY:Roselle 4 (Callan) vs. WIBA 1 (Hosnedl)
DESCRIPTION:3rd/4th Grade Boys - Giannis Division - Intervillage Leagues
LOCATION:Clauss Recreation Center - Court 1
CATEGORIES:QuickScores; Basketball - Youth Game
TRANSP:0
DALARM:20260201T094500;PT10M;2;Roselle 4 (Callan) vs. WIBA 1 (Hosnedl)
END:VEVENT
BEGIN:VEVENT
DTSTART:20260207T090000
DTEND:20260207T100000
SUMMARY:Roselle 1 (Slowik) vs. Bloomingdale 1 (Ashfaq)
DESCRIPTION:3rd/4th Grade Boys - Giannis Division - Intervillage Leagues
LOCATION:Clauss Recreation Center - Court 1
CATEGORIES:QuickScores; Basketball - Youth Game
TRANSP:0
DALARM:20260207T070000;PT10M;2;Roselle 1 (Slowik) vs. Bloomingdale 1 (Ashfaq)
END:VEVENT
BEGIN:VEVENT
DTSTART:20260207T090000
DTEND:20260207T100000
SUMMARY:Streamwood (Morales) vs. Roselle 4 (Callan)
DESCRIPTION:3rd/4th Grade Boys - Giannis Division - Intervillage Leagues
LOCATION:Park Place Recreation Center
CATEGORIES:QuickScores; Basketball - Youth Game
TRANSP:0
DALARM:20260207T070000;PT10M;2;Streamwood (Morales) vs. Roselle 4 (Callan)
END:VEVENT
BEGIN:VEVENT
DTSTART:20260207T093000
DTEND:20260207T103000
SUMMARY:WIBA 1 (Hosnedl) vs. Bloomingdale 2 (Manning)
DESCRIPTION:3rd/4th Grade Boys - Giannis Division - Intervillage Leagues
LOCATION:Itasca Park District
CATEGORIES:QuickScores; Basketball - Youth Game
TRANSP:0
DALARM:20260207T073000;PT10M;2;WIBA 1 (Hosnedl) vs. Bloomingdale 2 (Manning)
END:VEVENT
BEGIN:VEVENT
DTSTART:20260207T141500
DTEND:20260207T151500
SUMMARY:Schaumburg vs. AYS 1 Rosenberg
DESCRIPTION:3rd/4th Grade Boys - Giannis Division - Intervillage Leagues
LOCATION:Schaumburg - Keller Jr. High
CATEGORIES:QuickScores; Basketball - Youth Game
TRANSP:0
DALARM:20260207T121500;PT10M;2;Schaumburg vs. AYS 1 Rosenberg
END:VEVENT
BEGIN:VEVENT
DTSTART:20260207T160000
DTEND:20260207T170000
SUMMARY:Bville Bulls (Leon) vs. Bloomingdale 3 (Vallas)
DESCRIPTION:3rd/4th Grade Boys - Giannis Division - Intervillage Leagues
LOCATION:Bensenville Park District
CATEGORIES:QuickScores; Basketball - Youth Game
TRANSP:0
DALARM:20260207T140000;PT10M;2;Bville Bulls (Leon) vs. Bloomingdale 3 (Vallas)
END:VEVENT
BEGIN:VEVENT
DTSTART:20260207T170000
DTEND:20260207T180000
SUMMARY:Bville 2 (Baker) vs. Roselle 3 (Szymanek)
DESCRIPTION:3rd/4th Grade Boys - Giannis Division - Intervillage Leagues
LOCATION:Bensenville Park District
CATEGORIES:QuickScores; Basketball - Youth Game
TRANSP:0
DALARM:20260207T150000;PT10M;2;Bville 2 (Baker) vs. Roselle 3 (Szymanek)
END:VEVENT
BEGIN:VEVENT
DTSTART:20260207T180000
DTEND:20260207T190000
SUMMARY:Bville Hawks vs. Roselle 2 (Murray)
DESCRIPTION:3rd/4th Grade Boys - Giannis Division - Intervillage Leagues
LOCATION:Bensenville Park District
CATEGORIES:QuickScores; Basketball - Youth Game
TRANSP:0
DALARM:20260207T160000;PT10M;2;Bville Hawks vs. Roselle 2 (Murray)
END:VEVENT
BEGIN:VEVENT
DTSTART:20260214T080000
DTEND:20260214T090000
SUMMARY:Bloomingdale 2 (Manning) vs. Schaumburg
DESCRIPTION:Re-scheduled from 1/17 on 2/4 --- 3rd/4th Grade Boys - Giannis Division - Intervillage Leagues
LOCATION:Bloomingdale - Johnston Recreation Center
CATEGORIES:QuickScores; Basketball - Youth Game
TRANSP:0
DALARM:20260214T060000;PT10M;2;Bloomingdale 2 (Manning) vs. Schaumburg
END:VEVENT
BEGIN:VEVENT
DTSTART:20260214T100000
DTEND:20260214T110000
SUMMARY:Bloomingdale 1 (Ashfaq) vs. Streamwood (Morales)
DESCRIPTION:3rd/4th Grade Boys - Giannis Division - Intervillage Leagues
LOCATION:Bloomingdale - Johnston Recreation Center
CATEGORIES:QuickScores; Basketball - Youth Game
TRANSP:0
DALARM:20260214T080000;PT10M;2;Bloomingdale 1 (Ashfaq) vs. Streamwood (Morales)
END:VEVENT
BEGIN:VEVENT
DTSTART:20260214T101500
DTEND:20260214T111500
SUMMARY:Roselle 3 (Szymanek) vs. Roselle 4 (Callan)
DESCRIPTION:3rd/4th Grade Boys - Giannis Division - Intervillage Leagues
LOCATION:Clauss Recreation Center - Court 1
CATEGORIES:QuickScores; Basketball - Youth Game
TRANSP:0
DALARM:20260214T081500;PT10M;2;Roselle 3 (Szymanek) vs. Roselle 4 (Callan)
END:VEVENT
BEGIN:VEVENT
DTSTART:20260214T110000
DTEND:20260214T120000
SUMMARY:Bloomingdale 3 (Vallas) vs. Bloomingdale 2 (Manning)
DESCRIPTION:3rd/4th Grade Boys - Giannis Division - Intervillage Leagues
LOCATION:Bloomingdale - Johnston Recreation Center
CATEGORIES:QuickScores; Basketball - Youth Game
TRANSP:0
DALARM:20260214T090000;PT10M;2;Bloomingdale 3 (Vallas) vs. Bloomingdale 2 (Manning)
END:VEVENT
BEGIN:VEVENT
DTSTART:20260214T140000
DTEND:20260214T150000
SUMMARY:Bville Hawks vs. Schaumburg
DESCRIPTION:3rd/4th Grade Boys - Giannis Division - Intervillage Leagues
LOCATION:Bensenville Park District
CATEGORIES:QuickScores; Basketball - Youth Game
TRANSP:0
DALARM:20260214T120000;PT10M;2;Bville Hawks vs. Schaumburg
END:VEVENT
BEGIN:VEVENT
DTSTART:20260221T090000
DTEND:20260221T100000
SUMMARY:Bloomingdale 3 (Vallas) vs. Bville 2 (Baker)
DESCRIPTION:3rd/4th Grade Boys - Giannis Division - Intervillage Leagues
LOCATION:Bloomingdale - Johnston Recreation Center
CATEGORIES:QuickScores; Basketball - Youth Game
TRANSP:0
DALARM:20260221T070000;PT10M;2;Bloomingdale 3 (Vallas) vs. Bville 2 (Baker)
END:VEVENT
BEGIN:VEVENT
DTSTART:20260221T091500
DTEND:20260221T101500
SUMMARY:Schaumburg vs. Roselle 4 (Callan)
DESCRIPTION:3rd/4th Grade Boys - Giannis Division - Intervillage Leagues
LOCATION:Schaumburg - Keller Jr. High
CATEGORIES:QuickScores; Basketball - Youth Game
TRANSP:0
DALARM:20260221T071500;PT10M;2;Schaumburg vs. Roselle 4 (Callan)
END:VEVENT
BEGIN:VEVENT
DTSTART:20260221T170000
DTEND:20260221T180000
SUMMARY:Bville Hawks vs. Bloomingdale 2 (Manning)
DESCRIPTION:3rd/4th Grade Boys - Giannis Division - Intervillage Leagues
LOCATION:Bensenville Park District
CATEGORIES:QuickScores; Basketball - Youth Game
TRANSP:0
DALARM:20260221T150000;PT10M;2;Bville Hawks vs. Bloomingdale 2 (Manning)
END:VEVENT
BEGIN:VEVENT
DTSTART:20260221T180000
DTEND:20260221T190000
SUMMARY:Roselle 3 (Szymanek) vs. Bloomingdale 1 (Ashfaq)
DESCRIPTION:3rd/4th Grade Boys - Giannis Division - Intervillage Leagues
LOCATION:Clauss Recreation Center - Court 1
CATEGORIES:QuickScores; Basketball - Youth Game
TRANSP:0
DALARM:20260221T160000;PT10M;2;Roselle 3 (Szymanek) vs. Bloomingdale 1 (Ashfaq)
END:VEVENT
BEGIN:VEVENT
DTSTART:20260226T183000
DTEND:20260226T193000
SUMMARY:Roselle 2 (Murray) vs. Schaumburg
DESCRIPTION:Rescheduled from 1/10 --- 3rd/4th Grade Boys - Giannis Division - Intervillage Leagues
LOCATION:Clauss Recreation Center - Court 1
CATEGORIES:QuickScores; Basketball - Youth Game
TRANSP:0
DALARM:20260226T163000;PT10M;2;Roselle 2 (Murray) vs. Schaumburg
END:VEVENT
BEGIN:VEVENT
DTSTART:20260228T091500
DTEND:20260228T101500
SUMMARY:Schaumburg vs. Roselle 3 (Szymanek)
DESCRIPTION:Rescheduled --- 3rd/4th Grade Boys - Giannis Division - Intervillage Leagues
LOCATION:Schaumburg - Keller Jr. High
CATEGORIES:QuickScores; Basketball - Youth Game
TRANSP:0
DALARM:20260228T071500;PT10M;2;Schaumburg vs. Roselle 3 (Szymanek)
END:VEVENT
BEGIN:VEVENT
DTSTART:20260228T121500
DTEND:20260228T131500
SUMMARY:Schaumburg vs. Bloomingdale 1 (Ashfaq)
DESCRIPTION:3rd/4th Grade Boys - Giannis Division - Intervillage Leagues
LOCATION:Schaumburg - Keller Jr. High
CATEGORIES:QuickScores; Basketball - Youth Game
TRANSP:0
DALARM:20260228T101500;PT10M;2;Schaumburg vs. Bloomingdale 1 (Ashfaq)
END:VEVENT
BEGIN:VEVENT
DTSTART:20260228T130000
DTEND:20260228T140000
SUMMARY:Roselle 3 (Szymanek) vs. Roselle 1 (Slowik)
DESCRIPTION:3rd/4th Grade Boys - Giannis Division - Intervillage Leagues
LOCATION:Clauss Recreation Center - Court 1
CATEGORIES:QuickScores; Basketball - Youth Game
TRANSP:0
DALARM:20260228T110000;PT10M;2;Roselle 3 (Szymanek) vs. Roselle 1 (Slowik)
END:VEVENT
BEGIN:VEVENT
DTSTART:20260228T141500
DTEND:20260228T151500
SUMMARY:Roselle 4 (Callan) vs. Bloomingdale 2 (Manning)
DESCRIPTION:3rd/4th Grade Boys - Giannis Division - Intervillage Leagues
LOCATION:Clauss Recreation Center - Court 1
CATEGORIES:QuickScores; Basketball - Youth Game
TRANSP:0
DALARM:20260228T121500;PT10M;2;Roselle 4 (Callan) vs. Bloomingdale 2 (Manning)
END:VEVENT
BEGIN:VEVENT
DTSTART:20260228T170000
DTEND:20260228T180000
SUMMARY:Bville Hawks vs. Bloomingdale 3 (Vallas)
DESCRIPTION:3rd/4th Grade Boys - Giannis Division - Intervillage Leagues
LOCATION:Bensenville Park District
CATEGORIES:QuickScores; Basketball - Youth Game
TRANSP:0
DALARM:20260228T150000;PT10M;2;Bville Hawks vs. Bloomingdale 3 (Vallas)
END:VEVENT
END:VCALENDAR
