BEGIN:VCALENDAR
VERSION:1.0
BEGIN:VEVENT
DTSTART:20260110T110000
DTEND:20260110T120000
SUMMARY:WEST TIMBERWOLVES vs. WEST STORM
DESCRIPTION:CENTRAL & WEST JUNIOR VARSITY DIVISION - Brunswick County Parks & Recreation
LOCATION:SHALLOTTE MIDDLE SCHOOL
CATEGORIES:QuickScores; Basketball - Youth Game
TRANSP:0
DALARM:20260110T090000;PT10M;2;WEST TIMBERWOLVES vs. WEST STORM
END:VEVENT
BEGIN:VEVENT
DTSTART:20260110T120000
DTEND:20260110T130000
SUMMARY:WEST CELTICS vs. WEST GRIZZLIES
DESCRIPTION:CENTRAL & WEST JUNIOR VARSITY DIVISION - Brunswick County Parks & Recreation
LOCATION:SHALLOTTE MIDDLE SCHOOL
CATEGORIES:QuickScores; Basketball - Youth Game
TRANSP:0
DALARM:20260110T100000;PT10M;2;WEST CELTICS vs. WEST GRIZZLIES
END:VEVENT
BEGIN:VEVENT
DTSTART:20260110T130000
DTEND:20260110T140000
SUMMARY:CENTRAL FEVER vs. WEST TROJANS
DESCRIPTION:CENTRAL & WEST JUNIOR VARSITY DIVISION - Brunswick County Parks & Recreation
LOCATION:CEDAR GROVE MIDDLE SCHOOL
CATEGORIES:QuickScores; Basketball - Youth Game
TRANSP:0
DALARM:20260110T110000;PT10M;2;CENTRAL FEVER vs. WEST TROJANS
END:VEVENT
BEGIN:VEVENT
DTSTART:20260110T130000
DTEND:20260110T140000
SUMMARY:CENTRAL SHARKS vs. WEST BALLERS
DESCRIPTION:CENTRAL & WEST JUNIOR VARSITY DIVISION - Brunswick County Parks & Recreation
LOCATION:SHALLOTTE MIDDLE SCHOOL
CATEGORIES:QuickScores; Basketball - Youth Game
TRANSP:0
DALARM:20260110T110000;PT10M;2;CENTRAL SHARKS vs. WEST BALLERS
END:VEVENT
BEGIN:VEVENT
DTSTART:20260117T110000
DTEND:20260117T120000
SUMMARY:WEST TIMBERWOLVES vs. WEST GRIZZLIES
DESCRIPTION:CENTRAL & WEST JUNIOR VARSITY DIVISION - Brunswick County Parks & Recreation
LOCATION:SHALLOTTE MIDDLE SCHOOL
CATEGORIES:QuickScores; Basketball - Youth Game
TRANSP:0
DALARM:20260117T090000;PT10M;2;WEST TIMBERWOLVES vs. WEST GRIZZLIES
END:VEVENT
BEGIN:VEVENT
DTSTART:20260117T120000
DTEND:20260117T130000
SUMMARY:CENTRAL FEVER vs. WEST CELTICS
DESCRIPTION:CENTRAL & WEST JUNIOR VARSITY DIVISION - Brunswick County Parks & Recreation
LOCATION:CEDAR GROVE MIDDLE SCHOOL
CATEGORIES:QuickScores; Basketball - Youth Game
TRANSP:0
DALARM:20260117T100000;PT10M;2;CENTRAL FEVER vs. WEST CELTICS
END:VEVENT
BEGIN:VEVENT
DTSTART:20260117T120000
DTEND:20260117T130000
SUMMARY:WEST STORM vs. WEST BALLERS
DESCRIPTION:CENTRAL & WEST JUNIOR VARSITY DIVISION - Brunswick County Parks & Recreation
LOCATION:SHALLOTTE MIDDLE SCHOOL
CATEGORIES:QuickScores; Basketball - Youth Game
TRANSP:0
DALARM:20260117T100000;PT10M;2;WEST STORM vs. WEST BALLERS
END:VEVENT
BEGIN:VEVENT
DTSTART:20260117T130000
DTEND:20260117T140000
SUMMARY:CENTRAL SHARKS vs. WEST TROJANS
DESCRIPTION:CENTRAL & WEST JUNIOR VARSITY DIVISION - Brunswick County Parks & Recreation
LOCATION:CEDAR GROVE MIDDLE SCHOOL
CATEGORIES:QuickScores; Basketball - Youth Game
TRANSP:0
DALARM:20260117T110000;PT10M;2;CENTRAL SHARKS vs. WEST TROJANS
END:VEVENT
BEGIN:VEVENT
DTSTART:20260124T100000
DTEND:20260124T110000
SUMMARY:CENTRAL FEVER vs. WEST BALLERS
DESCRIPTION:CENTRAL & WEST JUNIOR VARSITY DIVISION - Brunswick County Parks & Recreation
LOCATION:CEDAR GROVE MIDDLE SCHOOL
CATEGORIES:QuickScores; Basketball - Youth Game
TRANSP:0
DALARM:20260124T080000;PT10M;2;CENTRAL FEVER vs. WEST BALLERS
END:VEVENT
BEGIN:VEVENT
DTSTART:20260124T130000
DTEND:20260124T140000
SUMMARY:WEST TROJANS vs. WEST CELTICS
DESCRIPTION:CENTRAL & WEST JUNIOR VARSITY DIVISION - Brunswick County Parks & Recreation
LOCATION:SHALLOTTE MIDDLE SCHOOL
CATEGORIES:QuickScores; Basketball - Youth Game
TRANSP:0
DALARM:20260124T110000;PT10M;2;WEST TROJANS vs. WEST CELTICS
END:VEVENT
BEGIN:VEVENT
DTSTART:20260124T140000
DTEND:20260124T150000
SUMMARY:WEST GRIZZLIES vs. WEST STORM
DESCRIPTION:CENTRAL & WEST JUNIOR VARSITY DIVISION - Brunswick County Parks & Recreation
LOCATION:SHALLOTTE MIDDLE SCHOOL
CATEGORIES:QuickScores; Basketball - Youth Game
TRANSP:0
DALARM:20260124T120000;PT10M;2;WEST GRIZZLIES vs. WEST STORM
END:VEVENT
BEGIN:VEVENT
DTSTART:20260124T150000
DTEND:20260124T160000
SUMMARY:WEST TIMBERWOLVES vs. CENTRAL SHARKS
DESCRIPTION:CENTRAL & WEST JUNIOR VARSITY DIVISION - Brunswick County Parks & Recreation
LOCATION:SHALLOTTE MIDDLE SCHOOL
CATEGORIES:QuickScores; Basketball - Youth Game
TRANSP:0
DALARM:20260124T130000;PT10M;2;WEST TIMBERWOLVES vs. CENTRAL SHARKS
END:VEVENT
BEGIN:VEVENT
DTSTART:20260207T110000
DTEND:20260207T120000
SUMMARY:CENTRAL SHARKS vs. WEST GRIZZLIES
DESCRIPTION:CENTRAL & WEST JUNIOR VARSITY DIVISION - Brunswick County Parks & Recreation
LOCATION:CEDAR GROVE MIDDLE SCHOOL
CATEGORIES:QuickScores; Basketball - Youth Game
TRANSP:0
DALARM:20260207T090000;PT10M;2;CENTRAL SHARKS vs. WEST GRIZZLIES
END:VEVENT
BEGIN:VEVENT
DTSTART:20260207T120000
DTEND:20260207T130000
SUMMARY:WEST CELTICS vs. WEST STORM
DESCRIPTION:CENTRAL & WEST JUNIOR VARSITY DIVISION - Brunswick County Parks & Recreation
LOCATION:SHALLOTTE MIDDLE SCHOOL
CATEGORIES:QuickScores; Basketball - Youth Game
TRANSP:0
DALARM:20260207T100000;PT10M;2;WEST CELTICS vs. WEST STORM
END:VEVENT
BEGIN:VEVENT
DTSTART:20260207T120000
DTEND:20260207T130000
SUMMARY:CENTRAL FEVER vs. WEST TIMBERWOLVES
DESCRIPTION:CENTRAL & WEST JUNIOR VARSITY DIVISION - Brunswick County Parks & Recreation
LOCATION:CEDAR GROVE MIDDLE SCHOOL
CATEGORIES:QuickScores; Basketball - Youth Game
TRANSP:0
DALARM:20260207T100000;PT10M;2;CENTRAL FEVER vs. WEST TIMBERWOLVES
END:VEVENT
BEGIN:VEVENT
DTSTART:20260207T130000
DTEND:20260207T140000
SUMMARY:WEST BALLERS vs. WEST TROJANS
DESCRIPTION:CENTRAL & WEST JUNIOR VARSITY DIVISION - Brunswick County Parks & Recreation
LOCATION:SHALLOTTE MIDDLE SCHOOL
CATEGORIES:QuickScores; Basketball - Youth Game
TRANSP:0
DALARM:20260207T110000;PT10M;2;WEST BALLERS vs. WEST TROJANS
END:VEVENT
BEGIN:VEVENT
DTSTART:20260214T120000
DTEND:20260214T130000
SUMMARY:WEST BALLERS vs. WEST TIMBERWOLVES
DESCRIPTION:CENTRAL & WEST JUNIOR VARSITY DIVISION - Brunswick County Parks & Recreation
LOCATION:SHALLOTTE MIDDLE SCHOOL
CATEGORIES:QuickScores; Basketball - Youth Game
TRANSP:0
DALARM:20260214T100000;PT10M;2;WEST BALLERS vs. WEST TIMBERWOLVES
END:VEVENT
BEGIN:VEVENT
DTSTART:20260214T130000
DTEND:20260214T140000
SUMMARY:WEST CELTICS vs. CENTRAL SHARKS
DESCRIPTION:CENTRAL & WEST JUNIOR VARSITY DIVISION - Brunswick County Parks & Recreation
LOCATION:SHALLOTTE MIDDLE SCHOOL
CATEGORIES:QuickScores; Basketball - Youth Game
TRANSP:0
DALARM:20260214T110000;PT10M;2;WEST CELTICS vs. CENTRAL SHARKS
END:VEVENT
BEGIN:VEVENT
DTSTART:20260214T140000
DTEND:20260214T150000
SUMMARY:WEST GRIZZLIES vs. WEST TROJANS
DESCRIPTION:CENTRAL & WEST JUNIOR VARSITY DIVISION - Brunswick County Parks & Recreation
LOCATION:SHALLOTTE MIDDLE SCHOOL
CATEGORIES:QuickScores; Basketball - Youth Game
TRANSP:0
DALARM:20260214T120000;PT10M;2;WEST GRIZZLIES vs. WEST TROJANS
END:VEVENT
BEGIN:VEVENT
DTSTART:20260214T150000
DTEND:20260214T160000
SUMMARY:WEST STORM vs. CENTRAL FEVER
DESCRIPTION:CENTRAL & WEST JUNIOR VARSITY DIVISION - Brunswick County Parks & Recreation
LOCATION:SHALLOTTE MIDDLE SCHOOL
CATEGORIES:QuickScores; Basketball - Youth Game
TRANSP:0
DALARM:20260214T130000;PT10M;2;WEST STORM vs. CENTRAL FEVER
END:VEVENT
BEGIN:VEVENT
DTSTART:20260221T120000
DTEND:20260221T130000
SUMMARY:WEST TROJANS vs. WEST TIMBERWOLVES
DESCRIPTION:CENTRAL & WEST JUNIOR VARSITY DIVISION - Brunswick County Parks & Recreation
LOCATION:SHALLOTTE MIDDLE SCHOOL
CATEGORIES:QuickScores; Basketball - Youth Game
TRANSP:0
DALARM:20260221T100000;PT10M;2;WEST TROJANS vs. WEST TIMBERWOLVES
END:VEVENT
BEGIN:VEVENT
DTSTART:20260221T130000
DTEND:20260221T140000
SUMMARY:WEST GRIZZLIES vs. CENTRAL FEVER
DESCRIPTION:CENTRAL & WEST JUNIOR VARSITY DIVISION - Brunswick County Parks & Recreation
LOCATION:SHALLOTTE MIDDLE SCHOOL
CATEGORIES:QuickScores; Basketball - Youth Game
TRANSP:0
DALARM:20260221T110000;PT10M;2;WEST GRIZZLIES vs. CENTRAL FEVER
END:VEVENT
BEGIN:VEVENT
DTSTART:20260221T140000
DTEND:20260221T150000
SUMMARY:WEST CELTICS vs. WEST BALLERS
DESCRIPTION:CENTRAL & WEST JUNIOR VARSITY DIVISION - Brunswick County Parks & Recreation
LOCATION:SHALLOTTE MIDDLE SCHOOL
CATEGORIES:QuickScores; Basketball - Youth Game
TRANSP:0
DALARM:20260221T120000;PT10M;2;WEST CELTICS vs. WEST BALLERS
END:VEVENT
BEGIN:VEVENT
DTSTART:20260221T140000
DTEND:20260221T150000
SUMMARY:WEST STORM vs. CENTRAL SHARKS
DESCRIPTION:CENTRAL & WEST JUNIOR VARSITY DIVISION - Brunswick County Parks & Recreation
LOCATION:CEDAR GROVE MIDDLE SCHOOL
CATEGORIES:QuickScores; Basketball - Youth Game
TRANSP:0
DALARM:20260221T120000;PT10M;2;WEST STORM vs. CENTRAL SHARKS
END:VEVENT
BEGIN:VEVENT
DTSTART:20260228T110000
DTEND:20260228T120000
SUMMARY:WEST GRIZZLIES vs. WEST CELTICS
DESCRIPTION:CENTRAL & WEST JUNIOR VARSITY DIVISION - Brunswick County Parks & Recreation
LOCATION:CEDAR GROVE MIDDLE SCHOOL
CATEGORIES:QuickScores; Basketball - Youth Game
TRANSP:0
DALARM:20260228T090000;PT10M;2;WEST GRIZZLIES vs. WEST CELTICS
END:VEVENT
BEGIN:VEVENT
DTSTART:20260228T130000
DTEND:20260228T140000
SUMMARY:WEST TROJANS vs. CENTRAL FEVER
DESCRIPTION:CENTRAL & WEST JUNIOR VARSITY DIVISION - Brunswick County Parks & Recreation
LOCATION:SHALLOTTE MIDDLE SCHOOL
CATEGORIES:QuickScores; Basketball - Youth Game
TRANSP:0
DALARM:20260228T110000;PT10M;2;WEST TROJANS vs. CENTRAL FEVER
END:VEVENT
BEGIN:VEVENT
DTSTART:20260228T140000
DTEND:20260228T150000
SUMMARY:WEST STORM vs. WEST TIMBERWOLVES
DESCRIPTION:CENTRAL & WEST JUNIOR VARSITY DIVISION - Brunswick County Parks & Recreation
LOCATION:SHALLOTTE MIDDLE SCHOOL
CATEGORIES:QuickScores; Basketball - Youth Game
TRANSP:0
DALARM:20260228T120000;PT10M;2;WEST STORM vs. WEST TIMBERWOLVES
END:VEVENT
BEGIN:VEVENT
DTSTART:20260228T150000
DTEND:20260228T160000
SUMMARY:WEST BALLERS vs. CENTRAL SHARKS
DESCRIPTION:CENTRAL & WEST JUNIOR VARSITY DIVISION - Brunswick County Parks & Recreation
LOCATION:SHALLOTTE MIDDLE SCHOOL
CATEGORIES:QuickScores; Basketball - Youth Game
TRANSP:0
DALARM:20260228T130000;PT10M;2;WEST BALLERS vs. CENTRAL SHARKS
END:VEVENT
BEGIN:VEVENT
DTSTART:20260307T100000
DTEND:20260307T110000
SUMMARY:CENTRAL SHARKS vs. CENTRAL FEVER
DESCRIPTION:CENTRAL & WEST JUNIOR VARSITY DIVISION - Brunswick County Parks & Recreation
LOCATION:CEDAR GROVE MIDDLE SCHOOL
CATEGORIES:QuickScores; Basketball - Youth Game
TRANSP:0
DALARM:20260307T080000;PT10M;2;CENTRAL SHARKS vs. CENTRAL FEVER
END:VEVENT
BEGIN:VEVENT
DTSTART:20260307T130000
DTEND:20260307T140000
SUMMARY:WEST BALLERS vs. WEST GRIZZLIES
DESCRIPTION:CENTRAL & WEST JUNIOR VARSITY DIVISION - Brunswick County Parks & Recreation
LOCATION:SHALLOTTE MIDDLE SCHOOL
CATEGORIES:QuickScores; Basketball - Youth Game
TRANSP:0
DALARM:20260307T110000;PT10M;2;WEST BALLERS vs. WEST GRIZZLIES
END:VEVENT
BEGIN:VEVENT
DTSTART:20260307T140000
DTEND:20260307T150000
SUMMARY:WEST TIMBERWOLVES vs. WEST CELTICS
DESCRIPTION:CENTRAL & WEST JUNIOR VARSITY DIVISION - Brunswick County Parks & Recreation
LOCATION:SHALLOTTE MIDDLE SCHOOL
CATEGORIES:QuickScores; Basketball - Youth Game
TRANSP:0
DALARM:20260307T120000;PT10M;2;WEST TIMBERWOLVES vs. WEST CELTICS
END:VEVENT
BEGIN:VEVENT
DTSTART:20260307T150000
DTEND:20260307T160000
SUMMARY:WEST TROJANS vs. WEST STORM
DESCRIPTION:CENTRAL & WEST JUNIOR VARSITY DIVISION - Brunswick County Parks & Recreation
LOCATION:SHALLOTTE MIDDLE SCHOOL
CATEGORIES:QuickScores; Basketball - Youth Game
TRANSP:0
DALARM:20260307T130000;PT10M;2;WEST TROJANS vs. WEST STORM
END:VEVENT
END:VCALENDAR
