BEGIN:VCALENDAR
VERSION:1.0
BEGIN:VEVENT
DTSTART:20251204T170000
DTEND:20251204T180000
SUMMARY:Adam Ware vs. Jeff Richards
DESCRIPTION:11th-12th Boys-Jr Jazz - Draper City UT Parks and Recreation
LOCATION:DPMS East (HS Basketball)
CATEGORIES:QuickScores; Basketball - Youth Game
TRANSP:0
DALARM:20251204T150000;PT10M;2;Adam Ware vs. Jeff Richards
END:VEVENT
BEGIN:VEVENT
DTSTART:20251204T180000
DTEND:20251204T190000
SUMMARY:Barry Gates vs. Tyler Free
DESCRIPTION:11th-12th Boys-Jr Jazz - Draper City UT Parks and Recreation
LOCATION:DPMS West (HS Basketball)
CATEGORIES:QuickScores; Basketball - Youth Game
TRANSP:0
DALARM:20251204T160000;PT10M;2;Barry Gates vs. Tyler Free
END:VEVENT
BEGIN:VEVENT
DTSTART:20251204T180000
DTEND:20251204T190000
SUMMARY:Jared Adamson vs. Steve Sugiyama
DESCRIPTION:11th-12th Boys-Jr Jazz - Draper City UT Parks and Recreation
LOCATION:DPMS East (HS Basketball)
CATEGORIES:QuickScores; Basketball - Youth Game
TRANSP:0
DALARM:20251204T160000;PT10M;2;Jared Adamson vs. Steve Sugiyama
END:VEVENT
BEGIN:VEVENT
DTSTART:20251204T190000
DTEND:20251204T200000
SUMMARY:Chad Thorell vs. Trace Griffths
DESCRIPTION:11th-12th Boys-Jr Jazz - Draper City UT Parks and Recreation
LOCATION:DPMS West (HS Basketball)
CATEGORIES:QuickScores; Basketball - Youth Game
TRANSP:0
DALARM:20251204T170000;PT10M;2;Chad Thorell vs. Trace Griffths
END:VEVENT
BEGIN:VEVENT
DTSTART:20251204T190000
DTEND:20251204T200000
SUMMARY:Curtis Borg vs. Tim Pugh
DESCRIPTION:11th-12th Boys-Jr Jazz - Draper City UT Parks and Recreation
LOCATION:DPMS East (HS Basketball)
CATEGORIES:QuickScores; Basketball - Youth Game
TRANSP:0
DALARM:20251204T170000;PT10M;2;Curtis Borg vs. Tim Pugh
END:VEVENT
BEGIN:VEVENT
DTSTART:20251204T200000
DTEND:20251204T210000
SUMMARY:Eric Kjar vs. Ron Hankins
DESCRIPTION:11th-12th Boys-Jr Jazz - Draper City UT Parks and Recreation
LOCATION:DPMS East (HS Basketball)
CATEGORIES:QuickScores; Basketball - Youth Game
TRANSP:0
DALARM:20251204T180000;PT10M;2;Eric Kjar vs. Ron Hankins
END:VEVENT
BEGIN:VEVENT
DTSTART:20251204T200000
DTEND:20251204T210000
SUMMARY:Jason Tenney vs. Scott Neal
DESCRIPTION:11th-12th Boys-Jr Jazz - Draper City UT Parks and Recreation
LOCATION:DPMS West (HS Basketball)
CATEGORIES:QuickScores; Basketball - Youth Game
TRANSP:0
DALARM:20251204T180000;PT10M;2;Jason Tenney vs. Scott Neal
END:VEVENT
BEGIN:VEVENT
DTSTART:20251204T210000
DTEND:20251204T220000
SUMMARY:Brandon Myers vs. Mark Walker
DESCRIPTION:11th-12th Boys-Jr Jazz - Draper City UT Parks and Recreation
LOCATION:DPMS East (HS Basketball)
CATEGORIES:QuickScores; Basketball - Youth Game
TRANSP:0
DALARM:20251204T190000;PT10M;2;Brandon Myers vs. Mark Walker
END:VEVENT
BEGIN:VEVENT
DTSTART:20251204T210000
DTEND:20251204T220000
SUMMARY:Jacob Brinton vs. Callie Mickelson
DESCRIPTION:11th-12th Boys-Jr Jazz - Draper City UT Parks and Recreation
LOCATION:DPMS West (HS Basketball)
CATEGORIES:QuickScores; Basketball - Youth Game
TRANSP:0
DALARM:20251204T190000;PT10M;2;Jacob Brinton vs. Callie Mickelson
END:VEVENT
BEGIN:VEVENT
DTSTART:20251211T170000
DTEND:20251211T180000
SUMMARY:Tyler Free vs. Tim Pugh
DESCRIPTION:11th-12th Boys-Jr Jazz - Draper City UT Parks and Recreation
LOCATION:DPMS East (HS Basketball)
CATEGORIES:QuickScores; Basketball - Youth Game
TRANSP:0
DALARM:20251211T150000;PT10M;2;Tyler Free vs. Tim Pugh
END:VEVENT
BEGIN:VEVENT
DTSTART:20251211T170000
DTEND:20251211T180000
SUMMARY:Adam Ware vs. Callie Mickelson
DESCRIPTION:11th-12th Boys-Jr Jazz - Draper City UT Parks and Recreation
LOCATION:DPMS West (HS Basketball)
CATEGORIES:QuickScores; Basketball - Youth Game
TRANSP:0
DALARM:20251211T150000;PT10M;2;Adam Ware vs. Callie Mickelson
END:VEVENT
BEGIN:VEVENT
DTSTART:20251211T180000
DTEND:20251211T190000
SUMMARY:Mark Walker vs. Jason Tenney
DESCRIPTION:11th-12th Boys-Jr Jazz - Draper City UT Parks and Recreation
LOCATION:DPMS East (HS Basketball)
CATEGORIES:QuickScores; Basketball - Youth Game
TRANSP:0
DALARM:20251211T160000;PT10M;2;Mark Walker vs. Jason Tenney
END:VEVENT
BEGIN:VEVENT
DTSTART:20251211T180000
DTEND:20251211T190000
SUMMARY:Curtis Borg vs. Jacob Brinton
DESCRIPTION:11th-12th Boys-Jr Jazz - Draper City UT Parks and Recreation
LOCATION:DPMS West (HS Basketball)
CATEGORIES:QuickScores; Basketball - Youth Game
TRANSP:0
DALARM:20251211T160000;PT10M;2;Curtis Borg vs. Jacob Brinton
END:VEVENT
BEGIN:VEVENT
DTSTART:20251211T190000
DTEND:20251211T200000
SUMMARY:Steve Sugiyama vs. Chris Pizza
DESCRIPTION:11th-12th Boys-Jr Jazz - Draper City UT Parks and Recreation
LOCATION:DPMS West (HS Basketball)
CATEGORIES:QuickScores; Basketball - Youth Game
TRANSP:0
DALARM:20251211T170000;PT10M;2;Steve Sugiyama vs. Chris Pizza
END:VEVENT
BEGIN:VEVENT
DTSTART:20251211T190000
DTEND:20251211T200000
SUMMARY:Trace Griffths vs. Jeff Richards
DESCRIPTION:11th-12th Boys-Jr Jazz - Draper City UT Parks and Recreation
LOCATION:DPMS East (HS Basketball)
CATEGORIES:QuickScores; Basketball - Youth Game
TRANSP:0
DALARM:20251211T170000;PT10M;2;Trace Griffths vs. Jeff Richards
END:VEVENT
BEGIN:VEVENT
DTSTART:20251211T200000
DTEND:20251211T210000
SUMMARY:Scott Neal vs. Jared Adamson
DESCRIPTION:11th-12th Boys-Jr Jazz - Draper City UT Parks and Recreation
LOCATION:DPMS East (HS Basketball)
CATEGORIES:QuickScores; Basketball - Youth Game
TRANSP:0
DALARM:20251211T180000;PT10M;2;Scott Neal vs. Jared Adamson
END:VEVENT
BEGIN:VEVENT
DTSTART:20251211T200000
DTEND:20251211T210000
SUMMARY:Eric Kjar vs. Jake Kessler
DESCRIPTION:11th-12th Boys-Jr Jazz - Draper City UT Parks and Recreation
LOCATION:DPMS West (HS Basketball)
CATEGORIES:QuickScores; Basketball - Youth Game
TRANSP:0
DALARM:20251211T180000;PT10M;2;Eric Kjar vs. Jake Kessler
END:VEVENT
BEGIN:VEVENT
DTSTART:20251211T210000
DTEND:20251211T220000
SUMMARY:Ron Hankins vs. Chad Thorell
DESCRIPTION:11th-12th Boys-Jr Jazz - Draper City UT Parks and Recreation
LOCATION:DPMS East (HS Basketball)
CATEGORIES:QuickScores; Basketball - Youth Game
TRANSP:0
DALARM:20251211T190000;PT10M;2;Ron Hankins vs. Chad Thorell
END:VEVENT
BEGIN:VEVENT
DTSTART:20251211T210000
DTEND:20251211T220000
SUMMARY:Jackson Brown vs. Barry Gates
DESCRIPTION:11th-12th Boys-Jr Jazz - Draper City UT Parks and Recreation
LOCATION:DPMS West (HS Basketball)
CATEGORIES:QuickScores; Basketball - Youth Game
TRANSP:0
DALARM:20251211T190000;PT10M;2;Jackson Brown vs. Barry Gates
END:VEVENT
BEGIN:VEVENT
DTSTART:20251218T170000
DTEND:20251218T180000
SUMMARY:Trace Griffths vs. Eric Kjar
DESCRIPTION:11th-12th Boys-Jr Jazz - Draper City UT Parks and Recreation
LOCATION:DPMS East (HS Basketball)
CATEGORIES:QuickScores; Basketball - Youth Game
TRANSP:0
DALARM:20251218T150000;PT10M;2;Trace Griffths vs. Eric Kjar
END:VEVENT
BEGIN:VEVENT
DTSTART:20251218T170000
DTEND:20251218T180000
SUMMARY:Brandon Myers vs. Scott Neal
DESCRIPTION:11th-12th Boys-Jr Jazz - Draper City UT Parks and Recreation
LOCATION:DPMS West (HS Basketball)
CATEGORIES:QuickScores; Basketball - Youth Game
TRANSP:0
DALARM:20251218T150000;PT10M;2;Brandon Myers vs. Scott Neal
END:VEVENT
BEGIN:VEVENT
DTSTART:20251218T180000
DTEND:20251218T190000
SUMMARY:Curtis Borg vs. Barry Gates
DESCRIPTION:11th-12th Boys-Jr Jazz - Draper City UT Parks and Recreation
LOCATION:DPMS East (HS Basketball)
CATEGORIES:QuickScores; Basketball - Youth Game
TRANSP:0
DALARM:20251218T160000;PT10M;2;Curtis Borg vs. Barry Gates
END:VEVENT
BEGIN:VEVENT
DTSTART:20251218T180000
DTEND:20251218T190000
SUMMARY:Jason Tenney vs. Steve Sugiyama
DESCRIPTION:11th-12th Boys-Jr Jazz - Draper City UT Parks and Recreation
LOCATION:DPMS West (HS Basketball)
CATEGORIES:QuickScores; Basketball - Youth Game
TRANSP:0
DALARM:20251218T160000;PT10M;2;Jason Tenney vs. Steve Sugiyama
END:VEVENT
BEGIN:VEVENT
DTSTART:20251218T190000
DTEND:20251218T200000
SUMMARY:Jake Kessler vs. Ron Hankins
DESCRIPTION:11th-12th Boys-Jr Jazz - Draper City UT Parks and Recreation
LOCATION:DPMS West (HS Basketball)
CATEGORIES:QuickScores; Basketball - Youth Game
TRANSP:0
DALARM:20251218T170000;PT10M;2;Jake Kessler vs. Ron Hankins
END:VEVENT
BEGIN:VEVENT
DTSTART:20251218T190000
DTEND:20251218T200000
SUMMARY:Chris Pizza vs. Tyler Free
DESCRIPTION:11th-12th Boys-Jr Jazz - Draper City UT Parks and Recreation
LOCATION:DPMS East (HS Basketball)
CATEGORIES:QuickScores; Basketball - Youth Game
TRANSP:0
DALARM:20251218T170000;PT10M;2;Chris Pizza vs. Tyler Free
END:VEVENT
BEGIN:VEVENT
DTSTART:20251218T200000
DTEND:20251218T210000
SUMMARY:Tim Pugh vs. Callie Mickelson
DESCRIPTION:11th-12th Boys-Jr Jazz - Draper City UT Parks and Recreation
LOCATION:DPMS West (HS Basketball)
CATEGORIES:QuickScores; Basketball - Youth Game
TRANSP:0
DALARM:20251218T180000;PT10M;2;Tim Pugh vs. Callie Mickelson
END:VEVENT
BEGIN:VEVENT
DTSTART:20251218T200000
DTEND:20251218T210000
SUMMARY:Jeff Richards vs. Jacob Brinton
DESCRIPTION:11th-12th Boys-Jr Jazz - Draper City UT Parks and Recreation
LOCATION:DPMS East (HS Basketball)
CATEGORIES:QuickScores; Basketball - Youth Game
TRANSP:0
DALARM:20251218T180000;PT10M;2;Jeff Richards vs. Jacob Brinton
END:VEVENT
BEGIN:VEVENT
DTSTART:20251218T210000
DTEND:20251218T220000
SUMMARY:Jackson Brown vs. Jared Adamson
DESCRIPTION:11th-12th Boys-Jr Jazz - Draper City UT Parks and Recreation
LOCATION:DPMS East (HS Basketball)
CATEGORIES:QuickScores; Basketball - Youth Game
TRANSP:0
DALARM:20251218T190000;PT10M;2;Jackson Brown vs. Jared Adamson
END:VEVENT
BEGIN:VEVENT
DTSTART:20251218T210000
DTEND:20251218T220000
SUMMARY:Adam Ware vs. Chad Thorell
DESCRIPTION:11th-12th Boys-Jr Jazz - Draper City UT Parks and Recreation
LOCATION:DPMS West (HS Basketball)
CATEGORIES:QuickScores; Basketball - Youth Game
TRANSP:0
DALARM:20251218T190000;PT10M;2;Adam Ware vs. Chad Thorell
END:VEVENT
BEGIN:VEVENT
DTSTART:20260108T170000
DTEND:20260108T180000
SUMMARY:Jacob Brinton vs. Tyler Free
DESCRIPTION:11th-12th Boys-Jr Jazz - Draper City UT Parks and Recreation
LOCATION:DPMS West (HS Basketball)
CATEGORIES:QuickScores; Basketball - Youth Game
TRANSP:0
DALARM:20260108T150000;PT10M;2;Jacob Brinton vs. Tyler Free
END:VEVENT
BEGIN:VEVENT
DTSTART:20260108T170000
DTEND:20260108T180000
SUMMARY:Barry Gates vs. Steve Sugiyama
DESCRIPTION:11th-12th Boys-Jr Jazz - Draper City UT Parks and Recreation
LOCATION:DPMS East (HS Basketball)
CATEGORIES:QuickScores; Basketball - Youth Game
TRANSP:0
DALARM:20260108T150000;PT10M;2;Barry Gates vs. Steve Sugiyama
END:VEVENT
BEGIN:VEVENT
DTSTART:20260108T180000
DTEND:20260108T190000
SUMMARY:Ron Hankins vs. Jeff Richards
DESCRIPTION:11th-12th Boys-Jr Jazz - Draper City UT Parks and Recreation
LOCATION:DPMS West (HS Basketball)
CATEGORIES:QuickScores; Basketball - Youth Game
TRANSP:0
DALARM:20260108T160000;PT10M;2;Ron Hankins vs. Jeff Richards
END:VEVENT
BEGIN:VEVENT
DTSTART:20260108T180000
DTEND:20260108T190000
SUMMARY:Scott Neal vs. Chris Pizza
DESCRIPTION:11th-12th Boys-Jr Jazz - Draper City UT Parks and Recreation
LOCATION:DPMS East (HS Basketball)
CATEGORIES:QuickScores; Basketball - Youth Game
TRANSP:0
DALARM:20260108T160000;PT10M;2;Scott Neal vs. Chris Pizza
END:VEVENT
BEGIN:VEVENT
DTSTART:20260108T190000
DTEND:20260108T200000
SUMMARY:Tim Pugh vs. Jackson Brown
DESCRIPTION:11th-12th Boys-Jr Jazz - Draper City UT Parks and Recreation
LOCATION:DPMS West (HS Basketball)
CATEGORIES:QuickScores; Basketball - Youth Game
TRANSP:0
DALARM:20260108T170000;PT10M;2;Tim Pugh vs. Jackson Brown
END:VEVENT
BEGIN:VEVENT
DTSTART:20260108T190000
DTEND:20260108T200000
SUMMARY:Chad Thorell vs. Jake Kessler
DESCRIPTION:11th-12th Boys-Jr Jazz - Draper City UT Parks and Recreation
LOCATION:DPMS East (HS Basketball)
CATEGORIES:QuickScores; Basketball - Youth Game
TRANSP:0
DALARM:20260108T170000;PT10M;2;Chad Thorell vs. Jake Kessler
END:VEVENT
BEGIN:VEVENT
DTSTART:20260108T200000
DTEND:20260108T210000
SUMMARY:Adam Ware vs. Curtis Borg
DESCRIPTION:11th-12th Boys-Jr Jazz - Draper City UT Parks and Recreation
LOCATION:DPMS West (HS Basketball)
CATEGORIES:QuickScores; Basketball - Youth Game
TRANSP:0
DALARM:20260108T180000;PT10M;2;Adam Ware vs. Curtis Borg
END:VEVENT
BEGIN:VEVENT
DTSTART:20260108T200000
DTEND:20260108T210000
SUMMARY:Jason Tenney vs. Brandon Myers
DESCRIPTION:11th-12th Boys-Jr Jazz - Draper City UT Parks and Recreation
LOCATION:DPMS East (HS Basketball)
CATEGORIES:QuickScores; Basketball - Youth Game
TRANSP:0
DALARM:20260108T180000;PT10M;2;Jason Tenney vs. Brandon Myers
END:VEVENT
BEGIN:VEVENT
DTSTART:20260108T210000
DTEND:20260108T220000
SUMMARY:Callie Mickelson vs. Trace Griffths
DESCRIPTION:11th-12th Boys-Jr Jazz - Draper City UT Parks and Recreation
LOCATION:DPMS East (HS Basketball)
CATEGORIES:QuickScores; Basketball - Youth Game
TRANSP:0
DALARM:20260108T190000;PT10M;2;Callie Mickelson vs. Trace Griffths
END:VEVENT
BEGIN:VEVENT
DTSTART:20260108T210000
DTEND:20260108T220000
SUMMARY:Mark Walker vs. Jared Adamson
DESCRIPTION:11th-12th Boys-Jr Jazz - Draper City UT Parks and Recreation
LOCATION:DPMS West (HS Basketball)
CATEGORIES:QuickScores; Basketball - Youth Game
TRANSP:0
DALARM:20260108T190000;PT10M;2;Mark Walker vs. Jared Adamson
END:VEVENT
BEGIN:VEVENT
DTSTART:20260115T170000
DTEND:20260115T180000
SUMMARY:Scott Neal vs. Mark Walker
DESCRIPTION:11th-12th Boys-Jr Jazz - Draper City UT Parks and Recreation
LOCATION:DPMS East (HS Basketball)
CATEGORIES:QuickScores; Basketball - Youth Game
TRANSP:0
DALARM:20260115T150000;PT10M;2;Scott Neal vs. Mark Walker
END:VEVENT
BEGIN:VEVENT
DTSTART:20260115T170000
DTEND:20260115T180000
SUMMARY:Trace Griffths vs. Jake Kessler
DESCRIPTION:11th-12th Boys-Jr Jazz - Draper City UT Parks and Recreation
LOCATION:DPMS West (HS Basketball)
CATEGORIES:QuickScores; Basketball - Youth Game
TRANSP:0
DALARM:20260115T150000;PT10M;2;Trace Griffths vs. Jake Kessler
END:VEVENT
BEGIN:VEVENT
DTSTART:20260115T180000
DTEND:20260115T190000
SUMMARY:Jeff Richards vs. Tim Pugh
DESCRIPTION:11th-12th Boys-Jr Jazz - Draper City UT Parks and Recreation
LOCATION:DPMS East (HS Basketball)
CATEGORIES:QuickScores; Basketball - Youth Game
TRANSP:0
DALARM:20260115T160000;PT10M;2;Jeff Richards vs. Tim Pugh
END:VEVENT
BEGIN:VEVENT
DTSTART:20260115T180000
DTEND:20260115T190000
SUMMARY:Eric Kjar vs. Adam Ware
DESCRIPTION:11th-12th Boys-Jr Jazz - Draper City UT Parks and Recreation
LOCATION:DPMS West (HS Basketball)
CATEGORIES:QuickScores; Basketball - Youth Game
TRANSP:0
DALARM:20260115T160000;PT10M;2;Eric Kjar vs. Adam Ware
END:VEVENT
BEGIN:VEVENT
DTSTART:20260115T190000
DTEND:20260115T200000
SUMMARY:Jackson Brown vs. Jason Tenney
DESCRIPTION:11th-12th Boys-Jr Jazz - Draper City UT Parks and Recreation
LOCATION:DPMS East (HS Basketball)
CATEGORIES:QuickScores; Basketball - Youth Game
TRANSP:0
DALARM:20260115T170000;PT10M;2;Jackson Brown vs. Jason Tenney
END:VEVENT
BEGIN:VEVENT
DTSTART:20260115T190000
DTEND:20260115T200000
SUMMARY:Callie Mickelson vs. Barry Gates
DESCRIPTION:11th-12th Boys-Jr Jazz - Draper City UT Parks and Recreation
LOCATION:DPMS West (HS Basketball)
CATEGORIES:QuickScores; Basketball - Youth Game
TRANSP:0
DALARM:20260115T170000;PT10M;2;Callie Mickelson vs. Barry Gates
END:VEVENT
BEGIN:VEVENT
DTSTART:20260115T200000
DTEND:20260115T210000
SUMMARY:Chad Thorell vs. Jacob Brinton
DESCRIPTION:11th-12th Boys-Jr Jazz - Draper City UT Parks and Recreation
LOCATION:DPMS West (HS Basketball)
CATEGORIES:QuickScores; Basketball - Youth Game
TRANSP:0
DALARM:20260115T180000;PT10M;2;Chad Thorell vs. Jacob Brinton
END:VEVENT
BEGIN:VEVENT
DTSTART:20260115T200000
DTEND:20260115T210000
SUMMARY:Jared Adamson vs. Tyler Free
DESCRIPTION:11th-12th Boys-Jr Jazz - Draper City UT Parks and Recreation
LOCATION:DPMS East (HS Basketball)
CATEGORIES:QuickScores; Basketball - Youth Game
TRANSP:0
DALARM:20260115T180000;PT10M;2;Jared Adamson vs. Tyler Free
END:VEVENT
BEGIN:VEVENT
DTSTART:20260115T210000
DTEND:20260115T220000
SUMMARY:Curtis Borg vs. Chris Pizza
DESCRIPTION:11th-12th Boys-Jr Jazz - Draper City UT Parks and Recreation
LOCATION:DPMS East (HS Basketball)
CATEGORIES:QuickScores; Basketball - Youth Game
TRANSP:0
DALARM:20260115T190000;PT10M;2;Curtis Borg vs. Chris Pizza
END:VEVENT
BEGIN:VEVENT
DTSTART:20260115T210000
DTEND:20260115T220000
SUMMARY:Steve Sugiyama vs. Brandon Myers
DESCRIPTION:11th-12th Boys-Jr Jazz - Draper City UT Parks and Recreation
LOCATION:DPMS West (HS Basketball)
CATEGORIES:QuickScores; Basketball - Youth Game
TRANSP:0
DALARM:20260115T190000;PT10M;2;Steve Sugiyama vs. Brandon Myers
END:VEVENT
BEGIN:VEVENT
DTSTART:20260122T170000
DTEND:20260122T180000
SUMMARY:Jacob Brinton vs. Jackson Brown
DESCRIPTION:11th-12th Boys-Jr Jazz - Draper City UT Parks and Recreation
LOCATION:DPMS East (HS Basketball)
CATEGORIES:QuickScores; Basketball - Youth Game
TRANSP:0
DALARM:20260122T150000;PT10M;2;Jacob Brinton vs. Jackson Brown
END:VEVENT
BEGIN:VEVENT
DTSTART:20260122T170000
DTEND:20260122T180000
SUMMARY:Steve Sugiyama vs. Tim Pugh
DESCRIPTION:11th-12th Boys-Jr Jazz - Draper City UT Parks and Recreation
LOCATION:DPMS West (HS Basketball)
CATEGORIES:QuickScores; Basketball - Youth Game
TRANSP:0
DALARM:20260122T150000;PT10M;2;Steve Sugiyama vs. Tim Pugh
END:VEVENT
BEGIN:VEVENT
DTSTART:20260122T180000
DTEND:20260122T190000
SUMMARY:Mark Walker vs. Chris Pizza
DESCRIPTION:11th-12th Boys-Jr Jazz - Draper City UT Parks and Recreation
LOCATION:DPMS West (HS Basketball)
CATEGORIES:QuickScores; Basketball - Youth Game
TRANSP:0
DALARM:20260122T160000;PT10M;2;Mark Walker vs. Chris Pizza
END:VEVENT
BEGIN:VEVENT
DTSTART:20260122T180000
DTEND:20260122T190000
SUMMARY:Chad Thorell vs. Eric Kjar
DESCRIPTION:11th-12th Boys-Jr Jazz - Draper City UT Parks and Recreation
LOCATION:DPMS East (HS Basketball)
CATEGORIES:QuickScores; Basketball - Youth Game
TRANSP:0
DALARM:20260122T160000;PT10M;2;Chad Thorell vs. Eric Kjar
END:VEVENT
BEGIN:VEVENT
DTSTART:20260122T190000
DTEND:20260122T200000
SUMMARY:Brandon Myers vs. Jared Adamson
DESCRIPTION:11th-12th Boys-Jr Jazz - Draper City UT Parks and Recreation
LOCATION:DPMS West (HS Basketball)
CATEGORIES:QuickScores; Basketball - Youth Game
TRANSP:0
DALARM:20260122T170000;PT10M;2;Brandon Myers vs. Jared Adamson
END:VEVENT
BEGIN:VEVENT
DTSTART:20260122T190000
DTEND:20260122T200000
SUMMARY:Callie Mickelson vs. Ron Hankins
DESCRIPTION:11th-12th Boys-Jr Jazz - Draper City UT Parks and Recreation
LOCATION:DPMS East (HS Basketball)
CATEGORIES:QuickScores; Basketball - Youth Game
TRANSP:0
DALARM:20260122T170000;PT10M;2;Callie Mickelson vs. Ron Hankins
END:VEVENT
BEGIN:VEVENT
DTSTART:20260122T200000
DTEND:20260122T210000
SUMMARY:Trace Griffths vs. Curtis Borg
DESCRIPTION:11th-12th Boys-Jr Jazz - Draper City UT Parks and Recreation
LOCATION:DPMS East (HS Basketball)
CATEGORIES:QuickScores; Basketball - Youth Game
TRANSP:0
DALARM:20260122T180000;PT10M;2;Trace Griffths vs. Curtis Borg
END:VEVENT
BEGIN:VEVENT
DTSTART:20260122T200000
DTEND:20260122T210000
SUMMARY:Barry Gates vs. Scott Neal
DESCRIPTION:11th-12th Boys-Jr Jazz - Draper City UT Parks and Recreation
LOCATION:DPMS West (HS Basketball)
CATEGORIES:QuickScores; Basketball - Youth Game
TRANSP:0
DALARM:20260122T180000;PT10M;2;Barry Gates vs. Scott Neal
END:VEVENT
BEGIN:VEVENT
DTSTART:20260122T210000
DTEND:20260122T220000
SUMMARY:Tyler Free vs. Adam Ware
DESCRIPTION:11th-12th Boys-Jr Jazz - Draper City UT Parks and Recreation
LOCATION:DPMS East (HS Basketball)
CATEGORIES:QuickScores; Basketball - Youth Game
TRANSP:0
DALARM:20260122T190000;PT10M;2;Tyler Free vs. Adam Ware
END:VEVENT
BEGIN:VEVENT
DTSTART:20260122T210000
DTEND:20260122T220000
SUMMARY:Jake Kessler vs. Jeff Richards
DESCRIPTION:11th-12th Boys-Jr Jazz - Draper City UT Parks and Recreation
LOCATION:DPMS West (HS Basketball)
CATEGORIES:QuickScores; Basketball - Youth Game
TRANSP:0
DALARM:20260122T190000;PT10M;2;Jake Kessler vs. Jeff Richards
END:VEVENT
BEGIN:VEVENT
DTSTART:20260129T170000
DTEND:20260129T180000
SUMMARY:Jared Adamson vs. Curtis Borg
DESCRIPTION:11th-12th Boys-Jr Jazz - Draper City UT Parks and Recreation
LOCATION:DPMS West (HS Basketball)
CATEGORIES:QuickScores; Basketball - Youth Game
TRANSP:0
DALARM:20260129T150000;PT10M;2;Jared Adamson vs. Curtis Borg
END:VEVENT
BEGIN:VEVENT
DTSTART:20260129T170000
DTEND:20260129T180000
SUMMARY:Chris Pizza vs. Callie Mickelson
DESCRIPTION:11th-12th Boys-Jr Jazz - Draper City UT Parks and Recreation
LOCATION:DPMS East (HS Basketball)
CATEGORIES:QuickScores; Basketball - Youth Game
TRANSP:0
DALARM:20260129T150000;PT10M;2;Chris Pizza vs. Callie Mickelson
END:VEVENT
BEGIN:VEVENT
DTSTART:20260129T180000
DTEND:20260129T190000
SUMMARY:Brandon Myers vs. Jackson Brown
DESCRIPTION:11th-12th Boys-Jr Jazz - Draper City UT Parks and Recreation
LOCATION:DPMS West (HS Basketball)
CATEGORIES:QuickScores; Basketball - Youth Game
TRANSP:0
DALARM:20260129T160000;PT10M;2;Brandon Myers vs. Jackson Brown
END:VEVENT
BEGIN:VEVENT
DTSTART:20260129T180000
DTEND:20260129T190000
SUMMARY:Jake Kessler vs. Adam Ware
DESCRIPTION:11th-12th Boys-Jr Jazz - Draper City UT Parks and Recreation
LOCATION:DPMS East (HS Basketball)
CATEGORIES:QuickScores; Basketball - Youth Game
TRANSP:0
DALARM:20260129T160000;PT10M;2;Jake Kessler vs. Adam Ware
END:VEVENT
BEGIN:VEVENT
DTSTART:20260129T190000
DTEND:20260129T200000
SUMMARY:Eric Kjar vs. Jacob Brinton
DESCRIPTION:11th-12th Boys-Jr Jazz - Draper City UT Parks and Recreation
LOCATION:DPMS East (HS Basketball)
CATEGORIES:QuickScores; Basketball - Youth Game
TRANSP:0
DALARM:20260129T170000;PT10M;2;Eric Kjar vs. Jacob Brinton
END:VEVENT
BEGIN:VEVENT
DTSTART:20260129T190000
DTEND:20260129T200000
SUMMARY:Tyler Free vs. Jason Tenney
DESCRIPTION:11th-12th Boys-Jr Jazz - Draper City UT Parks and Recreation
LOCATION:DPMS West (HS Basketball)
CATEGORIES:QuickScores; Basketball - Youth Game
TRANSP:0
DALARM:20260129T170000;PT10M;2;Tyler Free vs. Jason Tenney
END:VEVENT
BEGIN:VEVENT
DTSTART:20260129T200000
DTEND:20260129T210000
SUMMARY:Tim Pugh vs. Chad Thorell
DESCRIPTION:11th-12th Boys-Jr Jazz - Draper City UT Parks and Recreation
LOCATION:DPMS East (HS Basketball)
CATEGORIES:QuickScores; Basketball - Youth Game
TRANSP:0
DALARM:20260129T180000;PT10M;2;Tim Pugh vs. Chad Thorell
END:VEVENT
BEGIN:VEVENT
DTSTART:20260129T200000
DTEND:20260129T210000
SUMMARY:Steve Sugiyama vs. Mark Walker
DESCRIPTION:11th-12th Boys-Jr Jazz - Draper City UT Parks and Recreation
LOCATION:DPMS West (HS Basketball)
CATEGORIES:QuickScores; Basketball - Youth Game
TRANSP:0
DALARM:20260129T180000;PT10M;2;Steve Sugiyama vs. Mark Walker
END:VEVENT
BEGIN:VEVENT
DTSTART:20260129T210000
DTEND:20260129T220000
SUMMARY:Jeff Richards vs. Barry Gates
DESCRIPTION:11th-12th Boys-Jr Jazz - Draper City UT Parks and Recreation
LOCATION:DPMS East (HS Basketball)
CATEGORIES:QuickScores; Basketball - Youth Game
TRANSP:0
DALARM:20260129T190000;PT10M;2;Jeff Richards vs. Barry Gates
END:VEVENT
BEGIN:VEVENT
DTSTART:20260129T210000
DTEND:20260129T220000
SUMMARY:Ron Hankins vs. Trace Griffths
DESCRIPTION:11th-12th Boys-Jr Jazz - Draper City UT Parks and Recreation
LOCATION:DPMS West (HS Basketball)
CATEGORIES:QuickScores; Basketball - Youth Game
TRANSP:0
DALARM:20260129T190000;PT10M;2;Ron Hankins vs. Trace Griffths
END:VEVENT
BEGIN:VEVENT
DTSTART:20260205T170000
DTEND:20260205T180000
SUMMARY:Jared Adamson vs. Jason Tenney
DESCRIPTION:11th-12th Boys-Jr Jazz - Draper City UT Parks and Recreation
LOCATION:DPMS East (HS Basketball)
CATEGORIES:QuickScores; Basketball - Youth Game
TRANSP:0
DALARM:20260205T150000;PT10M;2;Jared Adamson vs. Jason Tenney
END:VEVENT
BEGIN:VEVENT
DTSTART:20260205T170000
DTEND:20260205T180000
SUMMARY:Ron Hankins vs. Curtis Borg
DESCRIPTION:11th-12th Boys-Jr Jazz - Draper City UT Parks and Recreation
LOCATION:DPMS West (HS Basketball)
CATEGORIES:QuickScores; Basketball - Youth Game
TRANSP:0
DALARM:20260205T150000;PT10M;2;Ron Hankins vs. Curtis Borg
END:VEVENT
BEGIN:VEVENT
DTSTART:20260205T180000
DTEND:20260205T190000
SUMMARY:Tyler Free vs. Trace Griffths
DESCRIPTION:11th-12th Boys-Jr Jazz - Draper City UT Parks and Recreation
LOCATION:DPMS East (HS Basketball)
CATEGORIES:QuickScores; Basketball - Youth Game
TRANSP:0
DALARM:20260205T160000;PT10M;2;Tyler Free vs. Trace Griffths
END:VEVENT
BEGIN:VEVENT
DTSTART:20260205T180000
DTEND:20260205T190000
SUMMARY:Callie Mickelson vs. Jake Kessler
DESCRIPTION:11th-12th Boys-Jr Jazz - Draper City UT Parks and Recreation
LOCATION:DPMS West (HS Basketball)
CATEGORIES:QuickScores; Basketball - Youth Game
TRANSP:0
DALARM:20260205T160000;PT10M;2;Callie Mickelson vs. Jake Kessler
END:VEVENT
BEGIN:VEVENT
DTSTART:20260205T190000
DTEND:20260205T200000
SUMMARY:Barry Gates vs. Mark Walker
DESCRIPTION:11th-12th Boys-Jr Jazz - Draper City UT Parks and Recreation
LOCATION:DPMS East (HS Basketball)
CATEGORIES:QuickScores; Basketball - Youth Game
TRANSP:0
DALARM:20260205T170000;PT10M;2;Barry Gates vs. Mark Walker
END:VEVENT
BEGIN:VEVENT
DTSTART:20260205T190000
DTEND:20260205T200000
SUMMARY:Jeff Richards vs. Eric Kjar
DESCRIPTION:11th-12th Boys-Jr Jazz - Draper City UT Parks and Recreation
LOCATION:DPMS West (HS Basketball)
CATEGORIES:QuickScores; Basketball - Youth Game
TRANSP:0
DALARM:20260205T170000;PT10M;2;Jeff Richards vs. Eric Kjar
END:VEVENT
BEGIN:VEVENT
DTSTART:20260205T200000
DTEND:20260205T210000
SUMMARY:Chris Pizza vs. Brandon Myers
DESCRIPTION:11th-12th Boys-Jr Jazz - Draper City UT Parks and Recreation
LOCATION:DPMS West (HS Basketball)
CATEGORIES:QuickScores; Basketball - Youth Game
TRANSP:0
DALARM:20260205T180000;PT10M;2;Chris Pizza vs. Brandon Myers
END:VEVENT
BEGIN:VEVENT
DTSTART:20260205T200000
DTEND:20260205T210000
SUMMARY:Jackson Brown vs. Adam Ware
DESCRIPTION:11th-12th Boys-Jr Jazz - Draper City UT Parks and Recreation
LOCATION:DPMS East (HS Basketball)
CATEGORIES:QuickScores; Basketball - Youth Game
TRANSP:0
DALARM:20260205T180000;PT10M;2;Jackson Brown vs. Adam Ware
END:VEVENT
BEGIN:VEVENT
DTSTART:20260205T210000
DTEND:20260205T220000
SUMMARY:Jacob Brinton vs. Steve Sugiyama
DESCRIPTION:11th-12th Boys-Jr Jazz - Draper City UT Parks and Recreation
LOCATION:DPMS East (HS Basketball)
CATEGORIES:QuickScores; Basketball - Youth Game
TRANSP:0
DALARM:20260205T190000;PT10M;2;Jacob Brinton vs. Steve Sugiyama
END:VEVENT
BEGIN:VEVENT
DTSTART:20260205T210000
DTEND:20260205T220000
SUMMARY:Tim Pugh vs. Scott Neal
DESCRIPTION:11th-12th Boys-Jr Jazz - Draper City UT Parks and Recreation
LOCATION:DPMS West (HS Basketball)
CATEGORIES:QuickScores; Basketball - Youth Game
TRANSP:0
DALARM:20260205T190000;PT10M;2;Tim Pugh vs. Scott Neal
END:VEVENT
BEGIN:VEVENT
DTSTART:20260212T170000
DTEND:20260212T180000
SUMMARY:Chris Pizza vs. Jackson Brown
DESCRIPTION:11th-12th Boys-Jr Jazz - Draper City UT Parks and Recreation
LOCATION:DPMS West (HS Basketball)
CATEGORIES:QuickScores; Basketball - Youth Game
TRANSP:0
DALARM:20260212T150000;PT10M;2;Chris Pizza vs. Jackson Brown
END:VEVENT
BEGIN:VEVENT
DTSTART:20260212T180000
DTEND:20260212T190000
SUMMARY:Jake Kessler vs. Brandon Myers
DESCRIPTION:11th-12th Boys-Jr Jazz - Draper City UT Parks and Recreation
LOCATION:DPMS West (HS Basketball)
CATEGORIES:QuickScores; Basketball - Youth Game
TRANSP:0
DALARM:20260212T160000;PT10M;2;Jake Kessler vs. Brandon Myers
END:VEVENT
BEGIN:VEVENT
DTSTART:20260212T190000
DTEND:20260212T200000
SUMMARY:Mark Walker vs. Eric Kjar
DESCRIPTION:11th-12th Boys-Jr Jazz - Draper City UT Parks and Recreation
LOCATION:DPMS West (HS Basketball)
CATEGORIES:QuickScores; Basketball - Youth Game
TRANSP:0
DALARM:20260212T170000;PT10M;2;Mark Walker vs. Eric Kjar
END:VEVENT
BEGIN:VEVENT
DTSTART:20260212T200000
DTEND:20260212T210000
SUMMARY:Jason Tenney vs. Ron Hankins
DESCRIPTION:11th-12th Boys-Jr Jazz - Draper City UT Parks and Recreation
LOCATION:DPMS West (HS Basketball)
CATEGORIES:QuickScores; Basketball - Youth Game
TRANSP:0
DALARM:20260212T180000;PT10M;2;Jason Tenney vs. Ron Hankins
END:VEVENT
BEGIN:VEVENT
DTSTART:20260212T210000
DTEND:20260212T220000
SUMMARY:Scott Neal vs. Chad Thorell
DESCRIPTION:11th-12th Boys-Jr Jazz - Draper City UT Parks and Recreation
LOCATION:DPMS West (HS Basketball)
CATEGORIES:QuickScores; Basketball - Youth Game
TRANSP:0
DALARM:20260212T190000;PT10M;2;Scott Neal vs. Chad Thorell
END:VEVENT
END:VCALENDAR
